BEGIN:VCALENDAR
VERSION:2.0
PRODID:-//Shiloh Missionary Baptist Church - ECPv6.15.14//NONSGML v1.0//EN
CALSCALE:GREGORIAN
METHOD:PUBLISH
X-WR-CALNAME:Shiloh Missionary Baptist Church
X-ORIGINAL-URL:https://www.shilohmbc.net
X-WR-CALDESC:Events for Shiloh Missionary Baptist Church
REFRESH-INTERVAL;VALUE=DURATION:PT1H
X-Robots-Tag:noindex
X-PUBLISHED-TTL:PT1H
BEGIN:VTIMEZONE
TZID:UTC
BEGIN:STANDARD
TZOFFSETFROM:+0000
TZOFFSETTO:+0000
TZNAME:UTC
DTSTART:20220101T000000
END:STANDARD
END:VTIMEZONE
BEGIN:VEVENT
DTSTART;TZID=UTC:20231130T140000
DTEND;TZID=UTC:20231130T160000
DTSTAMP:20260426T020459
CREATED:20230714T155009Z
LAST-MODIFIED:20230714T155009Z
UID:15246-1701352800-1701360000@www.shilohmbc.net
SUMMARY:Shiloh "Drive-Up" Food Pantry
DESCRIPTION:SHILOH “DRIVE-UP” FOOD PANTRY \nThe Bro. James “Pops” McCain Food Pantry is now open every other Thursday! \nTime:  2:00 pm – 4:00 pm \nLocation:  Shiloh Missionary Baptist Church \nPlease drive up to the garage area on the north side of the church to receive your food basket. \nOur outreach staff is looking forward to serving you with open arms. \nEveryone is welcome! \nBe Blessed\, \nPastor Daniels
URL:https://www.shilohmbc.net/event/shiloh-drive-up-food-pantry-11/
LOCATION:Shiloh MBC\, 501 West Lawson Avenue\, St. Paul\, MN\, 55117\, United States
CATEGORIES:General Church Information
END:VEVENT
BEGIN:VEVENT
DTSTART;VALUE=DATE:20231126
DTEND;VALUE=DATE:20231127
DTSTAMP:20260426T020459
CREATED:20230221T191117Z
LAST-MODIFIED:20230221T191117Z
UID:14871-1700956800-1701043199@www.shilohmbc.net
SUMMARY:Birthdays of the Month Celebration
DESCRIPTION:Celebrating Shiloh Birthdays!  \nThe Birthday Club Ministry invites all Shiloh members with birthdays this month to a Birthday Celebration in the Gathering Center on the last Sunday of the month (unless otherwise indicated) after 9:30 AM Worship Service. \nPlease RSVP TODAY by signing-up in the Vestibule after service or call the Church Office @ 651-487-4092. \nFor additional information\, please see a member of Birthday Club Ministry. \nBe Blessed\, \nTrina Funches-Menifee and Michelle Seywerd
URL:https://www.shilohmbc.net/event/birthdays-of-the-month-celebration-18/
LOCATION:Shiloh MBC\, 501 West Lawson Avenue\, St. Paul\, MN\, 55117\, United States
CATEGORIES:Birthday
END:VEVENT
BEGIN:VEVENT
DTSTART;VALUE=DATE:20231123
DTEND;VALUE=DATE:20231124
DTSTAMP:20260426T020459
CREATED:20230626T213635Z
LAST-MODIFIED:20230626T213635Z
UID:15185-1700697600-1700783999@www.shilohmbc.net
SUMMARY:Thanksgiving Holiday
DESCRIPTION:THANKSGIVING HOLIDAY \nThursday\, November 23\, 2023 \nLet us give thanks to the Lord for all He has done and for how He continues to work in our lives.\nThanks be to God!
URL:https://www.shilohmbc.net/event/thanksgiving-holiday-4/
LOCATION:MN
CATEGORIES:General Church Information
END:VEVENT
BEGIN:VEVENT
DTSTART;VALUE=DATE:20231122
DTEND;VALUE=DATE:20231125
DTSTAMP:20260426T020459
CREATED:20230626T212952Z
LAST-MODIFIED:20230626T212952Z
UID:15183-1700611200-1700870399@www.shilohmbc.net
SUMMARY:Church Office Closed - Thanksgiving Holiday
DESCRIPTION:CHURCH OFFICE CLOSED – THANKSGIVING HOLIDAY \nThe Shiloh Church Office will be CLOSED\nWednesday – Friday\, November 22 – 24\, 2023 in observance of the Thanksgiving Holiday. \nGive thanks to God for His many blessings!
URL:https://www.shilohmbc.net/event/church-office-closed-thanksgiving-holiday-2/
LOCATION:MN
CATEGORIES:General Church Information
END:VEVENT
BEGIN:VEVENT
DTSTART;VALUE=DATE:20231122
DTEND;VALUE=DATE:20231123
DTSTAMP:20260426T020459
CREATED:20230626T212655Z
LAST-MODIFIED:20231116T173044Z
UID:15180-1700611200-1700697599@www.shilohmbc.net
SUMMARY:Bible Study Cancelled - Thanksgiving Holiday
DESCRIPTION:BIBLE STUDY CANCELLED \n12 Noon and 6 PM Bible Study will be CANCELLED on Wednesday\, November 22\, 2023 in observance of the Thanksgiving Holiday. \nBible Study will return on Wednesday\, November 29\, 2023. \nHappy Thanksgiving!
URL:https://www.shilohmbc.net/event/bible-study-cancelled-thanksgiving-holiday/
LOCATION:MN
CATEGORIES:General Church Information
END:VEVENT
BEGIN:VEVENT
DTSTART;TZID=UTC:20231118T110000
DTEND;TZID=UTC:20231118T130000
DTSTAMP:20260426T020459
CREATED:20231026T163424Z
LAST-MODIFIED:20231026T163424Z
UID:15415-1700305200-1700312400@www.shilohmbc.net
SUMMARY:WOW Fellowship Brunch
DESCRIPTION:WOMEN OF THE WORD FELLOWSHIP BRUNCH \nSaturday\, November 18\, 2023 \n11:00 AM – 1:00 PM \nGathering Center  \nAll Women of Shiloh are invited to attend and please feel free to bring a guest. \nQuestions? Please see the WOW Ministry Staff.
URL:https://www.shilohmbc.net/event/wow-fellowship-brunch/
LOCATION:Shiloh MBC\, 501 West Lawson Avenue\, St. Paul\, MN\, 55117\, United States
CATEGORIES:WOW
END:VEVENT
BEGIN:VEVENT
DTSTART;TZID=UTC:20231116T140000
DTEND;TZID=UTC:20231116T160000
DTSTAMP:20260426T020459
CREATED:20230714T154856Z
LAST-MODIFIED:20230714T154856Z
UID:15244-1700143200-1700150400@www.shilohmbc.net
SUMMARY:Shiloh "Drive-Up" Food Pantry
DESCRIPTION:SHILOH “DRIVE-UP” FOOD PANTRY \nThe Bro. James “Pops” McCain Food Pantry is now open every other Thursday! \nTime:  2:00 pm – 4:00 pm \nLocation:  Shiloh Missionary Baptist Church \nPlease drive up to the garage area on the north side of the church to receive your food basket. \nOur outreach staff is looking forward to serving you with open arms. \nEveryone is welcome! \nBe Blessed\, \nPastor Daniels
URL:https://www.shilohmbc.net/event/shiloh-drive-up-food-pantry-10/
LOCATION:Shiloh MBC\, 501 West Lawson Avenue\, St. Paul\, MN\, 55117\, United States
CATEGORIES:General Church Information
END:VEVENT
BEGIN:VEVENT
DTSTART;TZID=UTC:20231115T130000
DTEND;TZID=UTC:20231115T160000
DTSTAMP:20260426T020459
CREATED:20231026T162401Z
LAST-MODIFIED:20231026T162401Z
UID:15413-1700053200-1700064000@www.shilohmbc.net
SUMMARY:Thanksgiving Basket "Drive Thru" Give-Away
DESCRIPTION:THANKSGIVING BASKET “DRIVE THRU” GIVE-AWAY \nThe Mission Ministry is committed to helping families in need for the Thanksgiving holiday. \nIf you or someone you know\, would like to receive a Thanksgiving food box\, please provide your name and the number of members in your household\, to the church office during normal business hours starting Monday\, October 30 – Wednesday\, November 8. \nThere is a limited amount so please sign-up early.  Once the limit has been reached\, the sign-up list will be closed. \nThanksgiving box pick-up will ONLY be on Wednesday\, November 15\, from 1:00 – 3:30 PM.
URL:https://www.shilohmbc.net/event/thanksgiving-basket-drive-thru-give-away-2/
LOCATION:Shiloh MBC\, 501 West Lawson Avenue\, St. Paul\, MN\, 55117\, United States
CATEGORIES:Mission
END:VEVENT
BEGIN:VEVENT
DTSTART;VALUE=DATE:20231111
DTEND;VALUE=DATE:20231113
DTSTAMP:20260426T020459
CREATED:20230626T214127Z
LAST-MODIFIED:20231105T214712Z
UID:15187-1699660800-1699833599@www.shilohmbc.net
SUMMARY:Men Standing for Christ Conference
DESCRIPTION:MEN STANDING FOR CHRIST CONFERENCE \n“Rooted in the Foundation” \n(Job 14:7-9) \nConference:  Saturday\, November 11\, 2023 \n10 AM – 12 PM | Gathering Center \nSpeaker:  Deacon Richard Coleman \n(Men’s Choir Rehearsal following Conference) \n \nAnnual Day:  Sunday\, November 12\, 2023 \n9:30 AM Worship Service \nGuest Speaker:  Rev. Durward L. Minor\, Sr.\, New Beginning Baptist Church\, Starkville\, MS \nAttire:  Black Suit\, White Shirt \nAccent Color:  Green Tie & Pocket Square \nAssessment:  $100 \nAll Men of Shiloh are encouraged to be a part of the MSFC Ministry!
URL:https://www.shilohmbc.net/event/men-standing-for-christ-24th-annual-conference/
LOCATION:Shiloh MBC\, 501 West Lawson Avenue\, St. Paul\, MN\, 55117\, United States
CATEGORIES:MSFC
END:VEVENT
BEGIN:VEVENT
DTSTART;VALUE=DATE:20231111
DTEND;VALUE=DATE:20231112
DTSTAMP:20260426T020459
CREATED:20230626T211951Z
LAST-MODIFIED:20230626T211951Z
UID:15177-1699660800-1699747199@www.shilohmbc.net
SUMMARY:Veterans Day
DESCRIPTION:VETERANS DAY OBSERVANCE \nSaturday\, November 11\, 2023 \nFor all those who have served and who are currently serving in the United States armed forces\, Thank You for your Service!
URL:https://www.shilohmbc.net/event/veterans-day-2/
LOCATION:MN
CATEGORIES:General Church Information
END:VEVENT
BEGIN:VEVENT
DTSTART;TZID=UTC:20231110T190000
DTEND;TZID=UTC:20231110T210000
DTSTAMP:20260426T020459
CREATED:20231105T010536Z
LAST-MODIFIED:20231105T010536Z
UID:15435-1699642800-1699650000@www.shilohmbc.net
SUMMARY:Men Standing for Christ Bowling Event
DESCRIPTION:MEN STANDING FOR CHRIST BOWLING EVENT \nFriday\, November 10\, 2023 \n7 PM – 9 PM \nPINZ – The Ultimate Entertainment Center \n7520 32nd Street N.\, Oakdale\, MN 55128 \nPlease sign up with Deacon Michael Brooks in the vestibule following Worship Service. \nAll Men of Shiloh are welcome and encouraged to attend! \nMSFC Staff
URL:https://www.shilohmbc.net/event/men-standing-for-christ-bowling-event/
LOCATION:Pinz Bowling\, 7520 32nd Street North\, Oakdale\, MN\, 55128\, United States
CATEGORIES:MSFC
END:VEVENT
BEGIN:VEVENT
DTSTART;VALUE=DATE:20231107
DTEND;VALUE=DATE:20231108
DTSTAMP:20260426T020459
CREATED:20230626T211511Z
LAST-MODIFIED:20231030T170250Z
UID:15175-1699315200-1699401599@www.shilohmbc.net
SUMMARY:Election Day - Go Vote!
DESCRIPTION:VOTE on ELECTION DAY: \nTuesday\, November 7\, 2023 \nQuestions?\nVisit the Minnesota Secretary of State website at www.sos.state.mn.us for all polling\, balloting and election information. \nPlease go out and exercise your right to vote!
URL:https://www.shilohmbc.net/event/election-day-go-vote-4/
LOCATION:MN
CATEGORIES:General Church Information
END:VEVENT
BEGIN:VEVENT
DTSTART;VALUE=DATE:20231105
DTEND;VALUE=DATE:20231106
DTSTAMP:20260426T020459
CREATED:20230626T205355Z
LAST-MODIFIED:20230626T205355Z
UID:15173-1699142400-1699228799@www.shilohmbc.net
SUMMARY:Daylight Saving Time Ends
DESCRIPTION:DAYLIGHT SAVING TIME ENDS \nSunday\, November 5\, 2023\n2:00 AM \nPlease remember to FALL BACK and set your clocks BACK ONE HOUR!
URL:https://www.shilohmbc.net/event/daylight-saving-time-ends-6/
LOCATION:MN
CATEGORIES:General Church Information
END:VEVENT
BEGIN:VEVENT
DTSTART;VALUE=DATE:20231104
DTEND;VALUE=DATE:20231105
DTSTAMP:20260426T020459
CREATED:20230221T193834Z
LAST-MODIFIED:20230221T193834Z
UID:14887-1699056000-1699142399@www.shilohmbc.net
SUMMARY:Baptism/New Member Right Hand of Fellowship
DESCRIPTION:BAPTISM/NEW MEMBER RIGHT HAND OF FELLOWSHIP\nBaptism will be held on the First Saturday of the Month (unless otherwise indicated). \n10:00 AM – Gathering Center \nCANDIDATES: PLEASE ARRIVE BY 9:00 AM \nNEW MEMBER RIGHT HAND OF FELLOWSHIP CEREMONY \nThe Right Hand of Fellowship for all new members completing their New Member Orientation classes will follow Baptism. \nPlease come out to be welcomed into the Shiloh Church Family!
URL:https://www.shilohmbc.net/event/baptism-new-member-right-hand-of-fellowship-26/
LOCATION:Shiloh MBC\, 501 West Lawson Avenue\, St. Paul\, MN\, 55117\, United States
CATEGORIES:Baptism,New Members Orientation
END:VEVENT
BEGIN:VEVENT
DTSTART;TZID=UTC:20231102T140000
DTEND;TZID=UTC:20231102T160000
DTSTAMP:20260426T020459
CREATED:20230714T154626Z
LAST-MODIFIED:20230714T154729Z
UID:15242-1698933600-1698940800@www.shilohmbc.net
SUMMARY:Shiloh "Drive-Up" Food Pantry
DESCRIPTION:SHILOH “DRIVE-UP” FOOD PANTRY \nThe Bro. James “Pops” McCain Food Pantry is now open every other Thursday! \nTime:  2:00 pm – 4:00 pm \nLocation:  Shiloh Missionary Baptist Church \nPlease drive up to the garage area on the north side of the church to receive your food basket. \nOur outreach staff is looking forward to serving you with open arms. \nEveryone is welcome! \nBe Blessed\, \nPastor Daniels
URL:https://www.shilohmbc.net/event/shiloh-drive-up-food-pantry-9/
LOCATION:Shiloh MBC\, 501 West Lawson Avenue\, St. Paul\, MN\, 55117\, United States
CATEGORIES:General Church Information
END:VEVENT
BEGIN:VEVENT
DTSTART;TZID=UTC:20231031T173000
DTEND;TZID=UTC:20231031T200000
DTSTAMP:20260426T020459
CREATED:20231026T161219Z
LAST-MODIFIED:20231026T161219Z
UID:15411-1698773400-1698782400@www.shilohmbc.net
SUMMARY:Hallelujah Glow Night
DESCRIPTION:YOUTH MINISTRY NEWS \nThe Shiloh Youth Ministry is having a HALLELUJAH GLOW NIGHT on \nTuesday\, October 31\, 2023 from 5:30 PM – 8:00 PM in the Gathering Center. \nParents\, please bring your youth out for a safe evening of fun\, food and fellowship! \nThe Youth Ministry is also asking Shiloh members to please donate candy/snacks\, and drop them off in the vestibule after worship service.
URL:https://www.shilohmbc.net/event/hallelujah-glow-night/
LOCATION:Shiloh MBC\, 501 West Lawson Avenue\, St. Paul\, MN\, 55117\, United States
CATEGORIES:Youth
END:VEVENT
BEGIN:VEVENT
DTSTART;VALUE=DATE:20231029
DTEND;VALUE=DATE:20231030
DTSTAMP:20260426T020459
CREATED:20230626T193642Z
LAST-MODIFIED:20230923T184145Z
UID:15161-1698537600-1698623999@www.shilohmbc.net
SUMMARY:YAM Spirit Month Sundays
DESCRIPTION:YAM SPIRIT MONTH \nEvery Sunday in October \nSunday\, October 1 – Sports Sunday (represent your favorite Sports team) \nSunday\, October 8 – Throwback YAM Gear (wear your vintage YAM tee/sweater) \nSunday\, October 15 – Represent Your Clique (College\, Greek Affiliation\, family\, etc.) \nSunday\, October 22 – Go Pink! Sunday (wear pink in honor of Breast Cancer Awareness Month) \nSunday\, October 29 – Look & Live! (YAM Explosion ’23 culmination Sunday) \nTees and sweaters go on sale Sunday\, September 24 and Sunday\, October 1 ONLY!\nPlease be prepared to spend those coins!\n\nThe Young Adult Ministry invites the entire congregation to participate!\n\nThank you\,\nShiloh Young Adult Ministry
URL:https://www.shilohmbc.net/event/yam-spirit/
LOCATION:Shiloh MBC\, 501 West Lawson Avenue\, St. Paul\, MN\, 55117\, United States
CATEGORIES:YAM
END:VEVENT
BEGIN:VEVENT
DTSTART;VALUE=DATE:20231028
DTEND;VALUE=DATE:20231029
DTSTAMP:20260426T020459
CREATED:20231011T150419Z
LAST-MODIFIED:20231011T150419Z
UID:15384-1698451200-1698537599@www.shilohmbc.net
SUMMARY:YAM Choir Rehearsals
DESCRIPTION:YAM CHOIR REHEARSALS \nSaturday\, October 21 @ 12:00 Noon \nSaturday\, October 28 immediately following YAM Conference. \nWe invite ALL Shiloh Young Adults to be a part of the YAM Choir and Explosion Weekend
URL:https://www.shilohmbc.net/event/yam-choir-rehearsals-2/
LOCATION:Shiloh MBC\, 501 West Lawson Avenue\, St. Paul\, MN\, 55117\, United States
CATEGORIES:YAM
END:VEVENT
BEGIN:VEVENT
DTSTART;VALUE=DATE:20231028
DTEND;VALUE=DATE:20231030
DTSTAMP:20260426T020459
CREATED:20230626T201138Z
LAST-MODIFIED:20231017T151215Z
UID:15169-1698451200-1698623999@www.shilohmbc.net
SUMMARY:Young Adult Explosion 2023!
DESCRIPTION:YOUNG ADULT EXPLOSION 2023! \n“LOOK & LIVE!” \nYAM Conference – Saturday\, October 28 @ 10 AM\, Shiloh Gathering Center \nYAM Explosion Culmination – Sunday\, October 29 @ 9:30am Worship Service \nSpeaker:  Rev. Steven Daniels\, Assistant Pastor\, SMBC \nYAM CHOIR REHEARSALS \nSaturday\, October 21 @ 12:00 Noon \nSaturday\, October 28 immediately following YAM Conference. \nWe invite ALL Shiloh Young Adults to be a part of the YAM Choir and Explosion Weekend! \n“Look & Live! T-Shirt Pick-Up \nThe Young Adult Ministry will be handing out T-Shirts & Sweatshirts to all those members who purchased shirts\, next Sunday\, October 22 after worship service in the Gathering Center.
URL:https://www.shilohmbc.net/event/young-adult-ministry-yam-explosion-2023/
LOCATION:Shiloh MBC\, 501 West Lawson Avenue\, St. Paul\, MN\, 55117\, United States
CATEGORIES:YAM
END:VEVENT
BEGIN:VEVENT
DTSTART;VALUE=DATE:20231028
DTEND;VALUE=DATE:20231029
DTSTAMP:20260426T020459
CREATED:20230626T195401Z
LAST-MODIFIED:20231017T150919Z
UID:15165-1698451200-1698537599@www.shilohmbc.net
SUMMARY:Making Strides Against Breast Cancer Walk
DESCRIPTION:Join the Women of the Word Ministry for: \nMaking Strides Against Breast Cancer Walk\nMall of America\nSaturday\, October 28\, 2023\n7am – 9:30am \nHello Ladies!  It’s that time of the year for the Breast Cancer Walk on October 28th at the Mall of America which starts at 7:15 AM. \nPlease meet in the Rotunda on the East side of the Mall @ 7:00 AM for the Team photo and wear one of your Shiloh Team Divas T-Shirts. \nDon’t forget to register for the Walk before Saturday! \nThank you\,\nSis. Lavonda Pittman-Grigsby\nDivas Team Leader
URL:https://www.shilohmbc.net/event/making-strides-against-breast-cancer-walk-3/
LOCATION:Mall of America\, Bloomington\, MN\, 55420\, United States
CATEGORIES:Health and Wellness
END:VEVENT
BEGIN:VEVENT
DTSTART;TZID=UTC:20231025T190000
DTEND;TZID=UTC:20231025T210000
DTSTAMP:20260426T020459
CREATED:20231004T203134Z
LAST-MODIFIED:20231005T184250Z
UID:15375-1698260400-1698267600@www.shilohmbc.net
SUMMARY:Pastor Daniels' Preaching Engagement
DESCRIPTION:PASTOR DANIELS’ PREACHING ENGAGEMENT \nPastor Daniels will be preaching at Greater Mt. Vernon Missionary Baptist Church on \nWednesday\, October 25\, at 7:00 PM for their 60th Church Anniversary Celebration. \nGreater Mt. Vernon is located at 1800 DuPont Avenue North\, Minneapolis\, MN 55411 \nPlease come out and support our Pastor and join in the anniversary celebration!
URL:https://www.shilohmbc.net/event/pastor-daniels-preaching-engagement/
LOCATION:Greater Mt. Vernon Missionary Baptist Church\, 1800 DuPont Avenue N.\, Minneapolis\, MN\, 55411\, United States
CATEGORIES:General Church Information
END:VEVENT
BEGIN:VEVENT
DTSTART;VALUE=DATE:20231025
DTEND;VALUE=DATE:20231026
DTSTAMP:20260426T020459
CREATED:20231024T161156Z
LAST-MODIFIED:20231024T161156Z
UID:15406-1698192000-1698278399@www.shilohmbc.net
SUMMARY:Bible Study CANCELLED TODAY
DESCRIPTION:BIBLE STUDY CANCELLED \nBoth 12 Noon and 6 PM Bible Study is CANCELLED TODAY. \nGod Bless\, \nPastor Daniels
URL:https://www.shilohmbc.net/event/bible-study-cancelled-today-2/
LOCATION:Shiloh MBC\, 501 West Lawson Avenue\, St. Paul\, MN\, 55117\, United States
CATEGORIES:Bible Study
END:VEVENT
BEGIN:VEVENT
DTSTART;VALUE=DATE:20231022
DTEND;VALUE=DATE:20231023
DTSTAMP:20260426T020459
CREATED:20231011T151924Z
LAST-MODIFIED:20231011T151924Z
UID:15388-1697932800-1698019199@www.shilohmbc.net
SUMMARY:YAM "Look & Live!" Shirt Pick-Up
DESCRIPTION:YAM “LOOK & LIVE!” SHIRT PICK-UP \nThe Young Adult Ministry will be handing out T-Shirts & Sweatshirts to all those who purchased shirts on:  Sunday\, October 22  after worship service in the Gathering Center.
URL:https://www.shilohmbc.net/event/yam-look-live-shirt-pick-up/
LOCATION:Shiloh MBC\, 501 West Lawson Avenue\, St. Paul\, MN\, 55117\, United States
CATEGORIES:YAM
END:VEVENT
BEGIN:VEVENT
DTSTART;VALUE=DATE:20231022
DTEND;VALUE=DATE:20231023
DTSTAMP:20260426T020459
CREATED:20230626T194455Z
LAST-MODIFIED:20230830T151458Z
UID:15163-1697932800-1698019199@www.shilohmbc.net
SUMMARY:Go Pink! Sunday
DESCRIPTION:SHILOH’S GO PINK! SUNDAY \nSunday\, October 22\, 2023\n9:30 AM Worship Service\n \nOctober is Breast Cancer Awareness Month! \nWe invite the entire congregation to Go Pink! in your own fashion in support of all those living with and/or those affected in some way by Cancer.
URL:https://www.shilohmbc.net/event/go-pink-sunday-3/
LOCATION:Shiloh MBC\, 501 West Lawson Avenue\, St. Paul\, MN\, 55117\, United States
CATEGORIES:Health and Wellness
END:VEVENT
BEGIN:VEVENT
DTSTART;VALUE=DATE:20231022
DTEND;VALUE=DATE:20231023
DTSTAMP:20260426T020459
CREATED:20230626T193604Z
LAST-MODIFIED:20230923T184115Z
UID:15159-1697932800-1698019199@www.shilohmbc.net
SUMMARY:YAM Spirit Month Sunday
DESCRIPTION:YAM SPIRIT MONTH \nEvery Sunday in October \nSunday\, October 1 – Sports Sunday (represent your favorite Sports team) \nSunday\, October 8 – Throwback YAM Gear (wear your vintage YAM tee/sweater) \nSunday\, October 15 – Represent Your Clique (College\, Greek Affiliation\, family\, etc.) \nSunday\, October 22 – Go Pink! Sunday (wear pink in honor of Breast Cancer Awareness Month) \nSunday\, October 29 – Look & Live! (YAM Explosion ’23 culmination Sunday) \nTees and sweaters go on sale Sunday\, September 24 and Sunday\, October 1 ONLY!\nPlease be prepared to spend those coins!\n\nThe Young Adult Ministry invites the entire congregation to participate!\n\nThank you\,\nShiloh Young Adult Ministry
URL:https://www.shilohmbc.net/event/yam-spirit-month-4/
LOCATION:Shiloh MBC\, 501 West Lawson Avenue\, St. Paul\, MN\, 55117\, United States
CATEGORIES:YAM
END:VEVENT
BEGIN:VEVENT
DTSTART;VALUE=DATE:20231022
DTEND;VALUE=DATE:20231023
DTSTAMP:20260426T020459
CREATED:20230221T191013Z
LAST-MODIFIED:20231021T150623Z
UID:14869-1697932800-1698019199@www.shilohmbc.net
SUMMARY:Birthdays of the Month Celebration
DESCRIPTION:Celebrating Shiloh Birthdays!  \nThe Birthday Club Ministry invites all Shiloh members with birthdays this month to a Birthday Celebration in the Gathering Center on the last Sunday of the month (unless otherwise indicated) after 9:30 AM Worship Service.    (NOTE: OCTOBER CELBRATION CHANGED TO SUNDAY\, OCTOBER 22\, 2023). \nPlease RSVP TODAY by signing-up in the Vestibule after service or call the Church Office @ 651-487-4092. \nFor additional information\, please see a member of Birthday Club Ministry. \nBe Blessed\, \nTrina Funches-Menifee and Michelle Seywerd
URL:https://www.shilohmbc.net/event/birthdays-of-the-month-celebration-17/
LOCATION:Shiloh MBC\, 501 West Lawson Avenue\, St. Paul\, MN\, 55117\, United States
CATEGORIES:Birthday
END:VEVENT
BEGIN:VEVENT
DTSTART;TZID=UTC:20231021T120000
DTEND;TZID=UTC:20231021T140000
DTSTAMP:20260426T020459
CREATED:20231011T150546Z
LAST-MODIFIED:20231011T150546Z
UID:15386-1697889600-1697896800@www.shilohmbc.net
SUMMARY:YAM Choir Rehearsals
DESCRIPTION:YAM CHOIR REHEARSALS \nSaturday\, October 21 @ 12:00 Noon \nSaturday\, October 28 immediately following YAM Conference. \nWe invite ALL Shiloh Young Adults to be a part of the YAM Choir and Explosion Weekend
URL:https://www.shilohmbc.net/event/yam-choir-rehearsals-3/
LOCATION:Shiloh MBC\, 501 West Lawson Avenue\, St. Paul\, MN\, 55117\, United States
CATEGORIES:YAM
END:VEVENT
BEGIN:VEVENT
DTSTART;TZID=UTC:20231019T140000
DTEND;TZID=UTC:20231019T160000
DTSTAMP:20260426T020459
CREATED:20230714T154152Z
LAST-MODIFIED:20230714T154434Z
UID:15240-1697724000-1697731200@www.shilohmbc.net
SUMMARY:Shiloh "Drive-Up" Food Pantry
DESCRIPTION:SHILOH “DRIVE-UP” FOOD PANTRY \nThe Bro. James “Pops” McCain Food Pantry is now open every other Thursday! \nTime:  2:00 pm – 4:00 pm \nLocation:  Shiloh Missionary Baptist Church \nPlease drive up to the garage area on the north side of the church to receive your food basket. \nOur outreach staff is looking forward to serving you with open arms. \nEveryone is welcome! \nBe Blessed\, \nPastor Daniels
URL:https://www.shilohmbc.net/event/shiloh-drive-up-food-pantry-8/
LOCATION:Shiloh MBC\, 501 West Lawson Avenue\, St. Paul\, MN\, 55117\, United States
CATEGORIES:General Church Information
END:VEVENT
BEGIN:VEVENT
DTSTART;VALUE=DATE:20231015
DTEND;VALUE=DATE:20231016
DTSTAMP:20260426T020459
CREATED:20230626T193511Z
LAST-MODIFIED:20230923T184050Z
UID:15157-1697328000-1697414399@www.shilohmbc.net
SUMMARY:YAM Spirit Month Sundays
DESCRIPTION:YAM SPIRIT MONTH \nEvery Sunday in October \nSunday\, October 1 – Sports Sunday (represent your favorite Sports team) \nSunday\, October 8 – Throwback YAM Gear (wear your vintage YAM tee/sweater) \nSunday\, October 15 – Represent Your Clique (College\, Greek Affiliation\, family\, etc.) \nSunday\, October 22 – Go Pink! Sunday (wear pink in honor of Breast Cancer Awareness Month) \nSunday\, October 29 – Look & Live! (YAM Explosion ’23 culmination Sunday) \nTees and sweaters go on sale Sunday\, September 24 and Sunday\, October 1 ONLY!\nPlease be prepared to spend those coins!\n\nThe Young Adult Ministry invites the entire congregation to participate!\n\nThank you\,\nShiloh Young Adult Ministry
URL:https://www.shilohmbc.net/event/yam-spirit-month-3/
LOCATION:Shiloh MBC\, 501 West Lawson Avenue\, St. Paul\, MN\, 55117\, United States
CATEGORIES:YAM
END:VEVENT
BEGIN:VEVENT
DTSTART;TZID=UTC:20231014T110000
DTEND;TZID=UTC:20231014T120000
DTSTAMP:20260426T020459
CREATED:20230927T232809Z
LAST-MODIFIED:20230927T232818Z
UID:15368-1697281200-1697284800@www.shilohmbc.net
SUMMARY:Veteran's Support Group
DESCRIPTION:VETERAN’S SUPPORT GROUP \nThe Shiloh Veteran’s Support Group meeting will be held \nSaturday\, October 14\, 2023 \n11:00 AM – 12:00 PM \nShiloh Gathering Center. \nAll Shiloh Veterans are welcome and encouraged to attend.
URL:https://www.shilohmbc.net/event/veterans-support-group/
LOCATION:Shiloh MBC\, 501 West Lawson Avenue\, St. Paul\, MN\, 55117\, United States
CATEGORIES:Veteran's Support Group
END:VEVENT
END:VCALENDAR