BEGIN:VCALENDAR
VERSION:2.0
PRODID:-//Shiloh Missionary Baptist Church - ECPv6.15.14//NONSGML v1.0//EN
CALSCALE:GREGORIAN
METHOD:PUBLISH
X-ORIGINAL-URL:https://www.shilohmbc.net
X-WR-CALDESC:Events for Shiloh Missionary Baptist Church
REFRESH-INTERVAL;VALUE=DURATION:PT1H
X-Robots-Tag:noindex
X-PUBLISHED-TTL:PT1H
BEGIN:VTIMEZONE
TZID:UTC
BEGIN:STANDARD
TZOFFSETFROM:+0000
TZOFFSETTO:+0000
TZNAME:UTC
DTSTART:20230101T000000
END:STANDARD
END:VTIMEZONE
BEGIN:VEVENT
DTSTART;VALUE=DATE:20240929
DTEND;VALUE=DATE:20240930
DTSTAMP:20260425T122118
CREATED:20240528T135218Z
LAST-MODIFIED:20240528T135218Z
UID:15967-1727568000-1727654399@www.shilohmbc.net
SUMMARY:Birthdays of the Month Celebration
DESCRIPTION:Celebrating Shiloh Birthdays!  \nThe Birthday Club Ministry invites all Shiloh members with birthdays this month to a Birthday Celebration in the Gathering Center on the last Sunday of the month (unless otherwise indicated) after 9:30 AM Worship Service. \nPlease RSVP TODAY by signing-up in the Vestibule after service or call the Church Office @ 651-487-4092. \nFor additional information\, please see a member of Birthday Club Ministry. \nBe Blessed\, \nThe Birthday Club Ministry
URL:https://www.shilohmbc.net/event/birthdays-of-the-month-celebration-27/
LOCATION:Shiloh MBC\, 501 West Lawson Avenue\, St. Paul\, MN\, 55117\, United States
CATEGORIES:Birthday
END:VEVENT
BEGIN:VEVENT
DTSTART;VALUE=DATE:20241005
DTEND;VALUE=DATE:20241006
DTSTAMP:20260425T122118
CREATED:20240819T135948Z
LAST-MODIFIED:20240819T135948Z
UID:16062-1728086400-1728172799@www.shilohmbc.net
SUMMARY:Baptism/New Member Right Hand of Fellowship
DESCRIPTION:BAPTISM/NEW MEMBER RIGHT HAND OF FELLOWSHIP\nBaptism will be held on the First Saturday of the Month (unless otherwise indicated). \n10:00 AM – Gathering Center \nCANDIDATES: PLEASE ARRIVE BY 9:00 AM \nNEW MEMBER RIGHT HAND OF FELLOWSHIP CEREMONY \nThe Right Hand of Fellowship for all new members completing their New Member Orientation classes will follow Baptism. \nPlease come out to be welcomed into the Shiloh Church Family!
URL:https://www.shilohmbc.net/event/baptism-new-member-right-hand-of-fellowship-37/
LOCATION:Shiloh MBC\, 501 West Lawson Avenue\, St. Paul\, MN\, 55117\, United States
CATEGORIES:Baptism,New Members Orientation
END:VEVENT
BEGIN:VEVENT
DTSTART;VALUE=DATE:20241006
DTEND;VALUE=DATE:20241007
DTSTAMP:20260425T122118
CREATED:20240930T201356Z
LAST-MODIFIED:20240930T202552Z
UID:16121-1728172800-1728259199@www.shilohmbc.net
SUMMARY:YAM Spirit Month
DESCRIPTION:Young Adult Ministry (YAM) SPIRIT MONTH \nEvery Sunday in October \nSunday\, October 6 – Sports Sunday (were your gear to represent your favorite Sports team) \nSunday\, October 13 – Represent Your Clique (College\, Greek Affiliation\, family\, church\, etc.) \nSunday\, October 20 – Go Pink! Sunday (wear pink in honor of Breast Cancer Awareness Month) \nSunday\, October 27 – “Wake Up!” (YAM Explosion ’24 culmination Sunday\, were your “Wake Up!” shirt) \nWe invite the entire congregation to participate in YAM Spirit Month!
URL:https://www.shilohmbc.net/event/yam-spirit-month-5/
LOCATION:Shiloh MBC\, 501 West Lawson Avenue\, St. Paul\, MN\, 55117\, United States
CATEGORIES:YAM
END:VEVENT
BEGIN:VEVENT
DTSTART;TZID=UTC:20241012T070000
DTEND;TZID=UTC:20241012T220000
DTSTAMP:20260425T122118
CREATED:20240820T182418Z
LAST-MODIFIED:20240820T182418Z
UID:16078-1728716400-1728770400@www.shilohmbc.net
SUMMARY:Making Strides Against Breast Cancer Walk
DESCRIPTION:Join the Women of the Word Ministry for: \nMaking Strides Against Breast Cancer Walk\nMall of America\nSaturday\, October 12\, 2024\n7am – 9:30am \nHello Ladies!  It’s that time of the year for the Breast Cancer Walk on Saturday\, October 12th at the Mall of America which starts at 7:15 AM. \nPlease meet in the Rotunda on the East side of the Mall @ 7:00 AM for the Team photo and wear one of your Shiloh Team Divas T-Shirts. \nDon’t forget to register for the Walk before Saturday! \nThank you\,\nSis. Lavonda Pittman-Grigsby\nDivas Team Leader
URL:https://www.shilohmbc.net/event/making-strides-against-breast-cancer-walk-4/
LOCATION:Mall of America\, Bloomington\, MN\, 55420\, United States
CATEGORIES:WOW
END:VEVENT
BEGIN:VEVENT
DTSTART;VALUE=DATE:20241013
DTEND;VALUE=DATE:20241014
DTSTAMP:20260425T122118
CREATED:20240930T201432Z
LAST-MODIFIED:20240930T201432Z
UID:16123-1728777600-1728863999@www.shilohmbc.net
SUMMARY:YAM Spirit Month
DESCRIPTION:Young Adult Ministry (YAM) SPIRIT MONTH \nEvery Sunday in October \nSunday\, October 6 – Sports Sunday (were your gear to represent your favorite Sports team) \nSunday\, October 13 – Represent Your Clique (College\, Greek Affiliation\, family\, church\, etc.) \nSunday\, October 20 – Go Pink! Sunday (wear pink in honor of Breast Cancer Awareness Month) \nSunday\, October 27 – “Wake Up!” (YAM Explosion ’24 culmination Sunday\, were your “Wake Up!” shirt) \nWe invite the entire congregation to participate in YAM Spirit Month!
URL:https://www.shilohmbc.net/event/yam-spirit-month-6/
LOCATION:Shiloh MBC\, 501 West Lawson Avenue\, St. Paul\, MN\, 55117\, United States
CATEGORIES:YAM
END:VEVENT
BEGIN:VEVENT
DTSTART;TZID=UTC:20241013T130000
DTEND;TZID=UTC:20241013T150000
DTSTAMP:20260425T122118
CREATED:20241003T164429Z
LAST-MODIFIED:20241003T211419Z
UID:16134-1728824400-1728831600@www.shilohmbc.net
SUMMARY:Pastor Daniels' Preaching Engagement
DESCRIPTION:PASTOR DANIELS’ PREACHING ENGAGEMENT \nPastor Daniels will be preaching at \nBurning Bush Missionary Baptist Church \n1800 Glenwood Ave.\, N. Minneapolis\, MN \nSunday\, October 13\, 2024 @ 1:00 PM \nPlease come out and support Pastor Daniels and let’s fellowship together!
URL:https://www.shilohmbc.net/event/pastor-daniels-preaching-engagement-2/
LOCATION:Burning Bush Missionary Baptist Church\, 1800 Glenwood Ave.\, N.\, Minneapolis\, MN\, 55405\, United States
CATEGORIES:General Church Information
END:VEVENT
BEGIN:VEVENT
DTSTART;TZID=UTC:20241017T080000
DTEND;TZID=UTC:20241017T170000
DTSTAMP:20260425T122118
CREATED:20241017T204626Z
LAST-MODIFIED:20241017T204741Z
UID:16183-1729152000-1729184400@www.shilohmbc.net
SUMMARY:Bible Study CANCELLED - Thanksgiving Holiday
DESCRIPTION:BIBLE STUDY CANCELLED \n12 Noon and 6 PM Bible Study will be CANCELLED on Wednesday\, November 27\, 2024 in observance of the Thanksgiving Holiday. \nBible Study will return on Wednesday\, December 4\, 2024. \nHappy Thanksgiving!
URL:https://www.shilohmbc.net/event/bible-study-cancelled-thanksgiving-holiday-2/
LOCATION:MN
END:VEVENT
BEGIN:VEVENT
DTSTART;TZID=UTC:20241019T110000
DTEND;TZID=UTC:20241019T130000
DTSTAMP:20260425T122118
CREATED:20240820T181521Z
LAST-MODIFIED:20240820T181641Z
UID:16074-1729335600-1729342800@www.shilohmbc.net
SUMMARY:Women of the Word Fellowship Brunch
DESCRIPTION:WOMEN OF THE WORD FELLOWSHIP BRUNCH \nThe next WOW Brunch will be held Saturday\, October 19\, 2024. \n11:00 AM – 1:00 PM \nShiloh Gathering Center \nAll Women of Shiloh are WELCOME to attend. \nQuestions?  Please see the WOW Ministry Staff.
URL:https://www.shilohmbc.net/event/women-of-the-word-fellowship-brunch-4/
LOCATION:Shiloh MBC\, 501 West Lawson Avenue\, St. Paul\, MN\, 55117\, United States
CATEGORIES:WOW
END:VEVENT
BEGIN:VEVENT
DTSTART;TZID=UTC:20241019T110000
DTEND;TZID=UTC:20241019T130000
DTSTAMP:20260425T122118
CREATED:20241007T234157Z
LAST-MODIFIED:20241007T234157Z
UID:16156-1729335600-1729342800@www.shilohmbc.net
SUMMARY:YAM Choir Rehearsals
DESCRIPTION:YOUNG ADULT MINISTRY (YAM) EXPLOSION 2024! \nYAM Choir Rehearsals \nSaturday\, October 19\, 2024 @ 11 AM \nSaturday\, October 26\, 2024 immediately following YAM Mixer \nWe invite ALL Shiloh Young Adults to be a part of YAM Explosion 2024 Weekend!
URL:https://www.shilohmbc.net/event/yam-choir-rehearsals-4/
LOCATION:Shiloh MBC\, 501 West Lawson Avenue\, St. Paul\, MN\, 55117\, United States
CATEGORIES:YAM
END:VEVENT
BEGIN:VEVENT
DTSTART;VALUE=DATE:20241020
DTEND;VALUE=DATE:20241021
DTSTAMP:20260425T122118
CREATED:20240820T182004Z
LAST-MODIFIED:20240820T182004Z
UID:16076-1729382400-1729468799@www.shilohmbc.net
SUMMARY:Shiloh's Go Pink! Sunday
DESCRIPTION:SHILOH’S GO PINK! SUNDAY \nSunday\, October 20\, 2024\n9:30 AM Worship Service\n \nOctober is Breast Cancer Awareness Month! \nWe invite the entire congregation to Go Pink! in your own fashion in support of all those living with and/or those affected in some way by Cancer.
URL:https://www.shilohmbc.net/event/shilohs-go-pink-sunday-2/
LOCATION:Shiloh MBC\, 501 West Lawson Avenue\, St. Paul\, MN\, 55117\, United States
CATEGORIES:Health and Wellness
END:VEVENT
BEGIN:VEVENT
DTSTART;VALUE=DATE:20241020
DTEND;VALUE=DATE:20241021
DTSTAMP:20260425T122118
CREATED:20240930T201506Z
LAST-MODIFIED:20240930T201506Z
UID:16125-1729382400-1729468799@www.shilohmbc.net
SUMMARY:YAM Spirit Month
DESCRIPTION:Young Adult Ministry (YAM) SPIRIT MONTH \nEvery Sunday in October \nSunday\, October 6 – Sports Sunday (were your gear to represent your favorite Sports team) \nSunday\, October 13 – Represent Your Clique (College\, Greek Affiliation\, family\, church\, etc.) \nSunday\, October 20 – Go Pink! Sunday (wear pink in honor of Breast Cancer Awareness Month) \nSunday\, October 27 – “Wake Up!” (YAM Explosion ’24 culmination Sunday\, were your “Wake Up!” shirt) \nWe invite the entire congregation to participate in YAM Spirit Month!
URL:https://www.shilohmbc.net/event/yam-spirit-month-7/
LOCATION:Shiloh MBC\, 501 West Lawson Avenue\, St. Paul\, MN\, 55117\, United States
CATEGORIES:YAM
END:VEVENT
BEGIN:VEVENT
DTSTART;VALUE=DATE:20241026
DTEND;VALUE=DATE:20241028
DTSTAMP:20260425T122118
CREATED:20240826T160438Z
LAST-MODIFIED:20241019T220144Z
UID:16083-1729900800-1730073599@www.shilohmbc.net
SUMMARY:Young Adult Ministry (YAM) Explosion 2024!
DESCRIPTION:YOUNG ADULT MINISTRY (YAM) EXPLOSION 2024! \nTheme:  “Wake Up!” \nYAM Mixer – Saturday\, October 26\, 2024 @ 10 AM\, Gathering Center  (YAM Choir Rehearsal following) \nYAM Explosion Culmination Service – Sunday\, October 27\, 2024 @ 9:30am Worship Service \nSpeaker:  Rev. Steve Daniels\, Jr.\, Senior Pastor\, SMBC \nYAM Choir Rehearsals \nSaturday\, October 19\, 2024 @ 11 AM \nSaturday\, October 26\, 2024 immediately following YAM Mixer \nWe invite ALL Shiloh Young Adults to be a part of YAM Explosion 2024 Weekend! \nTees & Sweatshirts & Hoodie Sales \nYAM Explosion apparel will be on sale for purchase in the Church vestibule on Sunday\, October 20 after worship service. \nTees (Black Only) $15\nCrew Neck Sweatshirts (Black & Grey) $25\nHoodies (Black & Grey) $30 \nPayment:\nAccepting Cash and Checks (payable to Shiloh MBC).\nHowever\, preferred method through the Shiloh Ministry One App.  Go to the Giving Tab\, select YAM – Young Adult Ministry in the Fund dropdown.\nThen enter the TOTAL AMOUNT of your purchase.  Select your payment method and hit SUBMIT.\nCheck your email and show your receipt to the YAM staff. \nThank you!
URL:https://www.shilohmbc.net/event/young-adult-explosion-2024/
LOCATION:Shiloh MBC\, 501 West Lawson Avenue\, St. Paul\, MN\, 55117\, United States
CATEGORIES:YAM
END:VEVENT
BEGIN:VEVENT
DTSTART;TZID=UTC:20241026T120000
DTEND;TZID=UTC:20241026T140000
DTSTAMP:20260425T122118
CREATED:20241007T234319Z
LAST-MODIFIED:20241007T234319Z
UID:16158-1729944000-1729951200@www.shilohmbc.net
SUMMARY:YAM Choir Rehearsals
DESCRIPTION:YOUNG ADULT MINISTRY (YAM) EXPLOSION 2024! \nYAM Choir Rehearsals \nSaturday\, October 19\, 2024 @ 11 AM \nSaturday\, October 26\, 2024 immediately following YAM Mixer \nWe invite ALL Shiloh Young Adults to be a part of YAM Explosion 2024 Weekend!
URL:https://www.shilohmbc.net/event/yam-choir-rehearsals-5/
LOCATION:Shiloh MBC\, 501 West Lawson Avenue\, St. Paul\, MN\, 55117\, United States
CATEGORIES:YAM
END:VEVENT
BEGIN:VEVENT
DTSTART;TZID=UTC:20241026T123000
DTEND;TZID=UTC:20241026T150000
DTSTAMP:20260425T122118
CREATED:20241017T201322Z
LAST-MODIFIED:20241017T201322Z
UID:16173-1729945800-1729954800@www.shilohmbc.net
SUMMARY:MSFC Meeting
DESCRIPTION:MEN STANDING FOR CHRIST MEETING \nPastor Daniels is asking ALL men of Shiloh to meet with him on Saturday\, October 26 @ the Shiloh Outreach Center. \nRefreshments will be served @ 12:30 PM followed by the meeting promptly @ 1 PM. \nThank you\, \nPastor Daniels
URL:https://www.shilohmbc.net/event/msfc-meeting/
LOCATION:Shiloh MBC\, 501 West Lawson Avenue\, St. Paul\, MN\, 55117\, United States
CATEGORIES:MSFC
END:VEVENT
BEGIN:VEVENT
DTSTART;TZID=UTC:20241026T160000
DTEND;TZID=UTC:20241026T190000
DTSTAMP:20260425T122118
CREATED:20241017T202152Z
LAST-MODIFIED:20241017T202729Z
UID:16175-1729958400-1729969200@www.shilohmbc.net
SUMMARY:Pastor Daniels' Preaching Engagement
DESCRIPTION:PASTOR DANIELS’ PREACHING ENGAGEMENT \nPastor Daniels will be the Keynote Speaker at Gospel Temple Church of God in Christ’s 75th Church Anniversary Jubilee Celebration Banquet \nand the 10th Pastoral Anniversary Celebration. \nSaturday\, October 26 @ 4:00 PM \nDouble Tree by Hilton\, 411 Minnesota Street\, St. Paul\, MN 55101. \nBanquet tickets are $75. \nContact the Church Office for more information.
URL:https://www.shilohmbc.net/event/pastor-daniels-preaching-engagement-3/
LOCATION:MN
CATEGORIES:General Church Information
END:VEVENT
BEGIN:VEVENT
DTSTART;VALUE=DATE:20241027
DTEND;VALUE=DATE:20241028
DTSTAMP:20260425T122118
CREATED:20240819T141620Z
LAST-MODIFIED:20240819T141620Z
UID:16068-1729987200-1730073599@www.shilohmbc.net
SUMMARY:Birthdays of the Month Celebration
DESCRIPTION:Celebrating Shiloh Birthdays!  \nThe Birthday Club Ministry invites all Shiloh members with birthdays this month to a Birthday Celebration in the Gathering Center on the last Sunday of the month (unless otherwise indicated) after 9:30 AM Worship Service. \nPlease RSVP TODAY by signing-up in the Vestibule after service or call the Church Office @ 651-487-4092. \nFor additional information\, please see a member of Birthday Club Ministry. \nBe Blessed\, \nThe Birthday Club Ministry
URL:https://www.shilohmbc.net/event/birthdays-of-the-month-celebration-28/
LOCATION:Shiloh MBC\, 501 West Lawson Avenue\, St. Paul\, MN\, 55117\, United States
CATEGORIES:Birthday
END:VEVENT
BEGIN:VEVENT
DTSTART;VALUE=DATE:20241027
DTEND;VALUE=DATE:20241028
DTSTAMP:20260425T122118
CREATED:20240930T201539Z
LAST-MODIFIED:20240930T201539Z
UID:16127-1729987200-1730073599@www.shilohmbc.net
SUMMARY:YAM Spirit Month
DESCRIPTION:Young Adult Ministry (YAM) SPIRIT MONTH \nEvery Sunday in October \nSunday\, October 6 – Sports Sunday (were your gear to represent your favorite Sports team) \nSunday\, October 13 – Represent Your Clique (College\, Greek Affiliation\, family\, church\, etc.) \nSunday\, October 20 – Go Pink! Sunday (wear pink in honor of Breast Cancer Awareness Month) \nSunday\, October 27 – “Wake Up!” (YAM Explosion ’24 culmination Sunday\, were your “Wake Up!” shirt) \nWe invite the entire congregation to participate in YAM Spirit Month!
URL:https://www.shilohmbc.net/event/yam-spirit-month-8/
LOCATION:Shiloh MBC\, 501 West Lawson Avenue\, St. Paul\, MN\, 55117\, United States
CATEGORIES:YAM
END:VEVENT
BEGIN:VEVENT
DTSTART;TZID=UTC:20241031T173000
DTEND;TZID=UTC:20241031T200000
DTSTAMP:20260425T122118
CREATED:20241017T200520Z
LAST-MODIFIED:20241019T220908Z
UID:16171-1730395800-1730404800@www.shilohmbc.net
SUMMARY:Youth Ministry Hallelujah Glow Night
DESCRIPTION:YOUTH MINISTRY NEWS \nThe Shiloh Youth Ministry is once again hosting its HALLELUJAH GLOW NIGHT on Thursday\, October 31st from 5:30 – 8:00 PM in the Gathering Center. \nThere will be food\, games\, candy\, prizes and much more for all of our youth; so parents\, please bring your youth out to enjoy a safe evening of fun\, food and fellowship! \nPlease NO scary costumes! \nThe Youth Ministry is also collecting candy and monetary donations for this event. \nFinancial donations can be made on the “Giving” tab on the Shiloh Ministry One App.  Select Youth Ministry in the “Fund” dropdown box. \nPlease place your candy donations in the bins in the Church vestibule after service TODAY and next Sunday. \nAny questions\, please see the Youth Ministry staff.
URL:https://www.shilohmbc.net/event/youth-ministry-hallelujah-glow-night/
LOCATION:Shiloh MBC\, 501 West Lawson Avenue\, St. Paul\, MN\, 55117\, United States
CATEGORIES:Youth
END:VEVENT
BEGIN:VEVENT
DTSTART;VALUE=DATE:20241102
DTEND;VALUE=DATE:20241103
DTSTAMP:20260425T122118
CREATED:20240819T140037Z
LAST-MODIFIED:20240819T140037Z
UID:16064-1730505600-1730591999@www.shilohmbc.net
SUMMARY:Baptism/New Member Right Hand of Fellowship
DESCRIPTION:BAPTISM/NEW MEMBER RIGHT HAND OF FELLOWSHIP\nBaptism will be held on the First Saturday of the Month (unless otherwise indicated). \n10:00 AM – Gathering Center \nCANDIDATES: PLEASE ARRIVE BY 9:00 AM \nNEW MEMBER RIGHT HAND OF FELLOWSHIP CEREMONY \nThe Right Hand of Fellowship for all new members completing their New Member Orientation classes will follow Baptism. \nPlease come out to be welcomed into the Shiloh Church Family!
URL:https://www.shilohmbc.net/event/baptism-new-member-right-hand-of-fellowship-38/
LOCATION:Shiloh MBC\, 501 West Lawson Avenue\, St. Paul\, MN\, 55117\, United States
CATEGORIES:Baptism,New Members Orientation
END:VEVENT
BEGIN:VEVENT
DTSTART;TZID=UTC:20241102T120000
DTEND;TZID=UTC:20241102T133000
DTSTAMP:20260425T122118
CREATED:20241028T150430Z
LAST-MODIFIED:20241028T150430Z
UID:16201-1730548800-1730554200@www.shilohmbc.net
SUMMARY:Men Standing for Christ Choir Rehearsal
DESCRIPTION:MEN STANDING FOR CHRIST CONFERENCE \n“Rooted in the Foundation” (Job 14:7-9) \nMen’s Choir Rehearsals: \nSaturday\, November 2 @ 12 Noon \nSaturday\, November 9 immediately following Men’s Conference \nAll Men of Shiloh are encouraged to participate! \nQuestions?  Please see Rev. Brian McLaurin
URL:https://www.shilohmbc.net/event/men-standing-for-christ-choir-rehearsal/
LOCATION:Shiloh MBC\, 501 West Lawson Avenue\, St. Paul\, MN\, 55117\, United States
CATEGORIES:MSFC
END:VEVENT
BEGIN:VEVENT
DTSTART;VALUE=DATE:20241103
DTEND;VALUE=DATE:20241104
DTSTAMP:20260425T122118
CREATED:20241017T203438Z
LAST-MODIFIED:20241017T203632Z
UID:16179-1730592000-1730678399@www.shilohmbc.net
SUMMARY:Daylight Saving Time Ends
DESCRIPTION:DAYLIGHT SAVING TIME ENDS \nSunday\, November 3\, 2024\n2:00 AM \nPlease remember to FALL BACK and set your clocks BACK ONE HOUR!
URL:https://www.shilohmbc.net/event/daylight-saving-time-ends-7/
LOCATION:MN
CATEGORIES:General Church Information
END:VEVENT
BEGIN:VEVENT
DTSTART;VALUE=DATE:20241105
DTEND;VALUE=DATE:20241106
DTSTAMP:20260425T122118
CREATED:20240930T193156Z
LAST-MODIFIED:20241003T211112Z
UID:16116-1730764800-1730851199@www.shilohmbc.net
SUMMARY:Election Day - GO VOTE!!
DESCRIPTION:GO VOTE!!! \nElection Day – Tuesday\, November 5\, 2024 \nIf you need a ride to your polling place on Election Day\, please sign up at the Voter’s Registration table in the vestibule after service or contact the church office @ 651-487-4092. \nTo Vote in Minnesota\, you must be:\n– A U.S. citizen\n– At least 18 years old on Election Day\n– A resident of Minnesota for 20 days\n– Not currently incarcerated for a felony conviction\n– Not under a court order that revokes your right to vote \nAlso remember you can:\n– Vote early in person (check your city for additional early voting locations)\n– Request a ballot online @ mnvotes.gov (ballots must be received by 8pm on Election Day to be counted)\n– Vote in person on Election Day (polls open at 7am; you can vote as long as you’re in line by 8pm)\n– You can register to vote at your polling place on Election Day \nQuestions?\nVisit mnvotes.gov for all election\, polling\, registration information and more details about changes to election laws. \nPlease go out and exercise your right to vote!
URL:https://www.shilohmbc.net/event/election-day-go-vote-5/
LOCATION:MN
CATEGORIES:General Church Information
END:VEVENT
BEGIN:VEVENT
DTSTART;VALUE=DATE:20241109
DTEND;VALUE=DATE:20241111
DTSTAMP:20260425T122118
CREATED:20241017T202930Z
LAST-MODIFIED:20241028T145124Z
UID:16177-1731110400-1731283199@www.shilohmbc.net
SUMMARY:Men Standing For Christ Annual Celebration
DESCRIPTION:MEN STANDING FOR CHRIST CONFERENCE \n“Rooted in the Foundation” (Job 14:7-9) \nNovember 9-10\, 2024 \nMSFC Conference:  Saturday\, November 9 @ 10 AM – 12 PM \nShiloh Gathering Center \n(Men’s Choir Rehearsal immediately following Conference) \nMSFC Annual Day:  Sunday\, November 10 @ 9:30 AM Worship Service \nGuest Speaker:  Rev. Eddie Longstreet\, St. Paul Missionary Baptist Church\, West Point\, MS \nAttire:  Black Suit\, White Shirt \nAccent Color:  Purple Tie & Accessories \nAssessment:  $100 \nMen’s Choir Rehearsals: \nSaturday\, November 2 @ 12 Noon \nSaturday\, November 9 immediately following Men’s Conference \nAll Men of Shiloh are encouraged to participate! \nQuestions?  Please see Rev. Brian McLaurin
URL:https://www.shilohmbc.net/event/men-standing-for-christ-annual-celebration/
LOCATION:Shiloh MBC\, 501 West Lawson Avenue\, St. Paul\, MN\, 55117\, United States
CATEGORIES:MSFC
END:VEVENT
BEGIN:VEVENT
DTSTART;VALUE=DATE:20241111
DTEND;VALUE=DATE:20241112
DTSTAMP:20260425T122118
CREATED:20241017T203934Z
LAST-MODIFIED:20241017T204539Z
UID:16181-1731283200-1731369599@www.shilohmbc.net
SUMMARY:Veterans Day
DESCRIPTION:VETERANS DAY OBSERVANCE \nMonday\, November 11\, 2024 \nFor all those who have served and who are currently serving in the United States armed forces\, \nThank You for your Service!
URL:https://www.shilohmbc.net/event/veterans-day-3/
LOCATION:MN
CATEGORIES:General Church Information
END:VEVENT
BEGIN:VEVENT
DTSTART;TZID=UTC:20241120T130000
DTEND;TZID=UTC:20241120T160000
DTSTAMP:20260425T122118
CREATED:20241113T215059Z
LAST-MODIFIED:20241113T215059Z
UID:16219-1732107600-1732118400@www.shilohmbc.net
SUMMARY:Thanksgiving Basket Give-Away
DESCRIPTION:THANKSGIVING BASKET GIVE-AWAY \nThe Mission Ministry is committed to helping families in need for the Thanksgiving holiday. \nIf you or someone you know\, would like to receive a Thanksgiving food box\, please provide your name and the number of members in your household\, to the church office @ 651-487-4092 during normal business hours (Monday-Thursday). \nSign-ups will be accepted through Tuesday\, November 19 @ 12:00 Noon. \nTHANKSGIVING BASKET DISTRIBUTION/PICK-UP:  \nWednesday\, November 20 @ 1:00 – 4:00 PM \nShiloh Outreach Center
URL:https://www.shilohmbc.net/event/thanksgiving-basket-give-away/
LOCATION:Shiloh Outreach Center\, 560 West Lawson Avenue\, St. Paul\, MN\, 55117\, United States
CATEGORIES:Mission
END:VEVENT
BEGIN:VEVENT
DTSTART;VALUE=DATE:20241124
DTEND;VALUE=DATE:20241125
DTSTAMP:20260425T122118
CREATED:20240819T141700Z
LAST-MODIFIED:20240819T141700Z
UID:16070-1732406400-1732492799@www.shilohmbc.net
SUMMARY:Birthdays of the Month Celebration
DESCRIPTION:Celebrating Shiloh Birthdays!  \nThe Birthday Club Ministry invites all Shiloh members with birthdays this month to a Birthday Celebration in the Gathering Center on the last Sunday of the month (unless otherwise indicated) after 9:30 AM Worship Service. \nPlease RSVP TODAY by signing-up in the Vestibule after service or call the Church Office @ 651-487-4092. \nFor additional information\, please see a member of Birthday Club Ministry. \nBe Blessed\, \nThe Birthday Club Ministry
URL:https://www.shilohmbc.net/event/birthdays-of-the-month-celebration-29/
LOCATION:Shiloh MBC\, 501 West Lawson Avenue\, St. Paul\, MN\, 55117\, United States
CATEGORIES:Birthday
END:VEVENT
BEGIN:VEVENT
DTSTART;VALUE=DATE:20241127
DTEND;VALUE=DATE:20241130
DTSTAMP:20260425T122118
CREATED:20241017T205453Z
LAST-MODIFIED:20241017T205453Z
UID:16187-1732665600-1732924799@www.shilohmbc.net
SUMMARY:Church Office Closed - Thanksgiving Holiday
DESCRIPTION:CHURCH OFFICE CLOSED – THANKSGIVING HOLIDAY \nThe Shiloh Church Office will be CLOSED\nWednesday – Friday\, November 27 – 29\, 2024 in observance of the Thanksgiving Holiday. \nGive thanks to God for His many blessings!
URL:https://www.shilohmbc.net/event/church-office-closed-thanksgiving-holiday-3/
LOCATION:MN
CATEGORIES:General Church Information
END:VEVENT
BEGIN:VEVENT
DTSTART;VALUE=DATE:20241127
DTEND;VALUE=DATE:20241128
DTSTAMP:20260425T122118
CREATED:20241017T211117Z
LAST-MODIFIED:20241017T211117Z
UID:16189-1732665600-1732751999@www.shilohmbc.net
SUMMARY:Bible Study Cancelled - Thanksgiving Holiday
DESCRIPTION:BIBLE STUDY CANCELLED \n12 Noon and 6 PM Bible Study will be CANCELLED on Wednesday\, November 27\, 2024 in observance of the Thanksgiving Holiday. \nBible Study will return on Wednesday\, December 4\, 2024. \nHappy Thanksgiving!
URL:https://www.shilohmbc.net/event/bible-study-cancelled-thanksgiving-holiday-3/
LOCATION:MN
CATEGORIES:Bible Study
END:VEVENT
BEGIN:VEVENT
DTSTART;VALUE=DATE:20241128
DTEND;VALUE=DATE:20241129
DTSTAMP:20260425T122118
CREATED:20241017T205013Z
LAST-MODIFIED:20241017T205232Z
UID:16185-1732752000-1732838399@www.shilohmbc.net
SUMMARY:Thanksgiving Holiday
DESCRIPTION:THANKSGIVING HOLIDAY \nThursday\, November 28\, 2024 \nLet us give thanks to the Lord for all He has done and for how He continues to work in our lives. \nThanks be to God!  To God be the Glory!
URL:https://www.shilohmbc.net/event/thanksgiving-holiday-5/
LOCATION:MN
CATEGORIES:General Church Information
END:VEVENT
BEGIN:VEVENT
DTSTART;VALUE=DATE:20241204
DTEND;VALUE=DATE:20241205
DTSTAMP:20260425T122118
CREATED:20241204T230452Z
LAST-MODIFIED:20241204T230525Z
UID:16261-1733270400-1733356799@www.shilohmbc.net
SUMMARY:Bible Study CANCELLED TODAY
DESCRIPTION:BIBLE STUDY CANCELLED \nGreetings\, Shiloh Family and Friends\, \nDue to inclement weather\, 6pm Bible Study is CANCELLED for this evening and will resume next week. \nHave a blessed day!
URL:https://www.shilohmbc.net/event/6-pm-bible-study-cancelled-today/
LOCATION:MN
CATEGORIES:Bible Study
END:VEVENT
END:VCALENDAR