BEGIN:VCALENDAR
VERSION:2.0
PRODID:-//Shiloh Missionary Baptist Church - ECPv6.15.14//NONSGML v1.0//EN
CALSCALE:GREGORIAN
METHOD:PUBLISH
X-WR-CALNAME:Shiloh Missionary Baptist Church
X-ORIGINAL-URL:https://www.shilohmbc.net
X-WR-CALDESC:Events for Shiloh Missionary Baptist Church
REFRESH-INTERVAL;VALUE=DURATION:PT1H
X-Robots-Tag:noindex
X-PUBLISHED-TTL:PT1H
BEGIN:VTIMEZONE
TZID:UTC
BEGIN:STANDARD
TZOFFSETFROM:+0000
TZOFFSETTO:+0000
TZNAME:UTC
DTSTART:20240101T000000
END:STANDARD
END:VTIMEZONE
BEGIN:VEVENT
DTSTART;VALUE=DATE:20260104
DTEND;VALUE=DATE:20260105
DTSTAMP:20260423T190115
CREATED:20251119T223545Z
LAST-MODIFIED:20251119T223545Z
UID:16968-1767484800-1767571199@www.shilohmbc.net
SUMMARY:Sunday School/New Members Class Returns
DESCRIPTION:SUNDAY SCHOOL / NEW MEMBERS CLASS RETURNS \nSunday\, January 4\, 2026 \n8:40 AM – 9:15 AM \nShiloh Missionary Baptist Church
URL:https://www.shilohmbc.net/event/sunday-school-new-members-class-returns-6/
LOCATION:Shiloh MBC\, 501 West Lawson Avenue\, St. Paul\, MN\, 55117\, United States
CATEGORIES:New Members Orientation,Sunday School
END:VEVENT
BEGIN:VEVENT
DTSTART;VALUE=DATE:20260101
DTEND;VALUE=DATE:20260102
DTSTAMP:20260423T190115
CREATED:20251119T222552Z
LAST-MODIFIED:20251119T222552Z
UID:16959-1767225600-1767311999@www.shilohmbc.net
SUMMARY:New Year's Holiday
DESCRIPTION:NEW YEAR’S HOLIDAY \nThursday\, January 1\, 2026 \nHappy New Year! \nMay God continue to bless and protect us throughout another year.
URL:https://www.shilohmbc.net/event/new-years-holiday-5/
LOCATION:MN
CATEGORIES:General Church Information
END:VEVENT
BEGIN:VEVENT
DTSTART;VALUE=DATE:20251231
DTEND;VALUE=DATE:20260103
DTSTAMP:20260423T190115
CREATED:20251119T224450Z
LAST-MODIFIED:20251119T224450Z
UID:16972-1767139200-1767398399@www.shilohmbc.net
SUMMARY:Church Office CLOSED - New Year's Holiday
DESCRIPTION:CHURCH OFFICE CLOSED – NEW YEAR’S HOLIDAY \nThe Shiloh Church Office will be CLOSED \nWednesday\, December 31 – Friday\, January 2\, 2026 \nin observance of the New Year’s Holiday. \nHappy New Year!
URL:https://www.shilohmbc.net/event/church-office-closed-new-years-holiday-7/
LOCATION:MN
CATEGORIES:General Church Information
END:VEVENT
BEGIN:VEVENT
DTSTART;VALUE=DATE:20251231
DTEND;VALUE=DATE:20260101
DTSTAMP:20260423T190115
CREATED:20251119T221612Z
LAST-MODIFIED:20251119T221612Z
UID:16955-1767139200-1767225599@www.shilohmbc.net
SUMMARY:Bible Study CANCELLED
DESCRIPTION:BIBLE STUDY CANCELLED \n12 Noon and 6 PM Bible Study will be CANCELLED on \nWednesday\, December 24 and December 31\, 2025 \nin observance of the Christmas and New Year’s Holidays. \nBible Study will return on Wednesday\, January 7\, 2026. \nEnjoy the Holiday Season!
URL:https://www.shilohmbc.net/event/bible-study-cancelled-13/
LOCATION:Shiloh MBC\, 501 West Lawson Avenue\, St. Paul\, MN\, 55117\, United States
CATEGORIES:Bible Study
END:VEVENT
BEGIN:VEVENT
DTSTART;VALUE=DATE:20251228
DTEND;VALUE=DATE:20251229
DTSTAMP:20260423T190115
CREATED:20251119T221157Z
LAST-MODIFIED:20251119T221157Z
UID:16951-1766880000-1766966399@www.shilohmbc.net
SUMMARY:NO Sunday School/New Members Class
DESCRIPTION:NO SUNDAY SCHOOL /NEW MEMBERS CLASS \nSunday\, December 21 & Sunday\, December 28\, 2025\nONLY 9:30 AM Worship Service \nClasses will resume Sunday\, January 4\, 2026. \nHappy Holidays!
URL:https://www.shilohmbc.net/event/no-sunday-school-new-members-class-9/
LOCATION:Shiloh MBC\, 501 West Lawson Avenue\, St. Paul\, MN\, 55117\, United States
CATEGORIES:New Members Orientation,Sunday School
END:VEVENT
BEGIN:VEVENT
DTSTART;VALUE=DATE:20251225
DTEND;VALUE=DATE:20251226
DTSTAMP:20260423T190115
CREATED:20251119T222147Z
LAST-MODIFIED:20251119T222147Z
UID:16957-1766620800-1766707199@www.shilohmbc.net
SUMMARY:Christmas Holiday
DESCRIPTION:CHIRSTMAS HOLIDAY \nThursday\, December 25\, 2025 \nCelebrate the joyous celebration of our Lord and Savior Jesus Christ’s birth. \nLuke 2:7-14\n7 And she brought forth her firstborn son\, and wrapped him in swaddling clothes\, and laid him in a manger; because there was no room for them in the inn. \n8 And there were in the same country shepherds abiding in the field\, keeping watch over their flock by night. \n9 And\, lo\, the angel of the Lord came upon them\, and the glory of the Lord shone round about them: and they were sore afraid. \n10 And the angel said unto them\, Fear not: for\, behold\, I bring you good tidings of great joy\, which shall be to all people. \n11 For unto you is born this day in the city of David a Saviour\, which is Christ the Lord. \n12 And this shall be a sign unto you; Ye shall find the babe wrapped in swaddling clothes\, lying in a manger. \n13 And suddenly there was with the angel a multitude of the heavenly host praising God\, and saying\, \n14 Glory to God in the highest\, and on earth peace\, good will toward men.
URL:https://www.shilohmbc.net/event/christmas-holiday-5/
LOCATION:MN
CATEGORIES:General Church Information
END:VEVENT
BEGIN:VEVENT
DTSTART;VALUE=DATE:20251224
DTEND;VALUE=DATE:20251225
DTSTAMP:20260423T190115
CREATED:20251119T221540Z
LAST-MODIFIED:20251119T221540Z
UID:16953-1766534400-1766620799@www.shilohmbc.net
SUMMARY:Bible Study CANCELLED
DESCRIPTION:BIBLE STUDY CANCELLED \n12 Noon and 6 PM Bible Study will be CANCELLED on \nWednesday\, December 24 and December 31\, 2025 \nin observance of the Christmas and New Year’s Holidays. \nBible Study will return on Wednesday\, January 7\, 2026. \nEnjoy the Holiday Season!
URL:https://www.shilohmbc.net/event/bible-study-cancelled-12/
LOCATION:Shiloh MBC\, 501 West Lawson Avenue\, St. Paul\, MN\, 55117\, United States
CATEGORIES:Bible Study
END:VEVENT
BEGIN:VEVENT
DTSTART;VALUE=DATE:20251222
DTEND;VALUE=DATE:20251227
DTSTAMP:20260423T190115
CREATED:20251119T224005Z
LAST-MODIFIED:20251119T224005Z
UID:16970-1766361600-1766793599@www.shilohmbc.net
SUMMARY:Church Office CLOSED - Christmas Holiday
DESCRIPTION:CHURCH OFFICE CLOSED – CHRISTMAS HOLIDAY \nThe Shiloh Church Office will be CLOSED \nMonday – Friday (December 22 – 26) 2025 \nin observance of the Christmas Holiday. \nMerry Christmas!
URL:https://www.shilohmbc.net/event/church-office-closed-christmas-holiday-7/
LOCATION:MN
CATEGORIES:General Church Information
END:VEVENT
BEGIN:VEVENT
DTSTART;VALUE=DATE:20251221
DTEND;VALUE=DATE:20251222
DTSTAMP:20260423T190115
CREATED:20251201T213450Z
LAST-MODIFIED:20251218T090542Z
UID:16979-1766275200-1766361599@www.shilohmbc.net
SUMMARY:Youth Ministry Christmas Program
DESCRIPTION:YOUTH MINISTRY CHRISTMAS PROGRAM \nSunday\, December 21\, 2025 \n9:30 AM Worship Service \nParents\, please bring your Youth out to be a part of the celebration of the Christmas Holiday! \nAll Youth of Shiloh are encouraged to participate in this year’s presentation! \nRehearsal schedule is as follows: \nTuesday\, December 2 @ 6 PM\nTuesday\, December 9 @ 6 PM \nSaturday\, December 13 @ 12 Noon  (Last day to participate in the program)\n \nThursday\, December 18 @ 6 PM \nSaturday\, December 20 @ 12 Noon \nQuestions?  Please see the Youth Ministry Staff
URL:https://www.shilohmbc.net/event/youth-ministry-christmas-program/
LOCATION:Shiloh MBC\, 501 West Lawson Avenue\, St. Paul\, MN\, 55117\, United States
CATEGORIES:Youth
END:VEVENT
BEGIN:VEVENT
DTSTART;VALUE=DATE:20251221
DTEND;VALUE=DATE:20251222
DTSTAMP:20260423T190115
CREATED:20251119T221100Z
LAST-MODIFIED:20251119T221100Z
UID:16949-1766275200-1766361599@www.shilohmbc.net
SUMMARY:NO Sunday School/New Members Class
DESCRIPTION:NO SUNDAY SCHOOL /NEW MEMBERS CLASS \nSunday\, December 21 & Sunday\, December 28\, 2025\nONLY 9:30 AM Worship Service \nClasses will resume Sunday\, January 4\, 2026. \nHappy Holidays!
URL:https://www.shilohmbc.net/event/no-sunday-school-new-members-class-8/
LOCATION:Shiloh MBC\, 501 West Lawson Avenue\, St. Paul\, MN\, 55117\, United States
CATEGORIES:New Members Orientation,Sunday School
END:VEVENT
BEGIN:VEVENT
DTSTART;VALUE=DATE:20251214
DTEND;VALUE=DATE:20251215
DTSTAMP:20260423T190115
CREATED:20251111T144158Z
LAST-MODIFIED:20251111T144807Z
UID:16937-1765670400-1765756799@www.shilohmbc.net
SUMMARY:Rev. & Mrs. Daniels' Christmas
DESCRIPTION:REV. & MRS. DANIELS’ CHRISTMAS \nPlease show your love and appreciation for our beloved Pastor and First Lady during this Holiday Season. \nBring your Love Offering for the First Family on: \nSunday\, December 14\, 2025 \nDuring 9:30 AM Worship Service
URL:https://www.shilohmbc.net/event/rev-mrs-daniels-christmas-9/
LOCATION:Shiloh MBC\, 501 West Lawson Avenue\, St. Paul\, MN\, 55117\, United States
CATEGORIES:General Church Information
END:VEVENT
BEGIN:VEVENT
DTSTART;VALUE=DATE:20251214
DTEND;VALUE=DATE:20251215
DTSTAMP:20260423T190115
CREATED:20250804T193054Z
LAST-MODIFIED:20251201T182325Z
UID:16776-1765670400-1765756799@www.shilohmbc.net
SUMMARY:Birthdays of the Month Celebration
DESCRIPTION:Celebrating Shiloh Birthdays!  \nThe Birthday Club Ministry invites all Shiloh members with birthdays this month to a Birthday Celebration in the Gathering Center on the last Sunday of the month (unless otherwise indicated) after 9:30 AM Worship Service. \nPlease RSVP TODAY by signing-up in the Vestibule after service or call the Church Office @ 651-487-4092. \nFor additional information\, please see a member of Birthday Club Ministry. \nBe Blessed\, \nThe Birthday Club Ministry
URL:https://www.shilohmbc.net/event/birthdays-of-the-month-celebration-41/
LOCATION:Shiloh MBC\, 501 West Lawson Avenue\, St. Paul\, MN\, 55117\, United States
CATEGORIES:Birthday
END:VEVENT
BEGIN:VEVENT
DTSTART;TZID=UTC:20251209T080000
DTEND;TZID=UTC:20251209T170000
DTSTAMP:20260423T190115
CREATED:20251209T224714Z
LAST-MODIFIED:20251209T224714Z
UID:16986-1765267200-1765299600@www.shilohmbc.net
SUMMARY:REHEARSAL CANCELLED - Youth Christmas Program
DESCRIPTION:YOUTH CHRISTMAS PROGRAM REHEARSAL CANCELLED \nGreetings\, Shiloh Family and Friends \nParents\, if you were planning to bring your youth tonight Tuesday\, December 9 for the Youth Christmas Play Rehearsal\, \nplease note that tonight’s practice is CANCELLED because of the snow that we are receiving and that is still yet to come. \nPlease spread the word to anyone you may know. \nThank you and Stay safe! \nShiloh MB Church \nYouth Ministry
URL:https://www.shilohmbc.net/event/rehearsal-cancelled-youth-christmas-program/
LOCATION:MN
END:VEVENT
BEGIN:VEVENT
DTSTART;TZID=UTC:20251206T090000
DTEND;TZID=UTC:20251206T110000
DTSTAMP:20260423T190115
CREATED:20250804T192147Z
LAST-MODIFIED:20250804T192147Z
UID:16766-1765011600-1765018800@www.shilohmbc.net
SUMMARY:Baptism/New Member Right Hand of Fellowship
DESCRIPTION:BAPTISM/NEW MEMBER RIGHT HAND OF FELLOWSHIP\nBaptism will be held on the First Saturday of the Month (unless otherwise indicated). \n10:00 AM – Gathering Center \nCANDIDATES: PLEASE ARRIVE BY 9:00 AM \nNEW MEMBER RIGHT HAND OF FELLOWSHIP CEREMONY \nThe Right Hand of Fellowship for all new members completing their New Member Orientation classes will follow Baptism. \nPlease come out to be welcomed into the Shiloh Church Family!
URL:https://www.shilohmbc.net/event/baptism-new-member-right-hand-of-fellowship-51/
LOCATION:Shiloh MBC\, 501 West Lawson Avenue\, St. Paul\, MN\, 55117\, United States
CATEGORIES:Baptism,New Members Orientation
END:VEVENT
BEGIN:VEVENT
DTSTART;VALUE=DATE:20251130
DTEND;VALUE=DATE:20251201
DTSTAMP:20260423T190115
CREATED:20250804T193003Z
LAST-MODIFIED:20250804T193003Z
UID:16774-1764460800-1764547199@www.shilohmbc.net
SUMMARY:Birthdays of the Month Celebration
DESCRIPTION:Celebrating Shiloh Birthdays!  \nThe Birthday Club Ministry invites all Shiloh members with birthdays this month to a Birthday Celebration in the Gathering Center on the last Sunday of the month (unless otherwise indicated) after 9:30 AM Worship Service. \nPlease RSVP TODAY by signing-up in the Vestibule after service or call the Church Office @ 651-487-4092. \nFor additional information\, please see a member of Birthday Club Ministry. \nBe Blessed\, \nThe Birthday Club Ministry
URL:https://www.shilohmbc.net/event/birthdays-of-the-month-celebration-40/
LOCATION:Shiloh MBC\, 501 West Lawson Avenue\, St. Paul\, MN\, 55117\, United States
CATEGORIES:Birthday
END:VEVENT
BEGIN:VEVENT
DTSTART;VALUE=DATE:20251127
DTEND;VALUE=DATE:20251128
DTSTAMP:20260423T190115
CREATED:20251012T212231Z
LAST-MODIFIED:20251012T212231Z
UID:16888-1764201600-1764287999@www.shilohmbc.net
SUMMARY:Thanksgiving Holiday
DESCRIPTION:THANKSGIVING HOLIDAY \nThursday\, November 27\, 2025 \nLet us give thanks to the Lord for all He has done and for how He continues to work in our lives. \nThanks be to God!  To God be the Glory!
URL:https://www.shilohmbc.net/event/thanksgiving-holiday-6/
LOCATION:MN
CATEGORIES:General Church Information
END:VEVENT
BEGIN:VEVENT
DTSTART;VALUE=DATE:20251126
DTEND;VALUE=DATE:20251127
DTSTAMP:20260423T190115
CREATED:20251012T211526Z
LAST-MODIFIED:20251012T212107Z
UID:16884-1764115200-1764201599@www.shilohmbc.net
SUMMARY:Bible Study CANCELLED - Thanksgiving Holiday
DESCRIPTION:BIBLE STUDY CANCELLED \n12 Noon and 6 PM Bible Study will be CANCELLED on \nWednesday\, November 26\, 2025 in observance of the Thanksgiving Holiday. \nBible Study will return on Wednesday\, December 3\, 2025. \nWishing you and your Family a Happy Thanksgiving! \nGod Bless\, \nPastor Daniels
URL:https://www.shilohmbc.net/event/bible-study-cancelled-thanksgiving-holiday-4/
LOCATION:MN
CATEGORIES:General Church Information
END:VEVENT
BEGIN:VEVENT
DTSTART;TZID=UTC:20251125T123000
DTEND;TZID=UTC:20251125T160000
DTSTAMP:20260423T190115
CREATED:20251119T215000Z
LAST-MODIFIED:20251119T215000Z
UID:16947-1764073800-1764086400@www.shilohmbc.net
SUMMARY:Shiloh Outreach Center Open TODAY
DESCRIPTION:SHILOH OUTREACH CENTER OPEN TODAY! \nThe Shiloh Outreach Center will be CLOSED Thursday\, November 27. \nHowever\, the Center will be open Tuesday\, November 25 from 12:30 – 4 PM \nto provide food and Mission assistance to the community.
URL:https://www.shilohmbc.net/event/shiloh-outreach-center-open-today/
LOCATION:Shiloh Outreach Center\, 560 West Lawson Avenue\, St. Paul\, MN\, 55117\, United States
CATEGORIES:Outreach Center
END:VEVENT
BEGIN:VEVENT
DTSTART;VALUE=DATE:20251124
DTEND;VALUE=DATE:20251129
DTSTAMP:20260423T190115
CREATED:20251012T210756Z
LAST-MODIFIED:20251029T214901Z
UID:16881-1763942400-1764374399@www.shilohmbc.net
SUMMARY:Church Office Closed - Thanksgiving Holiday
DESCRIPTION:CHURCH OFFICE CLOSED – THANKSGIVING HOLIDAY \nThe Shiloh Church Office and Outreach Center will be CLOSED \nMonday – Friday\, November 24 – 28\, 2025 \nin observance of the Thanksgiving Holiday. \nGive thanks to God for His many blessings!
URL:https://www.shilohmbc.net/event/church-office-closed-thanksgiving-holiday-4/
LOCATION:MN
CATEGORIES:General Church Information
END:VEVENT
BEGIN:VEVENT
DTSTART;VALUE=DATE:20251112
DTEND;VALUE=DATE:20251113
DTSTAMP:20260423T190115
CREATED:20251106T215102Z
LAST-MODIFIED:20251106T220034Z
UID:16933-1762905600-1762991999@www.shilohmbc.net
SUMMARY:In-Person Bible Study
DESCRIPTION:IN-PERSON BIBLE STUDY \nWednesday\, November 12\, 2025 \n6:00 PM \nShiloh Sanctuary \nThis session will be Live Streamed. \nPastor Daniels is asking all Shiloh members (and all our virtual members) to attend. \nNOTE: \nWe will also have our in-person 12:00 Noon Bible Study on Wednesday\, November 12.
URL:https://www.shilohmbc.net/event/in-person-bible-study/
LOCATION:Shiloh MBC\, 501 West Lawson Avenue\, St. Paul\, MN\, 55117\, United States
CATEGORIES:Bible Study
END:VEVENT
BEGIN:VEVENT
DTSTART;VALUE=DATE:20251111
DTEND;VALUE=DATE:20251112
DTSTAMP:20260423T190115
CREATED:20251012T202119Z
LAST-MODIFIED:20251012T202246Z
UID:16879-1762819200-1762905599@www.shilohmbc.net
SUMMARY:Veterans Day
DESCRIPTION:VETERANS DAY OBSERVANCE \nTuesday\, November 11\, 2025 \nFor all those who have served and who are currently serving in the United States armed forces\, \nThank You for your Service!
URL:https://www.shilohmbc.net/event/veterans-day-4/
LOCATION:MN
CATEGORIES:General Church Information
END:VEVENT
BEGIN:VEVENT
DTSTART;VALUE=DATE:20251108
DTEND;VALUE=DATE:20251110
DTSTAMP:20260423T190115
CREATED:20251012T213004Z
LAST-MODIFIED:20251106T214922Z
UID:16890-1762560000-1762732799@www.shilohmbc.net
SUMMARY:Men Standing For Christ Conference
DESCRIPTION:MEN STANDING FOR CHRIST CONFERENCE 2025 \nSunday\, November 9 @ 9:30 AM Worship Service \nGuest Speaker:  Rev. Dr. Arthur Agnew \nBethesda Missionary Baptist Church\, Minneapolis\, MN \nMen’s Day Colors: Black Suit\, White Shirt\, Purple Tie \nMEN’S CONFERENCE \nSaturday\, November 8 @ 9:30 – 11:30 AM \n(Choir Rehearsal following) \nConference Attire: “I’m on the Wakeup List” Shiloh Church apparel \nPastor Daniels providing message on “Be Strengthened” \n2:00 – 4:00 PM @ ProKART Indoor Racing \n14350 Rosemount Dr.\, Burnsville\, MN 55406 \n(Electronic waiver will be required for ProKART) \nAll Men and Young Men (age 13 years and older) are invited and encouraged to participate in the Conference. \nParents must be available to drop off and pick up your youth on time! \nNOTE:  All attendees MUST register for the Conference AND sign up to attend the culmination activity @ ProKART Indoor Racing\nClick here to register! \nMENS CHOIR REHEARSAL \nSaturday\, November 1 @ 12 Noon\, Saturday\, November 8 @ 12 pm following the Men’s Conference
URL:https://www.shilohmbc.net/event/men-standing-for-christ-conference-3/
LOCATION:Shiloh MBC\, 501 West Lawson Avenue\, St. Paul\, MN\, 55117\, United States
CATEGORIES:MSFC
END:VEVENT
BEGIN:VEVENT
DTSTART;VALUE=DATE:20251104
DTEND;VALUE=DATE:20251105
DTSTAMP:20260423T190115
CREATED:20251012T201744Z
LAST-MODIFIED:20251012T201825Z
UID:16877-1762214400-1762300799@www.shilohmbc.net
SUMMARY:Election Day - Go Vote!
DESCRIPTION:GO VOTE!!! \nElection Day – Tuesday\, November 4\, 2025 \nTo Vote in Minnesota\, you must be:\n– A U.S. citizen\n– At least 18 years old on Election Day\n– A resident of Minnesota for 20 days\n– Not currently incarcerated for a felony conviction\n– Not under a court order that revokes your right to vote \nAlso remember you can:\n– Vote early in person (check your city for additional early voting locations)\n– Request a ballot online @ mnvotes.gov (ballots must be received by 8pm on Election Day to be counted)\n– Vote in person on Election Day (polls open at 7am; you can vote as long as you’re in line by 8pm)\n– You can register to vote at your polling place on Election Day \nQuestions?\nVisit mnvotes.gov for all election\, polling\, registration information and more details about changes to election laws. \nPlease go out and exercise your right to vote!
URL:https://www.shilohmbc.net/event/election-day-go-vote-6/
LOCATION:MN
CATEGORIES:General Church Information
END:VEVENT
BEGIN:VEVENT
DTSTART;VALUE=DATE:20251102
DTEND;VALUE=DATE:20251103
DTSTAMP:20260423T190115
CREATED:20251012T201354Z
LAST-MODIFIED:20251012T201524Z
UID:16875-1762041600-1762127999@www.shilohmbc.net
SUMMARY:Daylight Saving Time Ends
DESCRIPTION:DAYLIGHT SAVING TIME ENDS \nSunday\, November 2\, 2025\n2:00 AM \nPlease remember to FALL BACK and set your clocks BACK ONE HOUR!
URL:https://www.shilohmbc.net/event/daylight-saving-time-ends-8/
LOCATION:MN
CATEGORIES:General Church Information
END:VEVENT
BEGIN:VEVENT
DTSTART;TZID=UTC:20251101T120000
DTEND;TZID=UTC:20251101T133000
DTSTAMP:20260423T190115
CREATED:20251022T213622Z
LAST-MODIFIED:20251022T214352Z
UID:16909-1761998400-1762003800@www.shilohmbc.net
SUMMARY:Men's Choir Rehearsal
DESCRIPTION:MEN’S CHOIR REHEARSAL \nSaturday\, November 1\, 2025 @ 12 Noon and \nSaturday\, November 8\, 2025 @ 12 pm following the Men’s Conference \nAll Men and Young Men (age 13 and up) are invited to be a part of the Men’s Choir and to attend the MSFC Conference.
URL:https://www.shilohmbc.net/event/men/
LOCATION:Shiloh MBC\, 501 West Lawson Avenue\, St. Paul\, MN\, 55117\, United States
CATEGORIES:MSFC
END:VEVENT
BEGIN:VEVENT
DTSTART;TZID=UTC:20251101T090000
DTEND;TZID=UTC:20251101T110000
DTSTAMP:20260423T190115
CREATED:20250804T192054Z
LAST-MODIFIED:20250804T192054Z
UID:16764-1761987600-1761994800@www.shilohmbc.net
SUMMARY:Baptism/New Member Right Hand of Fellowship
DESCRIPTION:BAPTISM/NEW MEMBER RIGHT HAND OF FELLOWSHIP\nBaptism will be held on the First Saturday of the Month (unless otherwise indicated). \n10:00 AM – Gathering Center \nCANDIDATES: PLEASE ARRIVE BY 9:00 AM \nNEW MEMBER RIGHT HAND OF FELLOWSHIP CEREMONY \nThe Right Hand of Fellowship for all new members completing their New Member Orientation classes will follow Baptism. \nPlease come out to be welcomed into the Shiloh Church Family!
URL:https://www.shilohmbc.net/event/baptism-new-member-right-hand-of-fellowship-50/
LOCATION:Shiloh MBC\, 501 West Lawson Avenue\, St. Paul\, MN\, 55117\, United States
CATEGORIES:Baptism,New Members Orientation
END:VEVENT
BEGIN:VEVENT
DTSTART;TZID=UTC:20251031T170000
DTEND;TZID=UTC:20251031T200000
DTSTAMP:20260423T190115
CREATED:20251006T231123Z
LAST-MODIFIED:20251028T135621Z
UID:16869-1761930000-1761940800@www.shilohmbc.net
SUMMARY:Hallelujah Glow Night
DESCRIPTION:HALLELUJAH GLOW NIGHT \nThe Shiloh Youth Ministry is once again hosting its \nAnnual Hallelujah Glow Night  \nFriday\, October 31\, 2025 \n5:00 PM – 8:00 PM \nRiverEast Elementary and Secondary  (school next door to the Church)\n1055 Mackubin Street\, St. Paul\, MN 55117 \nPlease NO scary costumes! \nThere will be food\, games\, candy\, prizes and much more for all of our youth. \nSign-ups will begin Sunday\, October 12 in the vestibule after morning worship service. \nParents\, please sign up your youth to come out and enjoy a safe evening of fun and fellowship! \nCandy donations will also start October 12. \nPlease drop off your donations in the bins located in the church vestibule. \nThank you! \nShiloh Youth Ministry Staff
URL:https://www.shilohmbc.net/event/hallelujah-glow-night-2/
LOCATION:RiverEast Elementary and Secondary\, 1055 Mackubin St.\, St. Paul\, MN\, 55117\, United States
CATEGORIES:Youth
END:VEVENT
BEGIN:VEVENT
DTSTART;TZID=UTC:20251029T080000
DTEND;TZID=UTC:20251029T170000
DTSTAMP:20260423T190115
CREATED:20251029T222015Z
LAST-MODIFIED:20251029T222938Z
UID:16925-1761724800-1761757200@www.shilohmbc.net
SUMMARY:Mission Ministry Thanksgiving Basket Give-Away
DESCRIPTION:MISSION MINISTRY THANKSGIVING BASKET GIVE-AWAY \nThe Mission Ministry is committed to helping families in need for the Thanksgiving Holiday. \nIf you would like to receive a Thanksgiving food box\, please provide your name and the number of members in your household\, to the church office @ 651-487-4092 during normal business hours (Monday-Thursday). \nSign-ups will be accepted through Friday\, November 14. \nTHANKSGIVING BASKET DISTRIBUTION & PICK-UP:  \nWednesday\, November 19\, 2025 @ 10:00 AM – 4:00 PM \nShiloh Outreach Center
URL:https://www.shilohmbc.net/event/mission-ministry-thanksgiving-basket-give-away/
LOCATION:MN
END:VEVENT
BEGIN:VEVENT
DTSTART;VALUE=DATE:20251029
DTEND;VALUE=DATE:20251030
DTSTAMP:20260423T190115
CREATED:20251028T181413Z
LAST-MODIFIED:20251028T181413Z
UID:16917-1761696000-1761782399@www.shilohmbc.net
SUMMARY:Bible Study CANCELLED
DESCRIPTION:Greetings\, Shiloh Family and Friends\, \nBible Study is CANCELLED for Wednesday\, October 29\, 2025 @ \n12:00 Noon and 6:00 PM. \nBible Study will resume next Wednesday\, November 5\, 2025. \nHave a blessed day!
URL:https://www.shilohmbc.net/event/bible-study-cancelled-11/
LOCATION:MN
CATEGORIES:Bible Study
END:VEVENT
BEGIN:VEVENT
DTSTART;VALUE=DATE:20251026
DTEND;VALUE=DATE:20251027
DTSTAMP:20260423T190115
CREATED:20250904T183000Z
LAST-MODIFIED:20250904T184328Z
UID:16826-1761436800-1761523199@www.shilohmbc.net
SUMMARY:YAM Spirit Month - Sports Sunday
DESCRIPTION:YAM SPIRIT MONTH \nEvery Sunday in October \nSunday\, October 5 – Represent your Clique (College\, Greek Affiliation\, Nonprofit Org\, Family\, etc.) \nSunday\, October 12 – Go Pink! Sunday (wear pink in honor of Breast Cancer Awareness Month) \nSunday\, October 19 – YAM Explosion 2025! Culmination Sunday (wear your Shiloh church apparel) \nSunday\, October 26 – Sports Sunday (wear your gear to represent your favorite Sports team) \nWe invite the entire congregation to participate in YAM Spirit Month!
URL:https://www.shilohmbc.net/event/yam-spirit-month-sports-sunday/
LOCATION:Shiloh MBC\, 501 West Lawson Avenue\, St. Paul\, MN\, 55117\, United States
CATEGORIES:YAM
END:VEVENT
END:VCALENDAR