BEGIN:VCALENDAR
VERSION:2.0
PRODID:-//Shiloh Missionary Baptist Church - ECPv6.15.14//NONSGML v1.0//EN
CALSCALE:GREGORIAN
METHOD:PUBLISH
X-WR-CALNAME:Shiloh Missionary Baptist Church
X-ORIGINAL-URL:https://www.shilohmbc.net
X-WR-CALDESC:Events for Shiloh Missionary Baptist Church
REFRESH-INTERVAL;VALUE=DURATION:PT1H
X-Robots-Tag:noindex
X-PUBLISHED-TTL:PT1H
BEGIN:VTIMEZONE
TZID:UTC
BEGIN:STANDARD
TZOFFSETFROM:+0000
TZOFFSETTO:+0000
TZNAME:UTC
DTSTART:20230101T000000
END:STANDARD
END:VTIMEZONE
BEGIN:VEVENT
DTSTART;VALUE=DATE:20240901
DTEND;VALUE=DATE:20240902
DTSTAMP:20260425T142331
CREATED:20240528T141559Z
LAST-MODIFIED:20240528T141559Z
UID:15971-1725148800-1725235199@www.shilohmbc.net
SUMMARY:PASTOR DANIELS' 73RD BIRTHDAY CELEBRATION
DESCRIPTION:PASTOR DANIELS’ 73rd BIRTHDAY CELEBRATION! \nOur beloved Pastor Daniels will be celebrating his 73rd birthday TODAY\, Sunday\, September 1\, 2024. \nWe will observe his birthday during the 9:30 AM Worship Service. \nPlease bring your cards and gifts for Pastor Daniels to show your love and appreciation. \nGod Bless!
URL:https://www.shilohmbc.net/event/pastor-daniels-73rd-birthday-celebration/
LOCATION:Shiloh MBC\, 501 West Lawson Avenue\, St. Paul\, MN\, 55117\, United States
CATEGORIES:General Church Information
END:VEVENT
BEGIN:VEVENT
DTSTART;VALUE=DATE:20240825
DTEND;VALUE=DATE:20240826
DTSTAMP:20260425T142331
CREATED:20240521T180340Z
LAST-MODIFIED:20240528T134843Z
UID:15945-1724544000-1724630399@www.shilohmbc.net
SUMMARY:Birthdays of the Month Celebration
DESCRIPTION:Celebrating Shiloh Birthdays!  \nThe Birthday Club Ministry invites all Shiloh members with birthdays this month to a Birthday Celebration in the Gathering Center on the last Sunday of the month (unless otherwise indicated) after 9:30 AM Worship Service. \nPlease RSVP TODAY by signing-up in the Vestibule after service or call the Church Office @ 651-487-4092. \nFor additional information\, please see a member of Birthday Club Ministry. \nBe Blessed\, \nThe Birthday Club Ministry
URL:https://www.shilohmbc.net/event/birthdays-of-the-month-celebration-26/
LOCATION:Shiloh MBC\, 501 West Lawson Avenue\, St. Paul\, MN\, 55117\, United States
CATEGORIES:Birthday
END:VEVENT
BEGIN:VEVENT
DTSTART;VALUE=DATE:20240817
DTEND;VALUE=DATE:20240819
DTSTAMP:20260425T142331
CREATED:20240528T142100Z
LAST-MODIFIED:20240812T160936Z
UID:15973-1723852800-1724025599@www.shilohmbc.net
SUMMARY:Shiloh Youth Explosion 2024!
DESCRIPTION:SHILOH YOUTH EXPLOSION 2024! \nTheme:  “They NOT Like Us!” \nPlease join us for Shiloh’s Annual Youth Explosion. \nParents/guardians please bring your youth out on Saturday\, August 17 @ 8:30 AM\, Shiloh Gathering Center.\nThe Youth will have a breakout session\, choir rehearsal and will then go bowling! \nEvents will conclude at 3PM; Parents/guardians please be at the church by 2:30 PM to pick up your Youth. \nWe will culminate on Sunday\, August 18 @ 9:30 AM Worship Service with speaker\, Shiloh Missionary Baptist Church Assistant Pastor\, Rev. Steven Daniels. \nNOTE:  T-shirt orders will begin Sunday\, July 21 in the vestibule following worship service and conclude Sunday\, July 28.  Those who ordered T-Shirts can pick them up either Saturday\, August 17 or early before morning worship service on Sunday\, August 18. \nThank you\, \nShiloh Youth Ministry Staff
URL:https://www.shilohmbc.net/event/shiloh-youth-explosion-2024/
LOCATION:Shiloh MBC\, 501 West Lawson Avenue\, St. Paul\, MN\, 55117\, United States
CATEGORIES:Youth
END:VEVENT
BEGIN:VEVENT
DTSTART;VALUE=DATE:20240803
DTEND;VALUE=DATE:20240804
DTSTAMP:20260425T142331
CREATED:20240521T180231Z
LAST-MODIFIED:20240731T170317Z
UID:15943-1722643200-1722729599@www.shilohmbc.net
SUMMARY:Baptism - CANCELLED
DESCRIPTION:BAPTISM for the Month of August has been CANCELLED.\nThe next Baptism will be Saturday\, September 7\, 2024 \n10:00 AM – (Baptism Candidates please arrive by 9 AM) \nShiloh Gathering Center
URL:https://www.shilohmbc.net/event/baptism-new-member-right-hand-of-fellowship-35/
LOCATION:Shiloh MBC\, 501 West Lawson Avenue\, St. Paul\, MN\, 55117\, United States
CATEGORIES:Baptism,New Members Orientation
END:VEVENT
BEGIN:VEVENT
DTSTART;VALUE=DATE:20240728
DTEND;VALUE=DATE:20240729
DTSTAMP:20260425T142331
CREATED:20240521T181423Z
LAST-MODIFIED:20240729T132751Z
UID:15949-1722124800-1722211199@www.shilohmbc.net
SUMMARY:Shiloh Family & Friends Day
DESCRIPTION:SHILOH FAMILY & FRIENDS DAY \nSunday\, July 28\, 2024 \n9:30 AM Worship Service \nGuest Speaker: \nBishop Rudolph Balfour\, New Wine Kingdom Ministries\, Nassau\, Bahamas \nPlease bring your family and friends to worship together. \nJoin us for a family PICNIC on the back lawn immediately following worship service!
URL:https://www.shilohmbc.net/event/shiloh-family-friends-day/
LOCATION:Shiloh MBC\, 501 West Lawson Avenue\, St. Paul\, MN\, 55117\, United States
CATEGORIES:General Church Information
END:VEVENT
BEGIN:VEVENT
DTSTART;TZID=UTC:20240727T100000
DTEND;TZID=UTC:20240727T120000
DTSTAMP:20260425T142331
CREATED:20240720T195301Z
LAST-MODIFIED:20240720T195301Z
UID:16027-1722074400-1722081600@www.shilohmbc.net
SUMMARY:Young Men In Transition (YMIT) Meeting
DESCRIPTION:YOUNG MEN IN TRANSITION (YMIT) \nPlease join us for our next meeting on Saturday\, July 27 @ 10 AM \nShiloh Outreach Center \nAll young men age 10 and up are invited to come out and participate in this program. \nQuestions?  Please see Bro. James Manuel or Deacon Aaron Phillips. \nGod Bless\, \nPastor Daniels
URL:https://www.shilohmbc.net/event/young-men-in-transition-ymit-meeting-2/
LOCATION:Shiloh Outreach Center\, 560 West Lawson Avenue\, St. Paul\, MN\, 55117\, United States
CATEGORIES:Young Men In Transition
END:VEVENT
BEGIN:VEVENT
DTSTART;VALUE=DATE:20240721
DTEND;VALUE=DATE:20240722
DTSTAMP:20260425T142331
CREATED:20240521T175738Z
LAST-MODIFIED:20240729T132506Z
UID:15938-1721520000-1721606399@www.shilohmbc.net
SUMMARY:Birthdays of the Month Celebration
DESCRIPTION:Celebrating Shiloh Birthdays!  \nThe Birthday Club Ministry invites all Shiloh members with birthdays this month to a Birthday Celebration in the Gathering Center on the last Sunday of the month (unless otherwise indicated) after 9:30 AM Worship Service. \nPlease RSVP TODAY by signing-up in the Vestibule after service or call the Church Office @ 651-487-4092. \nFor additional information\, please see a member of Birthday Club Ministry. \nBe Blessed\, \nThe Birthday Club Ministry
URL:https://www.shilohmbc.net/event/birthday-celebration/
LOCATION:Shiloh MBC\, 501 West Lawson Avenue\, St. Paul\, MN\, 55117\, United States
CATEGORIES:Birthday
END:VEVENT
BEGIN:VEVENT
DTSTART;TZID=UTC:20240713T090000
DTEND;TZID=UTC:20240713T110000
DTSTAMP:20260425T142331
CREATED:20240521T180136Z
LAST-MODIFIED:20240521T180136Z
UID:15941-1720861200-1720868400@www.shilohmbc.net
SUMMARY:Baptism/New Member Right Hand of Fellowship
DESCRIPTION:BAPTISM/NEW MEMBER RIGHT HAND OF FELLOWSHIP\nBaptism will be held on the First Saturday of the Month (unless otherwise indicated). \n10:00 AM – Gathering Center \nCANDIDATES: PLEASE ARRIVE BY 9:00 AM \nNEW MEMBER RIGHT HAND OF FELLOWSHIP CEREMONY \nThe Right Hand of Fellowship for all new members completing their New Member Orientation classes will follow Baptism. \nPlease come out to be welcomed into the Shiloh Church Family!
URL:https://www.shilohmbc.net/event/baptism-new-member-right-hand-of-fellowship-34/
LOCATION:Shiloh MBC\, 501 West Lawson Avenue\, St. Paul\, MN\, 55117\, United States
CATEGORIES:Baptism,New Members Orientation
END:VEVENT
BEGIN:VEVENT
DTSTART;VALUE=DATE:20240713
DTEND;VALUE=DATE:20240714
DTSTAMP:20260425T142331
CREATED:20240701T123602Z
LAST-MODIFIED:20240701T123625Z
UID:16011-1720828800-1720915199@www.shilohmbc.net
SUMMARY:Good Neighbor Meal
DESCRIPTION:GOOD NEIGHBOR MEAL \n441 Rice Street\, St. Paul\, MN \nSaturday\, July 13 @ 10:00 AM to 1:00 PM \nVolunteers are needed to help set up\, serve\, and clean-up after the Good Neighbor Meal.  Volunteers\, please arrive at 9 AM and expect to stay until 1:30 PM. \nPlease see the Mission & Men Standing for Christ Ministries after service in the vestibule or call the church office to sign up to volunteer. \nCome out and help us serve our community. \nGod Bless
URL:https://www.shilohmbc.net/event/good-neighbor-meal-4/
LOCATION:Good Neighbor Center\, 441 Rice Street\, St. Paul\, MN\, 55103\, United States
CATEGORIES:Mission,MSFC
END:VEVENT
BEGIN:VEVENT
DTSTART;VALUE=DATE:20240704
DTEND;VALUE=DATE:20240705
DTSTAMP:20260425T142331
CREATED:20240521T181231Z
LAST-MODIFIED:20240521T211633Z
UID:15947-1720051200-1720137599@www.shilohmbc.net
SUMMARY:Church Office Closed - Independence Day
DESCRIPTION:CHURCH OFFICE CLOSED – Independence Day\nIn observance of the Independence Day Holiday\, \nthe Shiloh Church Office and Outreach Center will be CLOSED on Thursday\, July 4\, 2024. \nEnjoy your holiday!
URL:https://www.shilohmbc.net/event/church-office-closed-independence-day-4/
LOCATION:Shiloh MBC\, 501 West Lawson Avenue\, St. Paul\, MN\, 55117\, United States
CATEGORIES:General Church Information
END:VEVENT
BEGIN:VEVENT
DTSTART;VALUE=DATE:20240630
DTEND;VALUE=DATE:20240701
DTSTAMP:20260425T142331
CREATED:20240309T190743Z
LAST-MODIFIED:20240528T134940Z
UID:15747-1719705600-1719791999@www.shilohmbc.net
SUMMARY:Birthdays of the Month Celebration
DESCRIPTION:Celebrating Shiloh Birthdays!  \nThe Birthday Club Ministry invites all Shiloh members with birthdays this month to a Birthday Celebration in the Gathering Center on the last Sunday of the month (unless otherwise indicated) after 9:30 AM Worship Service. \nPlease RSVP TODAY by signing-up in the Vestibule after service or call the Church Office @ 651-487-4092. \nFor additional information\, please see a member of Birthday Club Ministry. \nBe Blessed\, \nThe Birthday Club Ministry
URL:https://www.shilohmbc.net/event/birthdays-of-the-month-celebration-25/
LOCATION:Shiloh MBC\, 501 West Lawson Avenue\, St. Paul\, MN\, 55117\, United States
CATEGORIES:Birthday
END:VEVENT
BEGIN:VEVENT
DTSTART;VALUE=DATE:20240623
DTEND;VALUE=DATE:20240624
DTSTAMP:20260425T142331
CREATED:20240309T204302Z
LAST-MODIFIED:20240507T125546Z
UID:15772-1719100800-1719187199@www.shilohmbc.net
SUMMARY:Higher Learning Ministry Graduate Recognition Ceremony
DESCRIPTION:HIGHER LEARNING MINISTRY GRADUATE RECOGITION CEREMONY \nThe Higher Learning Ministry will recognize all high school and college graduates on: \n Sunday\, June 23\, 2024 during 9:30 AM Worship Service \nGuest Speaker:  Dr. Stephanie Burrage\, Minnesota’s Chief Equity Officer \nALL GRADUATES: (Click here for form) should submit their:\nName\, school\, degree/certificate earned\, future plans AND a photo for the slideshow to Dr. Latanya Daniels at latanya_1913@yahoo.com by Friday\, June 7\, 2024. \nThe subject of the email should include Higher Learning Recognition 2024. \nSCHOLARSHIPS:  (Click here for form & instructions)\nWe will also award up to $6\,000 in scholarships to qualifying graduating High School seniors. \nThe qualifications/requirements include:\n1) minimally a 2.5 GPA on an official transcript\n2) three letters of recommendation\n3) the completion of a compelling essay \nAll scholarship materials should also be postmarked and received by the church office by Friday\, June 7\, 2024. \nNOTE:  ALL forms and information can be found on the Shiloh Church App and Church Website on the Higher Learning page under the Ministries tab. \nIf you have any questions regarding our annual celebration and recognition of graduates\, please see Dr. Latanya Daniels.
URL:https://www.shilohmbc.net/event/higher-learning-graduate-recognition-ceremony/
LOCATION:Shiloh MBC\, 501 West Lawson Avenue\, St. Paul\, MN\, 55117\, United States
CATEGORIES:Higher Learning
END:VEVENT
BEGIN:VEVENT
DTSTART;TZID=UTC:20240622T100000
DTEND;TZID=UTC:20240622T120000
DTSTAMP:20260425T142331
CREATED:20240515T200723Z
LAST-MODIFIED:20240516T151152Z
UID:15922-1719050400-1719057600@www.shilohmbc.net
SUMMARY:Young Men In Transition (YMIT) Meeting
DESCRIPTION:YOUNG MEN IN TRANSITION (YMIT) \nFirst meeting\, Saturday\, June 22 @ 10 AM \nShiloh Outreach Center \nAll young men 10 and up are invited to come out and participate in this program. \nGod Bless\, \nPastor Daniels
URL:https://www.shilohmbc.net/event/young-men-in-transition-ymit-meeting/
LOCATION:Shiloh Outreach Center\, 560 West Lawson Avenue\, St. Paul\, MN\, 55117\, United States
CATEGORIES:Young Men In Transition
END:VEVENT
BEGIN:VEVENT
DTSTART;VALUE=DATE:20240616
DTEND;VALUE=DATE:20240617
DTSTAMP:20260425T142331
CREATED:20240309T201006Z
LAST-MODIFIED:20240309T201006Z
UID:15770-1718496000-1718582399@www.shilohmbc.net
SUMMARY:Father's Day
DESCRIPTION:FATHER’S DAY \nSunday\, June 16\, 2024 \nHappy Father’s Day
URL:https://www.shilohmbc.net/event/fathers-day-7/
LOCATION:MN
CATEGORIES:General Church Information
END:VEVENT
BEGIN:VEVENT
DTSTART;VALUE=DATE:20240609
DTEND;VALUE=DATE:20240610
DTSTAMP:20260425T142331
CREATED:20240402T140712Z
LAST-MODIFIED:20240402T140712Z
UID:15843-1717891200-1717977599@www.shilohmbc.net
SUMMARY:Last Sunday School & New Members Class before Summer Break
DESCRIPTION:LAST SUNDAY SCHOOL & NEW MEMBERS CLASS BEFORE SUMMER BREAK \nSunday\, June 9\, 2024 \n8:40 AM – 9:15 AM \nClasses will resume in September after Labor Day. \nEnjoy your summer!
URL:https://www.shilohmbc.net/event/last-sunday-school-new-members-class-before-summer-break/
LOCATION:Shiloh MBC\, 501 West Lawson Avenue\, St. Paul\, MN\, 55117\, United States
CATEGORIES:New Members Orientation,Sunday School
END:VEVENT
BEGIN:VEVENT
DTSTART;VALUE=DATE:20240609
DTEND;VALUE=DATE:20240610
DTSTAMP:20260425T142331
CREATED:20240217T232954Z
LAST-MODIFIED:20240509T010603Z
UID:15647-1717891200-1717977599@www.shilohmbc.net
SUMMARY:26th Women of the Word Conference - Annual Women's Day
DESCRIPTION:26th WOMEN OF THE WORD CONFERENCE – Annual Women’s Day \n2024 Theme:  “The Reset” (John 4:28-29) \nDate:  Sunday\, June 9\, 2024 \nTime:  9:30 AM Worship Service \nLocation:  Shiloh Missionary Baptist Church \nAttire:  White Apparel \nAccent Color:  Coral \nAssessment:  $100 \nSpeaker:  First Lady Rosa Swift Daniels \nLadies\, please be ready to line up in the vestibule by 9:15 am. \nAll Women of Shiloh are invited and encouraged to participate in all WOW events. \nWomen of the Word…..Katina Lane-Fomby will have flowers for sale Sunday\, May 19 and Sunday\, June 2 before and immediately following morning worship service.  She will also sell them Saturday\, June 8 after the WOW Luncheon.  Cash\, Cashapp\, and Credit cards will be accepted.
URL:https://www.shilohmbc.net/event/26th-women-of-the-word-conference-annual-day/
LOCATION:Shiloh MBC\, 501 West Lawson Avenue\, St. Paul\, MN\, 55117\, United States
CATEGORIES:WOW
END:VEVENT
BEGIN:VEVENT
DTSTART;TZID=UTC:20240608T130000
DTEND;TZID=UTC:20240608T143000
DTSTAMP:20260425T142331
CREATED:20240519T012516Z
LAST-MODIFIED:20240519T013557Z
UID:15928-1717851600-1717857000@www.shilohmbc.net
SUMMARY:WOW Choir Rehearsals
DESCRIPTION:WOW CHOIR REHEARSALS \nThe Women of the Word Choir will rehearse on the following dates: \nThursday\, May 30 @ 6:00 PM \nSaturday\, June 8 immediately following the Women’s Luncheon \nAll Women of Shiloh are invited to be a part of the WOW Choir. \nQuestions?  Please see Choir Directress\, Sis. Delphanie Daniels.
URL:https://www.shilohmbc.net/event/wow-choir-rehearsals-4/
LOCATION:Shiloh MBC\, 501 West Lawson Avenue\, St. Paul\, MN\, 55117\, United States
CATEGORIES:WOW
END:VEVENT
BEGIN:VEVENT
DTSTART;TZID=UTC:20240608T110000
DTEND;TZID=UTC:20240608T130000
DTSTAMP:20260425T142331
CREATED:20240217T231534Z
LAST-MODIFIED:20240519T011614Z
UID:15643-1717844400-1717851600@www.shilohmbc.net
SUMMARY:26th Women of the Word Conference (Women's Luncheon)
DESCRIPTION:26th WOMEN OF THE WORD CONFERENCE – Women’s Luncheon \n2024 Theme:  “The Reset” (John 4:28-29) \nDate:  Saturday\, June 8\, 2024 \nTime:  11 AM \nLocation:  Shiloh Gathering Center \nSpeaker:  Rev. Tiwana Porter \nWOW Choir Rehearsal will be immediately following the Women’s Luncheon.  All Women of Shiloh all invited to be a part of the WOW Choir. \nAll Women of Shiloh are invited and encouraged to participate in all WOW events. \nWomen of the Word…..Katina Lane-Fomby will have flowers for sale Sunday\, May 19 and Sunday\, June 2 before and immediately following morning worship service.  She will also sell them Saturday\, June 8 after the WOW Luncheon.  Cash\, Cashapp\, and Credit cards will be accepted.
URL:https://www.shilohmbc.net/event/26th-annual-women-of-the-word-conference/
LOCATION:Shiloh MBC\, 501 West Lawson Avenue\, St. Paul\, MN\, 55117\, United States
CATEGORIES:WOW
END:VEVENT
BEGIN:VEVENT
DTSTART;VALUE=DATE:20240605
DTEND;VALUE=DATE:20240606
DTSTAMP:20260425T142331
CREATED:20240402T141210Z
LAST-MODIFIED:20240530T145721Z
UID:15845-1717545600-1717631999@www.shilohmbc.net
SUMMARY:Last Bible Study Before Summer Break
DESCRIPTION:LAST BIBLE STUDY & FELLOWSHIP BEFORE SUMMER BREAK \nWednesday\, June 5\, 2024 \n12 Noon & 6 PM \nBible Study will resume in September after Labor Day. \nEnjoy your summer!
URL:https://www.shilohmbc.net/event/last-bible-study-before-summer-break/
LOCATION:Shiloh MBC\, 501 West Lawson Avenue\, St. Paul\, MN\, 55117\, United States
CATEGORIES:Bible Study
END:VEVENT
BEGIN:VEVENT
DTSTART;TZID=UTC:20240601T090000
DTEND;TZID=UTC:20240601T110000
DTSTAMP:20260425T142331
CREATED:20240309T190526Z
LAST-MODIFIED:20240309T190526Z
UID:15743-1717232400-1717239600@www.shilohmbc.net
SUMMARY:Baptism/New Member Right Hand of Fellowship
DESCRIPTION:BAPTISM/NEW MEMBER RIGHT HAND OF FELLOWSHIP\nBaptism will be held on the First Saturday of the Month (unless otherwise indicated). \n10:00 AM – Gathering Center \nCANDIDATES: PLEASE ARRIVE BY 9:00 AM \nNEW MEMBER RIGHT HAND OF FELLOWSHIP CEREMONY \nThe Right Hand of Fellowship for all new members completing their New Member Orientation classes will follow Baptism. \nPlease come out to be welcomed into the Shiloh Church Family!
URL:https://www.shilohmbc.net/event/baptism-new-member-right-hand-of-fellowship-33/
LOCATION:Shiloh MBC\, 501 West Lawson Avenue\, St. Paul\, MN\, 55117\, United States
CATEGORIES:Baptism,New Members Orientation
END:VEVENT
BEGIN:VEVENT
DTSTART;TZID=UTC:20240530T180000
DTEND;TZID=UTC:20240530T200000
DTSTAMP:20260425T142331
CREATED:20240519T012418Z
LAST-MODIFIED:20240519T012418Z
UID:15926-1717092000-1717099200@www.shilohmbc.net
SUMMARY:WOW Choir Rehearsals
DESCRIPTION:WOW CHOIR REHEARSALS \nThe Women of the Word Choir will rehearse on the following dates: \nThursday\, May 30 @ 6:00 PM \nSaturday\, June 8 immediately following the Women’s Luncheon \nAll Women of Shiloh are invited to be a part of the WOW Choir. \nQuestions?  Please see Choir Directress\, Sis. Delphanie Daniels. \n 
URL:https://www.shilohmbc.net/event/wow-choir-rehearsals-3/
LOCATION:Shiloh MBC\, 501 West Lawson Avenue\, St. Paul\, MN\, 55117\, United States
CATEGORIES:WOW
END:VEVENT
BEGIN:VEVENT
DTSTART;VALUE=DATE:20240527
DTEND;VALUE=DATE:20240528
DTSTAMP:20260425T142331
CREATED:20240309T193303Z
LAST-MODIFIED:20240309T193303Z
UID:15764-1716768000-1716854399@www.shilohmbc.net
SUMMARY:Church Office Closed - Memorial Day
DESCRIPTION:CHURCH OFFICE CLOSED – MEMORIAL DAY\n\nIn observance of the Memorial Day Holiday\, the Shiloh Church Office will be: \nCLOSED on Monday\, May 27\, 2024 \nWe honor those who have given their lives in service for their country. \nWe salute you!
URL:https://www.shilohmbc.net/event/church-office-closed-memorial-day-3/
LOCATION:MN
CATEGORIES:General Church Information
END:VEVENT
BEGIN:VEVENT
DTSTART;VALUE=DATE:20240526
DTEND;VALUE=DATE:20240527
DTSTAMP:20260425T142331
CREATED:20240309T195653Z
LAST-MODIFIED:20240506T183346Z
UID:15768-1716681600-1716767999@www.shilohmbc.net
SUMMARY:57th Church Anniversary Celebration
DESCRIPTION:Join us for Shiloh’s… \n57th CHURCH ANNIVERSARY CELEBRATION \nSunday\, May 26\, 2024\n9:30 AM Worship Service \nGuest Speaker:  Rev. Derwin V. Perry\, Pastor \nGoodship Missionary Baptist Church\, Millbrook\, AL \nAssessment:  $100.00 \n(Assessment will go towards church maintenance and on-going projects\, i.e. carpet replacement.) \nThere will be NO Sunday School or New Members Classes on Anniversary Sunday.
URL:https://www.shilohmbc.net/event/57th-church-anniversary-celebration/
LOCATION:Shiloh MBC\, 501 West Lawson Avenue\, St. Paul\, MN\, 55117\, United States
CATEGORIES:Church Anniversary
END:VEVENT
BEGIN:VEVENT
DTSTART;VALUE=DATE:20240526
DTEND;VALUE=DATE:20240527
DTSTAMP:20260425T142331
CREATED:20240309T194603Z
LAST-MODIFIED:20240309T195330Z
UID:15766-1716681600-1716767999@www.shilohmbc.net
SUMMARY:NO Sunday School/New Members Class (Just 9:30 AM Worship Service)
DESCRIPTION:NO SUNDAY SCHOOL or NEW MEMBERS CLASS \nSunday\, May 26\, 2024\nOnly 9:30 AM Worship Service \nClasses will resume Sunday\, June 2\, 2024
URL:https://www.shilohmbc.net/event/no-sunday-school-new-members-class-just-930-am-worship-service/
LOCATION:Shiloh MBC\, 501 West Lawson Avenue\, St. Paul\, MN\, 55117\, United States
CATEGORIES:New Members Orientation,Sunday School
END:VEVENT
BEGIN:VEVENT
DTSTART;VALUE=DATE:20240519
DTEND;VALUE=DATE:20240520
DTSTAMP:20260425T142331
CREATED:20240309T190659Z
LAST-MODIFIED:20240528T134607Z
UID:15745-1716076800-1716163199@www.shilohmbc.net
SUMMARY:Birthdays of the Month Celebration
DESCRIPTION:Celebrating Shiloh Birthdays!  \nThe Birthday Club Ministry invites all Shiloh members with birthdays this month to a Birthday Celebration in the Gathering Center on the last Sunday of the month (unless otherwise indicated) after 9:30 AM Worship Service. \nPlease RSVP TODAY by signing-up in the Vestibule after service or call the Church Office @ 651-487-4092. \nFor additional information\, please see a member of Birthday Club Ministry. \nBe Blessed\, \nBirthday Club Ministry
URL:https://www.shilohmbc.net/event/birthdays-of-the-month-celebration-24/
LOCATION:Shiloh MBC\, 501 West Lawson Avenue\, St. Paul\, MN\, 55117\, United States
CATEGORIES:Birthday
END:VEVENT
BEGIN:VEVENT
DTSTART;VALUE=DATE:20240512
DTEND;VALUE=DATE:20240513
DTSTAMP:20260425T142331
CREATED:20240309T192818Z
LAST-MODIFIED:20240309T193103Z
UID:15762-1715472000-1715558399@www.shilohmbc.net
SUMMARY:Mother's Day
DESCRIPTION:MOTHER’S DAY \nSunday\, May 12\, 2024 \nHappy Mother’s Day!
URL:https://www.shilohmbc.net/event/mothers-day-5/
LOCATION:Shiloh MBC\, 501 West Lawson Avenue\, St. Paul\, MN\, 55117\, United States
CATEGORIES:General Church Information
END:VEVENT
BEGIN:VEVENT
DTSTART;TZID=UTC:20240511T090000
DTEND;TZID=UTC:20240511T133000
DTSTAMP:20260425T142331
CREATED:20240309T191045Z
LAST-MODIFIED:20240508T163339Z
UID:15749-1715418000-1715434200@www.shilohmbc.net
SUMMARY:Good Neighbor Meal - CANCELLED
DESCRIPTION:GOOD NEIGHBOR MEAL – CANCELLED \nAttention Shiloh Family and Friends\, \nThe Good Neighbor volunteer event\, scheduled for Saturday\, May 11\, has been CANCELLED and will be rescheduled at a later date. \nThank you to all who signed up to participate. \nWe are looking forward to our fellowship together as we serve those in need of a hot nutritional meal.
URL:https://www.shilohmbc.net/event/good-neighbor-meal-3/
LOCATION:Good Neighbor Center\, 441 Rice Street\, St. Paul\, MN\, 55103\, United States
CATEGORIES:Mission
END:VEVENT
BEGIN:VEVENT
DTSTART;VALUE=DATE:20240508
DTEND;VALUE=DATE:20240509
DTSTAMP:20260425T142331
CREATED:20240426T152333Z
LAST-MODIFIED:20240426T152333Z
UID:15889-1715126400-1715212799@www.shilohmbc.net
SUMMARY:Bible Study Returns
DESCRIPTION:BIBLE STUDY RETURNS \nBible Study will resume on Wednesday\, May 8 @ 12:00 Noon and 6:00 PM. \nCome out and study the Word of the Lord in fellowship! \nGod Bless\, \nPastor Daniels
URL:https://www.shilohmbc.net/event/bible-study-returns-4/
LOCATION:Shiloh MBC\, 501 West Lawson Avenue\, St. Paul\, MN\, 55117\, United States
CATEGORIES:Bible Study
END:VEVENT
BEGIN:VEVENT
DTSTART;TZID=UTC:20240504T090000
DTEND;TZID=UTC:20240504T110000
DTSTAMP:20260425T142331
CREATED:20240309T190416Z
LAST-MODIFIED:20240309T190416Z
UID:15741-1714813200-1714820400@www.shilohmbc.net
SUMMARY:Baptism/New Member Right Hand of Fellowship
DESCRIPTION:BAPTISM/NEW MEMBER RIGHT HAND OF FELLOWSHIP\nBaptism will be held on the First Saturday of the Month (unless otherwise indicated). \n10:00 AM – Gathering Center \nCANDIDATES: PLEASE ARRIVE BY 9:00 AM \nNEW MEMBER RIGHT HAND OF FELLOWSHIP CEREMONY \nThe Right Hand of Fellowship for all new members completing their New Member Orientation classes will follow Baptism. \nPlease come out to be welcomed into the Shiloh Church Family!
URL:https://www.shilohmbc.net/event/baptism-new-member-right-hand-of-fellowship-32/
LOCATION:Shiloh MBC\, 501 West Lawson Avenue\, St. Paul\, MN\, 55117\, United States
CATEGORIES:Baptism,New Members Orientation
END:VEVENT
BEGIN:VEVENT
DTSTART;VALUE=DATE:20240428
DTEND;VALUE=DATE:20240429
DTSTAMP:20260425T142331
CREATED:20240301T212300Z
LAST-MODIFIED:20240404T140110Z
UID:15731-1714262400-1714348799@www.shilohmbc.net
SUMMARY:Fresh Manna Series 2024
DESCRIPTION:FRESH MANNA SERIES 2024 \nSunday\, April 28 @ 9:30 AM Worship Service \nGuest Speaker: Bishop Bobby McCarter\, Sr.\, Charity Mission/Fairview\, Crawford\, MS\n————————————————————————————– \nFRESH MANNA SERIES 2024 \nEvery Thursday in April | 6 PM Prayer Hour\, 7 PM Worship Service \nThursday\, April 4          \nGuest Speaker: Pastor Smokie Norful\, Victory Cathedral\, Chicago\, IL \nLecturer: Rev. Brian McLaurin\, Shiloh MBC – Topic: “Mercy” \nThursday\, April 11  \nGuest Speaker: Pastor John Adolph\, Antioch Missionary Baptist Church\, Beaumont\, TX \nLecturer: Pastor Charles Yates\, Greater Mt. Nebo Baptist Church\, Minneapolis – Topic: “Prayer” \nThursday\, April 18          \nGuest Speaker: Bishop Paul S. Morton\, Sr.\, Full Gospel Baptist Church Fellowship\, Atlanta\, GA \nLecturer: Pastor Elijah Wright\, NuWay Baptist Church\, Minneapolis – Topic: “Faithfulness” \nThursday\, April 25 \nGuest Speaker: Bishop Brandon A. Jacobs\, Sr.\, New Zion Temple Church\, Hammond\, IN \nLecturer: Assistant Pastor Steven Daniels\, Shiloh MBC – Topic: “Healing” \nMember Assessment:  $100 \nInvite your Family & Friends and come out and be Blessed!
URL:https://www.shilohmbc.net/event/fresh-manna-series-2024-5/
LOCATION:Shiloh MBC\, 501 West Lawson Avenue\, St. Paul\, MN\, 55117\, United States
CATEGORIES:Fresh Manna Series
END:VEVENT
END:VCALENDAR