BEGIN:VCALENDAR
VERSION:2.0
PRODID:-//Shiloh Missionary Baptist Church - ECPv6.15.14//NONSGML v1.0//EN
CALSCALE:GREGORIAN
METHOD:PUBLISH
X-ORIGINAL-URL:https://www.shilohmbc.net
X-WR-CALDESC:Events for Shiloh Missionary Baptist Church
REFRESH-INTERVAL;VALUE=DURATION:PT1H
X-Robots-Tag:noindex
X-PUBLISHED-TTL:PT1H
BEGIN:VTIMEZONE
TZID:UTC
BEGIN:STANDARD
TZOFFSETFROM:+0000
TZOFFSETTO:+0000
TZNAME:UTC
DTSTART:20220101T000000
END:STANDARD
END:VTIMEZONE
BEGIN:VEVENT
DTSTART;VALUE=DATE:20230901
DTEND;VALUE=DATE:20230902
DTSTAMP:20260426T031119
CREATED:20230223T182722Z
LAST-MODIFIED:20230223T183813Z
UID:14930-1693526400-1693612799@www.shilohmbc.net
SUMMARY:PASTOR DANIELS' 72nd BIRTHDAY!
DESCRIPTION:PASTOR DANIELS’ 72nd BIRTHDAY \nFriday\, September 1\, 2023 \nHappy Birthday Pastor Daniels! \nGod Bless You!
URL:https://www.shilohmbc.net/event/pastor-daniels-72nd-birthday/
LOCATION:MN
CATEGORIES:General Church Information
END:VEVENT
BEGIN:VEVENT
DTSTART;VALUE=DATE:20230904
DTEND;VALUE=DATE:20230905
DTSTAMP:20260426T031119
CREATED:20230626T155100Z
LAST-MODIFIED:20230626T155208Z
UID:15137-1693785600-1693871999@www.shilohmbc.net
SUMMARY:Church Office Closed - Labor Day
DESCRIPTION:CHURCH OFFICE CLOSED – Labor Day\nIn observance of the Labor Day Holiday\, the Shiloh Church Office will be CLOSED on Monday\, September 4\, 2023. \nEnjoy your holiday!
URL:https://www.shilohmbc.net/event/church-office-closed-12/
LOCATION:MN
CATEGORIES:General Church Information
END:VEVENT
BEGIN:VEVENT
DTSTART;TZID=UTC:20230907T140000
DTEND;TZID=UTC:20230907T160000
DTSTAMP:20260426T031119
CREATED:20230714T153815Z
LAST-MODIFIED:20230714T153815Z
UID:15234-1694095200-1694102400@www.shilohmbc.net
SUMMARY:Shiloh "Drive-Up" Food Pantry
DESCRIPTION:SHILOH “DRIVE-UP” FOOD PANTRY \nThe Bro. James “Pops” McCain Food Pantry is now open every other Thursday! \nTime:  2:00 pm – 4:00 pm \nLocation:  Shiloh Missionary Baptist Church \nPlease drive up to the garage area on the north side of the church to receive your food basket. \nOur outreach staff is looking forward to serving you with open arms. \nEveryone is welcome! \nBe Blessed\, \nPastor Daniels
URL:https://www.shilohmbc.net/event/shiloh-drive-up-food-pantry-5/
LOCATION:Shiloh MBC\, 501 West Lawson Avenue\, St. Paul\, MN\, 55117\, United States
CATEGORIES:General Church Information
END:VEVENT
BEGIN:VEVENT
DTSTART;VALUE=DATE:20230909
DTEND;VALUE=DATE:20230910
DTSTAMP:20260426T031119
CREATED:20230221T193559Z
LAST-MODIFIED:20230221T193559Z
UID:14883-1694217600-1694303999@www.shilohmbc.net
SUMMARY:Baptism/New Member Right Hand of Fellowship
DESCRIPTION:BAPTISM/NEW MEMBER RIGHT HAND OF FELLOWSHIP\nBaptism will be held on the First Saturday of the Month (unless otherwise indicated). \n10:00 AM – Gathering Center \nCANDIDATES: PLEASE ARRIVE BY 9:00 AM \nNEW MEMBER RIGHT HAND OF FELLOWSHIP CEREMONY \nThe Right Hand of Fellowship for all new members completing their New Member Orientation classes will follow Baptism. \nPlease come out to be welcomed into the Shiloh Church Family!
URL:https://www.shilohmbc.net/event/baptism-new-member-right-hand-of-fellowship-24/
LOCATION:Shiloh MBC\, 501 West Lawson Avenue\, St. Paul\, MN\, 55117\, United States
CATEGORIES:Baptism,New Members Orientation
END:VEVENT
BEGIN:VEVENT
DTSTART;TZID=UTC:20230910T083000
DTEND;TZID=UTC:20230910T091500
DTSTAMP:20260426T031119
CREATED:20230626T185422Z
LAST-MODIFIED:20230830T151858Z
UID:15149-1694334600-1694337300@www.shilohmbc.net
SUMMARY:Sunday School/New Members Class Returns
DESCRIPTION:SUNDAY SCHOOL / NEW MEMBERS CLASS  RETURNS \nSunday\, September 10\, 2023 \n8:40 AM – 9:15 AM \nShiloh Missionary Baptist Church \nCome out and be Blessed.
URL:https://www.shilohmbc.net/event/sunday-school-new-members-class-returns-2/
LOCATION:Shiloh MBC\, 501 West Lawson Avenue\, St. Paul\, MN\, 55117\, United States
CATEGORIES:New Members Orientation,Sunday School
END:VEVENT
BEGIN:VEVENT
DTSTART;VALUE=DATE:20230913
DTEND;VALUE=DATE:20230914
DTSTAMP:20260426T031119
CREATED:20230626T183226Z
LAST-MODIFIED:20230626T183226Z
UID:15145-1694563200-1694649599@www.shilohmbc.net
SUMMARY:Bible Study Returns
DESCRIPTION:BIBLE STUDY RETURNS \nWednesday\, September 13\, 2023 \n12:00 Noon & 6:00 PM \nShiloh Missionary Baptist Church \nGathering Center \nCome out and study the Word of the Lord and Fellowship together.
URL:https://www.shilohmbc.net/event/bible-study-returns-3/
LOCATION:Shiloh MBC\, 501 West Lawson Avenue\, St. Paul\, MN\, 55117\, United States
CATEGORIES:Bible Study
END:VEVENT
BEGIN:VEVENT
DTSTART;TZID=UTC:20230915T180000
DTEND;TZID=UTC:20230915T200000
DTSTAMP:20260426T031119
CREATED:20230903T213125Z
LAST-MODIFIED:20230903T213125Z
UID:15308-1694800800-1694808000@www.shilohmbc.net
SUMMARY:Married Couples Ministry Social Gathering
DESCRIPTION:MARRIED COUPLES MINISTRY SOCIAL GATHERING \nFriday\, September 15\, 2023 @ 6 PM \nShiloh Gathering Center \nAll married couples are invited to attend. \nPlease see Deacon Michael & Deaconess Jessica Brooks at the Information Desk after service to sign up and for more details.
URL:https://www.shilohmbc.net/event/married-couples-ministry-social-gathering/
LOCATION:Shiloh MBC\, 501 West Lawson Avenue\, St. Paul\, MN\, 55117\, United States
CATEGORIES:Married Couples
END:VEVENT
BEGIN:VEVENT
DTSTART;VALUE=DATE:20230917
DTEND;VALUE=DATE:20230918
DTSTAMP:20260426T031119
CREATED:20230626T184229Z
LAST-MODIFIED:20230908T221042Z
UID:15147-1694908800-1694995199@www.shilohmbc.net
SUMMARY:32nd Pastor's Anniversary Celebration
DESCRIPTION:32nd PASTOR’S ANNIVERSARY CELEBRATION for REV. STEVE DANIELS\, JR. & MRS. ROSA SWIFT DANIELS \nSunday\, September 17\, 2023 \n9:30 AM Worship Service \nTheme:  “Rooted in the Past…Reaching Forward”\n(Philippians 3:12-15) \nGuest Speaker:  Rev. Jeffery L. Smith \nBethlehem Temple Missionary Baptist Church\, Harvey\, IL \nMember Free Will Offering \nAnniversary Colors:  Kelly Green & Orange
URL:https://www.shilohmbc.net/event/32nd-pastors-anniversary-celebration/
LOCATION:Shiloh MBC\, 501 West Lawson Avenue\, St. Paul\, MN\, 55117\, United States
CATEGORIES:Pastor's Anniversary
END:VEVENT
BEGIN:VEVENT
DTSTART;TZID=UTC:20230921T140000
DTEND;TZID=UTC:20230921T160000
DTSTAMP:20260426T031119
CREATED:20230714T153913Z
LAST-MODIFIED:20230714T153913Z
UID:15236-1695304800-1695312000@www.shilohmbc.net
SUMMARY:Shiloh "Drive-Up" Food Pantry
DESCRIPTION:SHILOH “DRIVE-UP” FOOD PANTRY \nThe Bro. James “Pops” McCain Food Pantry is now open every other Thursday! \nTime:  2:00 pm – 4:00 pm \nLocation:  Shiloh Missionary Baptist Church \nPlease drive up to the garage area on the north side of the church to receive your food basket. \nOur outreach staff is looking forward to serving you with open arms. \nEveryone is welcome! \nBe Blessed\, \nPastor Daniels
URL:https://www.shilohmbc.net/event/shiloh-drive-up-food-pantry-6/
LOCATION:Shiloh MBC\, 501 West Lawson Avenue\, St. Paul\, MN\, 55117\, United States
CATEGORIES:General Church Information
END:VEVENT
BEGIN:VEVENT
DTSTART;TZID=UTC:20230923T100000
DTEND;TZID=UTC:20230923T120000
DTSTAMP:20260426T031119
CREATED:20230903T213438Z
LAST-MODIFIED:20230903T213709Z
UID:15310-1695463200-1695470400@www.shilohmbc.net
SUMMARY:Men Standing for Christ Man Cave 4.0
DESCRIPTION:MEN STANDING FOR CHRIST MAN CAVE 4.0 \n“New Fruit\, Same Root” \nSaturday\, September 23\, 2023 @ 10:00 AM \nShiloh Gathering Center \nInviting all men of Shiloh to come out and be a part of this dynamic ministry. \nSee Deacon Michael Brooks for more information.
URL:https://www.shilohmbc.net/event/men-standing-for-christ-man-cave-4-0/
LOCATION:Shiloh MBC\, 501 West Lawson Avenue\, St. Paul\, MN\, 55117\, United States
CATEGORIES:MSFC
END:VEVENT
BEGIN:VEVENT
DTSTART;VALUE=DATE:20230924
DTEND;VALUE=DATE:20230925
DTSTAMP:20260426T031119
CREATED:20230221T190927Z
LAST-MODIFIED:20230221T190927Z
UID:14867-1695513600-1695599999@www.shilohmbc.net
SUMMARY:Birthdays of the Month Celebration
DESCRIPTION:Celebrating Shiloh Birthdays!  \nThe Birthday Club Ministry invites all Shiloh members with birthdays this month to a Birthday Celebration in the Gathering Center on the last Sunday of the month (unless otherwise indicated) after 9:30 AM Worship Service. \nPlease RSVP TODAY by signing-up in the Vestibule after service or call the Church Office @ 651-487-4092. \nFor additional information\, please see a member of Birthday Club Ministry. \nBe Blessed\, \nTrina Funches-Menifee and Michelle Seywerd
URL:https://www.shilohmbc.net/event/birthdays-of-the-month-celebration-16/
LOCATION:Shiloh MBC\, 501 West Lawson Avenue\, St. Paul\, MN\, 55117\, United States
CATEGORIES:Birthday
END:VEVENT
BEGIN:VEVENT
DTSTART;VALUE=DATE:20230924
DTEND;VALUE=DATE:20230925
DTSTAMP:20260426T031119
CREATED:20230916T204624Z
LAST-MODIFIED:20230923T183453Z
UID:15339-1695513600-1695599999@www.shilohmbc.net
SUMMARY:YAM Explosion T-Shirt Sign-Up
DESCRIPTION:YAM EXPLOSION T-SHIRT SIGN-UP \nYoung Adult Explosion 2023!\nOctober 28 – 29\, 2023 \nGet ready for the YAM Explosion and order your T-Shirts and Sweatshirts TODAY!\nOrders will be taken Sunday\, September 24 and Sunday\, October 1 ONLY! \nPrices: Tees- $15\,  Sweatshirts- $25 \nAdults and Youth sizes in both T-Shirts and Sweatshirts. \nQuestions: See Sis. Delphanie Daniels
URL:https://www.shilohmbc.net/event/yam-explosion-2023-t-shirt-sign-up/
LOCATION:Shiloh MBC\, 501 West Lawson Avenue\, St. Paul\, MN\, 55117\, United States
CATEGORIES:YAM
END:VEVENT
BEGIN:VEVENT
DTSTART;TZID=UTC:20230930T113000
DTEND;TZID=UTC:20230930T133000
DTSTAMP:20260426T031119
CREATED:20230913T152628Z
LAST-MODIFIED:20230913T153712Z
UID:15318-1696073400-1696080600@www.shilohmbc.net
SUMMARY:Youth Ministry Volunteer Event
DESCRIPTION:YOUTH MINISTRY VOLUNTEER EVENT \nThe Shiloh Youth Ministry will be volunteering at Feed My Starving Children   \nSaturday\, September 30\, 2023 \n11:30 AM to 1:15 PM \nEagan Facility \n990 Lone Oak Rd\, Suite 136 \nEagan\, MN 55121 \nAttire – closed toe shoes \nParents please bring your Youth out to this wonderful annual event!  Volunteers must be 5 years and older. \nIf you have questions\, please see Sis. Felita Barber.
URL:https://www.shilohmbc.net/event/15318/
LOCATION:Feed My Starving Children\, 990 Lone Oak Road\, Eagan\, MN\, United States
CATEGORIES:Youth
END:VEVENT
END:VCALENDAR