BEGIN:VCALENDAR
VERSION:2.0
PRODID:-//Shiloh Missionary Baptist Church - ECPv6.15.14//NONSGML v1.0//EN
CALSCALE:GREGORIAN
METHOD:PUBLISH
X-WR-CALNAME:Shiloh Missionary Baptist Church
X-ORIGINAL-URL:https://www.shilohmbc.net
X-WR-CALDESC:Events for Shiloh Missionary Baptist Church
REFRESH-INTERVAL;VALUE=DURATION:PT1H
X-Robots-Tag:noindex
X-PUBLISHED-TTL:PT1H
BEGIN:VTIMEZONE
TZID:UTC
BEGIN:STANDARD
TZOFFSETFROM:+0000
TZOFFSETTO:+0000
TZNAME:UTC
DTSTART:20220101T000000
END:STANDARD
END:VTIMEZONE
BEGIN:VEVENT
DTSTART;VALUE=DATE:20231229
DTEND;VALUE=DATE:20240102
DTSTAMP:20260425T120532
CREATED:20231130T194625Z
LAST-MODIFIED:20231130T194625Z
UID:15485-1703808000-1704153599@www.shilohmbc.net
SUMMARY:Church Office Closed - New Year's Holiday
DESCRIPTION:CHURCH OFFICE CLOSED – NEW YEAR’S HOLIDAY \nThe Shiloh Church Office will be CLOSED\nFriday\, December 29\, 2023 and Monday\, January 1\, 2024 in observance of the New Year’s Holiday. \nHappy New Year!
URL:https://www.shilohmbc.net/event/church-office-closed-new-years-holiday-5/
LOCATION:MN
CATEGORIES:General Church Information
END:VEVENT
BEGIN:VEVENT
DTSTART;VALUE=DATE:20240101
DTEND;VALUE=DATE:20240102
DTSTAMP:20260425T120532
CREATED:20231129T194145Z
LAST-MODIFIED:20231129T194309Z
UID:15474-1704067200-1704153599@www.shilohmbc.net
SUMMARY:New Year's Holiday
DESCRIPTION:NEW YEAR’S HOLIDAY \nMonday\, January 1\, 2024 \nHappy New Year! \nMay God continue to bless and protect us throughout another year.
URL:https://www.shilohmbc.net/event/new-years-holiday-3/
LOCATION:MN
CATEGORIES:General Church Information
END:VEVENT
BEGIN:VEVENT
DTSTART;VALUE=DATE:20240103
DTEND;VALUE=DATE:20240104
DTSTAMP:20260425T120532
CREATED:20231228T204749Z
LAST-MODIFIED:20231228T204749Z
UID:15511-1704240000-1704326399@www.shilohmbc.net
SUMMARY:Bible Study Cancelled
DESCRIPTION:BIBLE STUDY CANCELLED \n12 Noon and 6 PM Bible Study will be CANCELLED on Wednesday\, December 20\, 27\, and January 3\, 2024  in observance of the Christmas and New Year’s Holidays. \nBible Study will return on Wednesday\, January 10\, 2024. \nEnjoy the Holiday Season!
URL:https://www.shilohmbc.net/event/bible-study-cancelled-8/
LOCATION:Shiloh MBC\, 501 West Lawson Avenue\, St. Paul\, MN\, 55117\, United States
CATEGORIES:Bible Study
END:VEVENT
BEGIN:VEVENT
DTSTART;TZID=UTC:20240106T090000
DTEND;TZID=UTC:20240106T110000
DTSTAMP:20260425T120532
CREATED:20231228T205424Z
LAST-MODIFIED:20231228T205424Z
UID:15513-1704531600-1704538800@www.shilohmbc.net
SUMMARY:Baptism/New Member Right Hand of Fellowship
DESCRIPTION:BAPTISM/NEW MEMBER RIGHT HAND OF FELLOWSHIP\nBaptism will be held on the First Saturday of the Month (unless otherwise indicated). \n10:00 AM – Gathering Center \nCANDIDATES: PLEASE ARRIVE BY 9:00 AM \nNEW MEMBER RIGHT HAND OF FELLOWSHIP CEREMONY \nThe Right Hand of Fellowship for all new members completing their New Member Orientation classes will follow Baptism. \nPlease come out to be welcomed into the Shiloh Church Family!
URL:https://www.shilohmbc.net/event/baptism-new-member-right-hand-of-fellowship-28/
LOCATION:Shiloh MBC\, 501 West Lawson Avenue\, St. Paul\, MN\, 55117\, United States
CATEGORIES:Baptism,New Members Orientation
END:VEVENT
BEGIN:VEVENT
DTSTART;TZID=UTC:20240111T140000
DTEND;TZID=UTC:20240111T160000
DTSTAMP:20260425T120532
CREATED:20231228T205607Z
LAST-MODIFIED:20231228T205751Z
UID:15515-1704981600-1704988800@www.shilohmbc.net
SUMMARY:Shiloh "Drive-Up" Food Pantry
DESCRIPTION:SHILOH “DRIVE-UP” FOOD PANTRY \nThe Bro. James “Pops” McCain Food Pantry is now open every other Thursday! \nTime:  2:00 pm – 4:00 pm \nLocation:  Shiloh Missionary Baptist Church \nPlease drive up to the garage area on the north side of the church to receive your food basket. \nOur outreach staff is looking forward to serving you with open arms. \nEveryone is welcome! \nBe Blessed\, \nPastor Daniels
URL:https://www.shilohmbc.net/event/shiloh-drive-up-food-pantry-14/
LOCATION:Shiloh MBC\, 501 West Lawson Avenue\, St. Paul\, MN\, 55117\, United States
CATEGORIES:General Church Information
END:VEVENT
BEGIN:VEVENT
DTSTART;VALUE=DATE:20240115
DTEND;VALUE=DATE:20240116
DTSTAMP:20260425T120532
CREATED:20240103T172915Z
LAST-MODIFIED:20240103T174111Z
UID:15527-1705276800-1705363199@www.shilohmbc.net
SUMMARY:Church Office Closed - MLK Day
DESCRIPTION:CHURCH OFFICE CLOSED – MLK DAY \nIn observance of the Rev. Dr. Martin Luther King\, Jr. Holiday\, the Shiloh Church Office will be CLOSED on Monday\, January 15\, 2024. \nMake it a day of Service to others!
URL:https://www.shilohmbc.net/event/church-office-closed-mlk-day-3/
LOCATION:MN
CATEGORIES:General Church Information
END:VEVENT
BEGIN:VEVENT
DTSTART;TZID=UTC:20240125T140000
DTEND;TZID=UTC:20240125T160000
DTSTAMP:20260425T120532
CREATED:20231228T205706Z
LAST-MODIFIED:20231228T205706Z
UID:15517-1706191200-1706198400@www.shilohmbc.net
SUMMARY:Shiloh "Drive-Up" Food Pantry
DESCRIPTION:SHILOH “DRIVE-UP” FOOD PANTRY \nThe Bro. James “Pops” McCain Food Pantry is now open every other Thursday! \nTime:  2:00 pm – 4:00 pm \nLocation:  Shiloh Missionary Baptist Church \nPlease drive up to the garage area on the north side of the church to receive your food basket. \nOur outreach staff is looking forward to serving you with open arms. \nEveryone is welcome! \nBe Blessed\, \nPastor Daniels
URL:https://www.shilohmbc.net/event/shiloh-drive-up-food-pantry-15/
LOCATION:Shiloh MBC\, 501 West Lawson Avenue\, St. Paul\, MN\, 55117\, United States
CATEGORIES:General Church Information
END:VEVENT
BEGIN:VEVENT
DTSTART;VALUE=DATE:20240127
DTEND;VALUE=DATE:20240128
DTSTAMP:20260425T120532
CREATED:20231228T211304Z
LAST-MODIFIED:20240103T172632Z
UID:15521-1706313600-1706399999@www.shilohmbc.net
SUMMARY:Shiloh's Vision Weekend
DESCRIPTION:SHILOH’S VISION WEEKEND \nSaturday\, January\, 27\, 2024 \n  9 AM – Registration / Breakfast\n10 AM – Church Business Meeting / Leadership Conference \nACTION: Ministry Leaders/Members and other Shiloh Members\, PLEASE REGISTER for this event on the Church App Events tab “Shiloh’s Vision Weekend” announcement. \nPlease join us for Shiloh’s Vision Weekend! \nAgain this year\, we will bring you information\, highlights\, accomplishments and an exciting experience of what the future holds for Shiloh during this annual ministry leadership event. The Annual Church Business Meeting will also be held for members to participate. \nAll Shiloh members are welcome to attend; however\, this is a Mandatory Meeting for all Ministry leaders and Ministry members.  Leaders\, please contact the church office ONLY if you will NOT be attending. Otherwise\, please register NOW through the App. \nWe will culminate the weekend with the Installation of Officers Ceremony on Sunday\, January 28\, during 9:30 AM Worship Service. \nBlessings\,\nCreative Team
URL:https://www.shilohmbc.net/event/shilohs-vision-weekend-2/
LOCATION:Shiloh MBC\, 501 West Lawson Avenue\, St. Paul\, MN\, 55117\, United States
CATEGORIES:General Church Information,Ministry
END:VEVENT
BEGIN:VEVENT
DTSTART;VALUE=DATE:20240128
DTEND;VALUE=DATE:20240129
DTSTAMP:20260425T120532
CREATED:20231228T210003Z
LAST-MODIFIED:20240129T173723Z
UID:15519-1706400000-1706486399@www.shilohmbc.net
SUMMARY:Birthdays of the Month Celebration
DESCRIPTION:CELEBRTING SHILOH BIRTHDAYS!  \nThe Birthday Club Ministry invites all Shiloh members with birthdays this month to a BIRTHDAY CELEBRATION! \nWHEN:  The last Sunday of the month (unless otherwise announced due to holidays or other factors) \nWHERE:  Shiloh Gathering Center \nTIME:  Immediately following 9:30 AM Worship Service \nPlease RSVP TODAY by signing-up in the Vestibule after service or call the Church Office @ 651-487-4092. \nFor additional information\, please see any member of the Birthday Club Ministry. \nBe Blessed\,\nShiloh Birthday Club Ministry
URL:https://www.shilohmbc.net/event/birthdays-of-the-month-celebration-20/
LOCATION:Shiloh MBC\, 501 West Lawson Avenue\, St. Paul\, MN\, 55117\, United States
CATEGORIES:Birthday
END:VEVENT
BEGIN:VEVENT
DTSTART;VALUE=DATE:20240128
DTEND;VALUE=DATE:20240129
DTSTAMP:20260425T120532
CREATED:20231228T211841Z
LAST-MODIFIED:20231228T212109Z
UID:15523-1706400000-1706486399@www.shilohmbc.net
SUMMARY:Installation of Officers Ceremony
DESCRIPTION:INSTALLATION OF OFFICERS CEREMONY \nSunday\, January 28\, 2024 \n9:30 AM Worship Service \nWe will culminate Shiloh’s Vision Weekend with the Installation of Officers Ceremony. \nAll Ministry Leaders and Members are asked to attend to be sworn into their Ministry positions for 2024. \n 
URL:https://www.shilohmbc.net/event/installation-of-officers-ceremony-2/
LOCATION:Shiloh MBC\, 501 West Lawson Avenue\, St. Paul\, MN\, 55117\, United States
CATEGORIES:General Church Information,Ministry
END:VEVENT
END:VCALENDAR