BEGIN:VCALENDAR
VERSION:2.0
PRODID:-//Shiloh Missionary Baptist Church - ECPv6.15.14//NONSGML v1.0//EN
CALSCALE:GREGORIAN
METHOD:PUBLISH
X-ORIGINAL-URL:https://www.shilohmbc.net
X-WR-CALDESC:Events for Shiloh Missionary Baptist Church
REFRESH-INTERVAL;VALUE=DURATION:PT1H
X-Robots-Tag:noindex
X-PUBLISHED-TTL:PT1H
BEGIN:VTIMEZONE
TZID:UTC
BEGIN:STANDARD
TZOFFSETFROM:+0000
TZOFFSETTO:+0000
TZNAME:UTC
DTSTART:20230101T000000
END:STANDARD
END:VTIMEZONE
BEGIN:VEVENT
DTSTART;TZID=UTC:20240203T090000
DTEND;TZID=UTC:20240203T110000
DTSTAMP:20260425T231503
CREATED:20240103T174807Z
LAST-MODIFIED:20240103T174807Z
UID:15534-1706950800-1706958000@www.shilohmbc.net
SUMMARY:Baptism/New Member Right Hand of Fellowship
DESCRIPTION:BAPTISM/NEW MEMBER RIGHT HAND OF FELLOWSHIP\nBaptism will be held on the First Saturday of the Month (unless otherwise indicated). \n10:00 AM – Gathering Center \nCANDIDATES: PLEASE ARRIVE BY 9:00 AM \nNEW MEMBER RIGHT HAND OF FELLOWSHIP CEREMONY \nThe Right Hand of Fellowship for all new members completing their New Member Orientation classes will follow Baptism. \nPlease come out to be welcomed into the Shiloh Church Family!
URL:https://www.shilohmbc.net/event/baptism-new-member-right-hand-of-fellowship-29/
LOCATION:Shiloh MBC\, 501 West Lawson Avenue\, St. Paul\, MN\, 55117\, United States
CATEGORIES:Baptism,New Members Orientation
END:VEVENT
BEGIN:VEVENT
DTSTART;VALUE=DATE:20240204
DTEND;VALUE=DATE:20240205
DTSTAMP:20260425T231503
CREATED:20240128T230315Z
LAST-MODIFIED:20240131T231251Z
UID:15586-1707004800-1707091199@www.shilohmbc.net
SUMMARY:Black History Month Presentation
DESCRIPTION:BLACK HISTORY MONTH 2024 \nFebruary 4 – 25  \n9:30 AM Worship Service \n2024 Theme:  “The Lasting Legacy of Youth Leadership” \n“And we know that all things work together for good to them that love God\, to them who are the called according to his purpose.”  Romans 8:28 \nBlack History Month Presentations will be shared every Sunday in February by our Youth and Young Adults. \n1st Sunday: “Mansa Musa” by Quennel Cooper\, Jr. \n2nd Sunday: “Amanda Gorman” by Kennedy Roberts \n3rd Sunday: “Ida B. Wells” by Elaina Beals \nAttire: Greek/Black Organization paraphernalia \n4th Sunday\, February 25: BHM Culmination Sunday \nGuest Speaker:  Mr. Jaylen Smith\, Mayor of Earle\, AR who is also the youngest African-American Mayor in the history of the United States. \nAttire: We invite the congregation to wear your African attire \nPlease come out and support our Youth and Young Adult Ministries.
URL:https://www.shilohmbc.net/event/black-history-month-presentation-9/
LOCATION:Shiloh MBC\, 501 West Lawson Avenue\, St. Paul\, MN\, 55117\, United States
CATEGORIES:Higher Learning
END:VEVENT
BEGIN:VEVENT
DTSTART;TZID=UTC:20240208T140000
DTEND;TZID=UTC:20240208T160000
DTSTAMP:20260425T231503
CREATED:20240103T175156Z
LAST-MODIFIED:20240103T175156Z
UID:15538-1707400800-1707408000@www.shilohmbc.net
SUMMARY:Shiloh "Drive-Up" Food Pantry
DESCRIPTION:SHILOH “DRIVE-UP” FOOD PANTRY \nThe Bro. James “Pops” McCain Food Pantry is now open every other Thursday! \nTime:  2:00 pm – 4:00 pm \nLocation:  Shiloh Missionary Baptist Church \nPlease drive up to the garage area on the north side of the church to receive your food basket. \nOur outreach staff is looking forward to serving you with open arms. \nEveryone is welcome! \nBe Blessed\, \nPastor Daniels
URL:https://www.shilohmbc.net/event/shiloh-drive-up-food-pantry-16/
LOCATION:Shiloh MBC\, 501 West Lawson Avenue\, St. Paul\, MN\, 55117\, United States
CATEGORIES:General Church Information
END:VEVENT
BEGIN:VEVENT
DTSTART;VALUE=DATE:20240211
DTEND;VALUE=DATE:20240212
DTSTAMP:20260425T231503
CREATED:20240128T222000Z
LAST-MODIFIED:20240128T222000Z
UID:15582-1707609600-1707695999@www.shilohmbc.net
SUMMARY:Go Red! For Women Sunday
DESCRIPTION:FEBRUARY IS HEART HEALTH MONTH! \nShiloh will recognize… \nGO RED! FOR WOMEN SUNDAY \nSunday\, February 11\, 2024 \nDuring 9:30 AM Worship Service  \nWe encourage the entire church to Go RED! in your own fashion in support of this important movement of bringing awareness to Women’s Heart Health. \nThank you\,\nShiloh Health & Wellness Ministry
URL:https://www.shilohmbc.net/event/go-red-for-women-sunday-3/
LOCATION:Shiloh MBC\, 501 West Lawson Avenue\, St. Paul\, MN\, 55117\, United States
CATEGORIES:Health and Wellness
END:VEVENT
BEGIN:VEVENT
DTSTART;VALUE=DATE:20240211
DTEND;VALUE=DATE:20240212
DTSTAMP:20260425T231503
CREATED:20240128T230357Z
LAST-MODIFIED:20240131T231318Z
UID:15588-1707609600-1707695999@www.shilohmbc.net
SUMMARY:Black History Month Presentation
DESCRIPTION:BLACK HISTORY MONTH 2024 \nFebruary 4 – 25  \n9:30 AM Worship Service \n2024 Theme:  “The Lasting Legacy of Youth Leadership” \n“And we know that all things work together for good to them that love God\, to them who are the called according to his purpose.”  Romans 8:28 \nBlack History Month Presentations will be shared every Sunday in February by our Youth and Young Adults. \n1st Sunday: “Mansa Musa” by Quennel Cooper\, Jr. \n2nd Sunday: “Amanda Gorman” by Kennedy Roberts \n3rd Sunday: “Ida B. Wells” by Elaina Beals \nAttire: Greek/Black Organization paraphernalia \n4th Sunday\, February 25: BHM Culmination Sunday \nGuest Speaker:  Mr. Jaylen Smith\, Mayor of Earle\, AR who is also the youngest African-American Mayor in the history of the United States. \nAttire: We invite the congregation to wear your African attire \nPlease come out and support our Youth and Young Adult Ministries.
URL:https://www.shilohmbc.net/event/black-history-month-presentation-10/
LOCATION:Shiloh MBC\, 501 West Lawson Avenue\, St. Paul\, MN\, 55117\, United States
CATEGORIES:Higher Learning
END:VEVENT
BEGIN:VEVENT
DTSTART;VALUE=DATE:20240214
DTEND;VALUE=DATE:20240215
DTSTAMP:20260425T231503
CREATED:20240214T160110Z
LAST-MODIFIED:20240214T160235Z
UID:15631-1707868800-1707955199@www.shilohmbc.net
SUMMARY:Bible Study CANCELLED Today
DESCRIPTION:BIBLE STUDY CANCELLED \nBible Study is cancelled for today\, Wednesday\, February 14\, 2024 (12 Noon and 6:00 PM) and will resume next week. \nHave a blessed day!
URL:https://www.shilohmbc.net/event/bible-study-cancelled-today-3/
LOCATION:Shiloh MBC\, 501 West Lawson Avenue\, St. Paul\, MN\, 55117\, United States
CATEGORIES:Bible Study
END:VEVENT
BEGIN:VEVENT
DTSTART;TZID=UTC:20240217T110000
DTEND;TZID=UTC:20240217T130000
DTSTAMP:20260425T231503
CREATED:20240128T235825Z
LAST-MODIFIED:20240128T235825Z
UID:15594-1708167600-1708174800@www.shilohmbc.net
SUMMARY:Women of the Word Fellowship Brunch
DESCRIPTION:WOMEN OF THE WORD FELLOWSHIP BRUNCH  \nThe first WOW brunch of the new year will be held Saturday\, February 17\, 2024. \n11:00 AM – 1:00 PM \nShiloh Gathering Center \nAll Women of Shiloh are WELCOME to attend. \nQuestions?  Please see the WOW Ministry Staff.
URL:https://www.shilohmbc.net/event/women-of-the-word-fellowship-brunch-2/
LOCATION:Shiloh MBC\, 501 West Lawson Avenue\, St. Paul\, MN\, 55117\, United States
CATEGORIES:WOW
END:VEVENT
BEGIN:VEVENT
DTSTART;VALUE=DATE:20240218
DTEND;VALUE=DATE:20240219
DTSTAMP:20260425T231503
CREATED:20240103T174437Z
LAST-MODIFIED:20240212T222212Z
UID:15530-1708214400-1708300799@www.shilohmbc.net
SUMMARY:Birthdays of the Month Celebration
DESCRIPTION:CELEBRTING SHILOH BIRTHDAYS!  \nThe Birthday Club Ministry invites all Shiloh members with birthdays this month to a BIRTHDAY CELEBRATION! \nWHEN:  The last Sunday of the month (unless otherwise announced due to holidays or other factors)\nNOTE:  The February Celebration will be held on Sunday\, February 18. \nWHERE:  Shiloh Gathering Center \nTIME:  Immediately following 9:30 AM Worship Service \nPlease RSVP TODAY by signing-up in the Vestibule after service or call the Church Office @ 651-487-4092. \nFor additional information\, please see any member of the Birthday Club Ministry. \nBe Blessed\,\nShiloh Birthday Club Ministry
URL:https://www.shilohmbc.net/event/birthdays-of-the-month-celebration-21/
LOCATION:Shiloh MBC\, 501 West Lawson Avenue\, St. Paul\, MN\, 55117\, United States
CATEGORIES:Birthday
END:VEVENT
BEGIN:VEVENT
DTSTART;VALUE=DATE:20240218
DTEND;VALUE=DATE:20240219
DTSTAMP:20260425T231503
CREATED:20240128T222209Z
LAST-MODIFIED:20240128T225519Z
UID:15584-1708214400-1708300799@www.shilohmbc.net
SUMMARY:First Lady Rosa Daniels' Birthday Celebration
DESCRIPTION:HAPPY BIRTHDAY SIS. DANIELS! \nPlease join us in wishing our beloved First Lady Rosa Swift Daniels Happy Birthday!\nPlease bring your gifts and cards to show your love and affection for Sis. Daniels on \nSunday\, February 18\, 2024\nDuring 9:30 AM Worship Service \nThe Deaconess Ministry will also have cards available for you on that Sunday. \nThank you\,\nShiloh Deaconess Ministry
URL:https://www.shilohmbc.net/event/first-lady-rosa-daniels-birthday-celebration-4/
LOCATION:Shiloh MBC\, 501 West Lawson Avenue\, St. Paul\, MN\, 55117\, United States
CATEGORIES:General Church Information
END:VEVENT
BEGIN:VEVENT
DTSTART;VALUE=DATE:20240218
DTEND;VALUE=DATE:20240219
DTSTAMP:20260425T231503
CREATED:20240128T230433Z
LAST-MODIFIED:20240131T231346Z
UID:15590-1708214400-1708300799@www.shilohmbc.net
SUMMARY:Black History Month Presentation
DESCRIPTION:BLACK HISTORY MONTH 2024 \nFebruary 4 – 25  \n9:30 AM Worship Service \n2024 Theme:  “The Lasting Legacy of Youth Leadership” \n“And we know that all things work together for good to them that love God\, to them who are the called according to his purpose.”  Romans 8:28 \nBlack History Month Presentations will be shared every Sunday in February by our Youth and Young Adults. \n1st Sunday: “Mansa Musa” by Quennel Cooper\, Jr. \n2nd Sunday: “Amanda Gorman” by Kennedy Roberts \n3rd Sunday: “Ida B. Wells” by Elaina Beals \nAttire: Greek/Black Organization paraphernalia \n4th Sunday\, February 25: BHM Culmination Sunday \nGuest Speaker:  Mr. Jaylen Smith\, Mayor of Earle\, AR who is also the youngest African-American Mayor in the history of the United States. \nAttire: We invite the congregation to wear your African attire \nPlease come out and support our Youth and Young Adult Ministries.
URL:https://www.shilohmbc.net/event/black-history-month-presentation-11/
LOCATION:Shiloh MBC\, 501 West Lawson Avenue\, St. Paul\, MN\, 55117\, United States
CATEGORIES:Higher Learning
END:VEVENT
BEGIN:VEVENT
DTSTART;VALUE=DATE:20240221
DTEND;VALUE=DATE:20240222
DTSTAMP:20260425T231503
CREATED:20240128T221330Z
LAST-MODIFIED:20240128T221330Z
UID:15580-1708473600-1708559999@www.shilohmbc.net
SUMMARY:First Lady Rosa Swift Daniels' Birthday
DESCRIPTION:FIRST LADY ROSA SWIFT DANIELS’ BIRTHDAY \nHappy Birthday Sis. Daniels! \nWith Love\, \nThe Shiloh Church Family
URL:https://www.shilohmbc.net/event/first-lady-rosa-swift-daniels-birthday-3/
LOCATION:MN
CATEGORIES:General Church Information
END:VEVENT
BEGIN:VEVENT
DTSTART;TZID=UTC:20240222T140000
DTEND;TZID=UTC:20240222T160000
DTSTAMP:20260425T231503
CREATED:20240103T175250Z
LAST-MODIFIED:20240103T175250Z
UID:15540-1708610400-1708617600@www.shilohmbc.net
SUMMARY:Shiloh "Drive-Up" Food Pantry
DESCRIPTION:SHILOH “DRIVE-UP” FOOD PANTRY \nThe Bro. James “Pops” McCain Food Pantry is now open every other Thursday! \nTime:  2:00 pm – 4:00 pm \nLocation:  Shiloh Missionary Baptist Church \nPlease drive up to the garage area on the north side of the church to receive your food basket. \nOur outreach staff is looking forward to serving you with open arms. \nEveryone is welcome! \nBe Blessed\, \nPastor Daniels
URL:https://www.shilohmbc.net/event/shiloh-drive-up-food-pantry-17/
LOCATION:Shiloh MBC\, 501 West Lawson Avenue\, St. Paul\, MN\, 55117\, United States
CATEGORIES:General Church Information
END:VEVENT
BEGIN:VEVENT
DTSTART;VALUE=DATE:20240225
DTEND;VALUE=DATE:20240226
DTSTAMP:20260425T231503
CREATED:20240128T230534Z
LAST-MODIFIED:20240222T191918Z
UID:15592-1708819200-1708905599@www.shilohmbc.net
SUMMARY:Black History Month Culmination Service
DESCRIPTION:BLACK HISTORY MONTH CULMINATION SERVICE \nSunday\, February 25\, 2024 \n9:30 AM Worship Service \n2024 Theme:  “The Lasting Legacy of Youth Leadership” \nGuest Speaker:  Mr. Jaylen Smith\, Mayor of Earle\, AR \nMayor Smith is also the youngest African-American Mayor in the history of the United States. \nAttire: We invite the entire congregation to wear your African attire. \nPlease come out and support our Youth and Young Adult Ministries and Black History Month.
URL:https://www.shilohmbc.net/event/black-history-month-presentation-12/
LOCATION:Shiloh MBC\, 501 West Lawson Avenue\, St. Paul\, MN\, 55117\, United States
CATEGORIES:Higher Learning
END:VEVENT
END:VCALENDAR