BEGIN:VCALENDAR
VERSION:2.0
PRODID:-//Shiloh Missionary Baptist Church - ECPv6.15.14//NONSGML v1.0//EN
CALSCALE:GREGORIAN
METHOD:PUBLISH
X-ORIGINAL-URL:https://www.shilohmbc.net
X-WR-CALDESC:Events for Shiloh Missionary Baptist Church
REFRESH-INTERVAL;VALUE=DURATION:PT1H
X-Robots-Tag:noindex
X-PUBLISHED-TTL:PT1H
BEGIN:VTIMEZONE
TZID:UTC
BEGIN:STANDARD
TZOFFSETFROM:+0000
TZOFFSETTO:+0000
TZNAME:UTC
DTSTART:20230101T000000
END:STANDARD
END:VTIMEZONE
BEGIN:VEVENT
DTSTART;VALUE=DATE:20240901
DTEND;VALUE=DATE:20240902
DTSTAMP:20260424T163104
CREATED:20240528T141559Z
LAST-MODIFIED:20240528T141559Z
UID:15971-1725148800-1725235199@www.shilohmbc.net
SUMMARY:PASTOR DANIELS' 73RD BIRTHDAY CELEBRATION
DESCRIPTION:PASTOR DANIELS’ 73rd BIRTHDAY CELEBRATION! \nOur beloved Pastor Daniels will be celebrating his 73rd birthday TODAY\, Sunday\, September 1\, 2024. \nWe will observe his birthday during the 9:30 AM Worship Service. \nPlease bring your cards and gifts for Pastor Daniels to show your love and appreciation. \nGod Bless!
URL:https://www.shilohmbc.net/event/pastor-daniels-73rd-birthday-celebration/
LOCATION:Shiloh MBC\, 501 West Lawson Avenue\, St. Paul\, MN\, 55117\, United States
CATEGORIES:General Church Information
END:VEVENT
BEGIN:VEVENT
DTSTART;VALUE=DATE:20240902
DTEND;VALUE=DATE:20240903
DTSTAMP:20260424T163104
CREATED:20240528T135501Z
LAST-MODIFIED:20240528T141212Z
UID:15969-1725235200-1725321599@www.shilohmbc.net
SUMMARY:Church Office Closed - Labor Day
DESCRIPTION:CHURCH OFFICE CLOSED – LABOR DAY\n\nIn observance of the Labor Day Holiday\, the Shiloh Church Office will be: \nCLOSED on Monday\, September 2\, 2024. \nEnjoy your holiday!
URL:https://www.shilohmbc.net/event/church-office-closed-labor-day-4/
LOCATION:MN
CATEGORIES:General Church Information
END:VEVENT
BEGIN:VEVENT
DTSTART;TZID=UTC:20240907T090000
DTEND;TZID=UTC:20240907T110000
DTSTAMP:20260424T163104
CREATED:20240528T134519Z
LAST-MODIFIED:20240528T134519Z
UID:15958-1725699600-1725706800@www.shilohmbc.net
SUMMARY:Baptism/New Member Right Hand of Fellowship
DESCRIPTION:BAPTISM/NEW MEMBER RIGHT HAND OF FELLOWSHIP\nBaptism will be held on the First Saturday of the Month (unless otherwise indicated). \n10:00 AM – Gathering Center \nCANDIDATES: PLEASE ARRIVE BY 9:00 AM \nNEW MEMBER RIGHT HAND OF FELLOWSHIP CEREMONY \nThe Right Hand of Fellowship for all new members completing their New Member Orientation classes will follow Baptism. \nPlease come out to be welcomed into the Shiloh Church Family!
URL:https://www.shilohmbc.net/event/baptism-new-member-right-hand-of-fellowship-36/
LOCATION:Shiloh MBC\, 501 West Lawson Avenue\, St. Paul\, MN\, 55117\, United States
CATEGORIES:Baptism,New Members Orientation
END:VEVENT
BEGIN:VEVENT
DTSTART;TZID=UTC:20240908T084000
DTEND;TZID=UTC:20240908T091500
DTSTAMP:20260424T163104
CREATED:20240528T143309Z
LAST-MODIFIED:20240528T143309Z
UID:15975-1725784800-1725786900@www.shilohmbc.net
SUMMARY:Sunday School/New Members Class Returns
DESCRIPTION:SUNDAY SCHOOL / NEW MEMBERS CLASS  RETURNS \nSunday\, September 8\, 2024 \n8:40 AM – 9:15 AM \nShiloh Missionary Baptist Church \nCome out and be Blessed.
URL:https://www.shilohmbc.net/event/sunday-school-new-members-class-returns-3/
LOCATION:Shiloh MBC\, 501 West Lawson Avenue\, St. Paul\, MN\, 55117\, United States
CATEGORIES:New Members Orientation,Sunday School
END:VEVENT
BEGIN:VEVENT
DTSTART;VALUE=DATE:20240911
DTEND;VALUE=DATE:20240912
DTSTAMP:20260424T163104
CREATED:20240528T143738Z
LAST-MODIFIED:20240528T143900Z
UID:15977-1726012800-1726099199@www.shilohmbc.net
SUMMARY:Bible Study Returns
DESCRIPTION:BIBLE STUDY RETURNS \nWednesday\, September 11\, 2024 \n12:00 Noon & 6:00 PM \nShiloh Missionary Baptist Church \nGathering Center \nCome out and study the Word of the Lord and Fellowship together.
URL:https://www.shilohmbc.net/event/bible-study-returns-5/
LOCATION:Shiloh MBC\, 501 West Lawson Avenue\, St. Paul\, MN\, 55117\, United States
CATEGORIES:Bible Study
END:VEVENT
BEGIN:VEVENT
DTSTART;VALUE=DATE:20240915
DTEND;VALUE=DATE:20240916
DTSTAMP:20260424T163104
CREATED:20240528T144341Z
LAST-MODIFIED:20240828T190744Z
UID:15979-1726358400-1726444799@www.shilohmbc.net
SUMMARY:33rd Pastor's Anniversary Celebration
DESCRIPTION:33rd PASTOR’S ANNIVERARY CELEBRATION \nRev. Dr. Steve Daniels\, Jr. & Mrs. Rosa Swift Daniels \nSunday\, September 15\, 2024 \n9:30 AM Worship Service \nGuest Speaker:  Rev. Dr. Vernon Swift \nElizabeth Baptist Church\, Tuscaloosa\, AL \nSpecial Musical Guest: \nGospel Recording Artist\, Melvin Williams \nWe thank you for all your blessed service to the Shiloh Church Family for 33 years!
URL:https://www.shilohmbc.net/event/33rd-pastors-anniversary-celebration/
LOCATION:Shiloh MBC\, 501 West Lawson Avenue\, St. Paul\, MN\, 55117\, United States
CATEGORIES:Pastor's Anniversary
END:VEVENT
BEGIN:VEVENT
DTSTART;VALUE=DATE:20240929
DTEND;VALUE=DATE:20240930
DTSTAMP:20260424T163104
CREATED:20240528T135218Z
LAST-MODIFIED:20240528T135218Z
UID:15967-1727568000-1727654399@www.shilohmbc.net
SUMMARY:Birthdays of the Month Celebration
DESCRIPTION:Celebrating Shiloh Birthdays!  \nThe Birthday Club Ministry invites all Shiloh members with birthdays this month to a Birthday Celebration in the Gathering Center on the last Sunday of the month (unless otherwise indicated) after 9:30 AM Worship Service. \nPlease RSVP TODAY by signing-up in the Vestibule after service or call the Church Office @ 651-487-4092. \nFor additional information\, please see a member of Birthday Club Ministry. \nBe Blessed\, \nThe Birthday Club Ministry
URL:https://www.shilohmbc.net/event/birthdays-of-the-month-celebration-27/
LOCATION:Shiloh MBC\, 501 West Lawson Avenue\, St. Paul\, MN\, 55117\, United States
CATEGORIES:Birthday
END:VEVENT
END:VCALENDAR