BEGIN:VCALENDAR
VERSION:2.0
PRODID:-//Shiloh Missionary Baptist Church - ECPv6.15.14//NONSGML v1.0//EN
CALSCALE:GREGORIAN
METHOD:PUBLISH
X-ORIGINAL-URL:https://www.shilohmbc.net
X-WR-CALDESC:Events for Shiloh Missionary Baptist Church
REFRESH-INTERVAL;VALUE=DURATION:PT1H
X-Robots-Tag:noindex
X-PUBLISHED-TTL:PT1H
BEGIN:VTIMEZONE
TZID:UTC
BEGIN:STANDARD
TZOFFSETFROM:+0000
TZOFFSETTO:+0000
TZNAME:UTC
DTSTART:20240101T000000
END:STANDARD
END:VTIMEZONE
BEGIN:VEVENT
DTSTART;TZID=UTC:20250503T090000
DTEND;TZID=UTC:20250503T110000
DTSTAMP:20260424T050000
CREATED:20250410T160932Z
LAST-MODIFIED:20250410T160932Z
UID:16523-1746262800-1746270000@www.shilohmbc.net
SUMMARY:Baptism/New Member Right Hand of Fellowship
DESCRIPTION:BAPTISM/NEW MEMBER RIGHT HAND OF FELLOWSHIP\nBaptism will be held on the First Saturday of the Month (unless otherwise indicated). \n10:00 AM – Gathering Center \nCANDIDATES: PLEASE ARRIVE BY 9:00 AM \nNEW MEMBER RIGHT HAND OF FELLOWSHIP CEREMONY \nThe Right Hand of Fellowship for all new members completing their New Member Orientation classes will follow Baptism. \nPlease come out to be welcomed into the Shiloh Church Family!
URL:https://www.shilohmbc.net/event/baptism-new-member-right-hand-of-fellowship-44/
LOCATION:Shiloh MBC\, 501 West Lawson Avenue\, St. Paul\, MN\, 55117\, United States
CATEGORIES:Baptism,New Members Orientation
END:VEVENT
BEGIN:VEVENT
DTSTART;VALUE=DATE:20250511
DTEND;VALUE=DATE:20250512
DTSTAMP:20260424T050000
CREATED:20250410T175750Z
LAST-MODIFIED:20250410T180347Z
UID:16534-1746921600-1747007999@www.shilohmbc.net
SUMMARY:Mother's Day Celebration
DESCRIPTION:MOTHERS DAY CELEBRATION \nSunday\, May 11\, 2025 \nHappy Mother’s Day!
URL:https://www.shilohmbc.net/event/mothers-day-celebration/
LOCATION:MN
CATEGORIES:General Church Information
END:VEVENT
BEGIN:VEVENT
DTSTART;VALUE=DATE:20250518
DTEND;VALUE=DATE:20250519
DTSTAMP:20260424T050000
CREATED:20250410T155225Z
LAST-MODIFIED:20250505T182545Z
UID:16517-1747526400-1747612799@www.shilohmbc.net
SUMMARY:Birthdays of the Month Celebration
DESCRIPTION:Celebrating Shiloh Birthdays!  \nThe Birthday Club Ministry invites all Shiloh members with birthdays this month to a Birthday Celebration in the Gathering Center on the last Sunday of the month (unless otherwise indicated) after 9:30 AM Worship Service. \nPlease RSVP TODAY by signing-up in the Vestibule after service or call the Church Office @ 651-487-4092. \nFor additional information\, please see a member of Birthday Club Ministry. \nBe Blessed\, \nThe Birthday Club Ministry
URL:https://www.shilohmbc.net/event/birthdays-of-the-month-celebration-34/
LOCATION:Shiloh MBC\, 501 West Lawson Avenue\, St. Paul\, MN\, 55117\, United States
CATEGORIES:Birthday
END:VEVENT
BEGIN:VEVENT
DTSTART;TZID=UTC:20250524T100000
DTEND;TZID=UTC:20250524T120000
DTSTAMP:20260424T050000
CREATED:20250512T224617Z
LAST-MODIFIED:20250512T224748Z
UID:16623-1748080800-1748088000@www.shilohmbc.net
SUMMARY:Young Men In Transition Gym Event
DESCRIPTION:YOUNG MEN IN TRANSITION GYM EVENT \nSaturday\, May 24\, 2025 \n10:00 AM – 12:00 PM \nRiverEast Elementary & Secondary \n1055 Mackubin Street\, \nSt Paul\, MN 55117\n \nAll Young Men of Shiloh are encouraged and invited to attend.
URL:https://www.shilohmbc.net/event/young-men-in-transition-gym-event/
LOCATION:RiverEast Elementary & Secondary\, 1055 Mackubin St\, St. Paul\, MN\, 55117\, United States
CATEGORIES:Young Men In Transition
END:VEVENT
BEGIN:VEVENT
DTSTART;VALUE=DATE:20250525
DTEND;VALUE=DATE:20250526
DTSTAMP:20260424T050000
CREATED:20250410T180625Z
LAST-MODIFIED:20250410T180725Z
UID:16536-1748131200-1748217599@www.shilohmbc.net
SUMMARY:No Sunday School or New Members Class TODAY
DESCRIPTION:NO SUNDAY SCHOOL or NEW MEMBERS CLASS \nSunday\, May 25\, 2025 \nOnly 9:30 AM Worship Service \nClasses will resume Sunday\, June 1\, 2025
URL:https://www.shilohmbc.net/event/no-sunday-school-or-new-members-class-today/
LOCATION:Shiloh MBC\, 501 West Lawson Avenue\, St. Paul\, MN\, 55117\, United States
CATEGORIES:New Members Orientation,Sunday School
END:VEVENT
BEGIN:VEVENT
DTSTART;VALUE=DATE:20250525
DTEND;VALUE=DATE:20250526
DTSTAMP:20260424T050000
CREATED:20250410T182947Z
LAST-MODIFIED:20250410T183618Z
UID:16540-1748131200-1748217599@www.shilohmbc.net
SUMMARY:58th Church Anniversary Celebration
DESCRIPTION:58th CHURCH ANNIVERSARY CELEBRATION \nSunday\, May 25\, 2025 \n9:30 AM Worship Service \nGuest Speaker:  Rev. Melvin Lewis\, Rising Star Baptist Church\, Tupelo\, MS \nMember Assessment:  $100.00 \nThere will be NO Sunday School or New Members Classes on Anniversary Sunday.
URL:https://www.shilohmbc.net/event/58th-church-anniversary-celebration/
LOCATION:Shiloh MBC\, 501 West Lawson Avenue\, St. Paul\, MN\, 55117\, United States
CATEGORIES:Church Anniversary
END:VEVENT
BEGIN:VEVENT
DTSTART;VALUE=DATE:20250526
DTEND;VALUE=DATE:20250527
DTSTAMP:20260424T050000
CREATED:20250410T180859Z
LAST-MODIFIED:20250410T181240Z
UID:16538-1748217600-1748303999@www.shilohmbc.net
SUMMARY:Church Office Closed - Memorial Day
DESCRIPTION:CHURCH OFFICE CLOSED – MEMORIAL DAY\n\nIn observance of the Memorial Day Holiday\, the Shiloh Church Office will be: \nCLOSED on Monday\, May 26\, 2025 \nWe honor those who have given their lives in service for their country. \nWe salute you!
URL:https://www.shilohmbc.net/event/church-office-closed-memorial-day-4/
LOCATION:MN
CATEGORIES:General Church Information
END:VEVENT
BEGIN:VEVENT
DTSTART;TZID=UTC:20250527T180000
DTEND;TZID=UTC:20250527T193000
DTSTAMP:20260424T050000
CREATED:20250512T204550Z
LAST-MODIFIED:20250512T204757Z
UID:16608-1748368800-1748374200@www.shilohmbc.net
SUMMARY:WOW Choir Rehearsals
DESCRIPTION:WOW CHOIR REHEARSALS \nThe Women of the Word Choir will rehearse on the following dates: \nTuesday\, May 27\, 2025 @ 6:00 PM \nSaturday\, June 7  immediately following the Women’s Luncheon \nAll Women of Shiloh are invited to be a part of the WOW Choir. \nQuestions?  Please see Choir Directress\, Sis. Delphanie Daniels.
URL:https://www.shilohmbc.net/event/wow-choir-rehearsals-5/
LOCATION:Shiloh MBC\, 501 West Lawson Avenue\, St. Paul\, MN\, 55117\, United States
CATEGORIES:WOW
END:VEVENT
BEGIN:VEVENT
DTSTART;VALUE=DATE:20250531
DTEND;VALUE=DATE:20250601
DTSTAMP:20260424T050000
CREATED:20250410T154955Z
LAST-MODIFIED:20250410T174319Z
UID:16515-1748649600-1748735999@www.shilohmbc.net
SUMMARY:Higher Learning Graduate Information DEADLINE
DESCRIPTION:HIGHER LEARNING GRADUATE INFORMATION \nALL GRADUATES: Please submit your name\, school\, degree/certificate earned\, future plans AND a photo for the slideshow by Saturday\, May 31\, 2025.   Click here for form \nSCHOLARSHIPS:  We will also award up to $15\,000 in scholarships to qualifying graduating High School seniors.  Qualifications & requirements include: an ACTIVE member of Shiloh\, post graduate acceptance letter\, minimum 2.5 GPA on an official transcript; three letters of recommendation; and completion of a compelling essay.  All scholarship requirements and essay questions are on the Shiloh App.  All scholarship materials must also be received by Saturday\, May 31\, 2025 to be eligible for an award.    Click here for form \nPLEASE NOTE:  This year ALL Graduate Information and Scholarship Applications will be submitted and accepted ONLY through the two ONLINE FORMS on the Shiloh Ministry One App.  One form for ALL graduates to fill out for the recognition ceremony and one form for the scholarship applicants.  If you have not done so already\, please download the Ministry One App TODAY! \nAny late or incomplete submissions WILL NOT be included in the Graduate Recognition Ceremony on Sunday\, June 22\, 2025 during 9:30 AM Worship Service. \nQuestions\, please see Dr. Latanya Daniels.
URL:https://www.shilohmbc.net/event/higher-learning-graduate-information-deadline/
LOCATION:MN
CATEGORIES:Higher Learning
END:VEVENT
BEGIN:VEVENT
DTSTART;TZID=UTC:20250531T090000
DTEND;TZID=UTC:20250531T110000
DTSTAMP:20260424T050000
CREATED:20250410T161025Z
LAST-MODIFIED:20250512T211208Z
UID:16525-1748682000-1748689200@www.shilohmbc.net
SUMMARY:Baptism/New Member Right Hand of Fellowship
DESCRIPTION:BAPTISM/NEW MEMBER RIGHT HAND OF FELLOWSHIP\nBaptism will be held on the First Saturday of the Month (unless otherwise indicated). \n10:00 AM – Gathering Center \nCANDIDATES: PLEASE ARRIVE BY 9:00 AM \nNEW MEMBER RIGHT HAND OF FELLOWSHIP CEREMONY \nThe Right Hand of Fellowship for all new members completing their New Member Orientation classes will follow Baptism. \nPlease come out to be welcomed into the Shiloh Church Family!
URL:https://www.shilohmbc.net/event/baptism-new-member-right-hand-of-fellowship-45/
LOCATION:Shiloh MBC\, 501 West Lawson Avenue\, St. Paul\, MN\, 55117\, United States
CATEGORIES:Baptism,New Members Orientation
END:VEVENT
END:VCALENDAR