BEGIN:VCALENDAR
VERSION:2.0
PRODID:-//Shiloh Missionary Baptist Church - ECPv6.15.14//NONSGML v1.0//EN
CALSCALE:GREGORIAN
METHOD:PUBLISH
X-WR-CALNAME:Shiloh Missionary Baptist Church
X-ORIGINAL-URL:https://www.shilohmbc.net
X-WR-CALDESC:Events for Shiloh Missionary Baptist Church
REFRESH-INTERVAL;VALUE=DURATION:PT1H
X-Robots-Tag:noindex
X-PUBLISHED-TTL:PT1H
BEGIN:VTIMEZONE
TZID:UTC
BEGIN:STANDARD
TZOFFSETFROM:+0000
TZOFFSETTO:+0000
TZNAME:UTC
DTSTART:20240101T000000
END:STANDARD
END:VTIMEZONE
BEGIN:VEVENT
DTSTART;VALUE=DATE:20250901
DTEND;VALUE=DATE:20250902
DTSTAMP:20260423T201850
CREATED:20250804T162900Z
LAST-MODIFIED:20250804T162900Z
UID:16750-1756684800-1756771199@www.shilohmbc.net
SUMMARY:Pastor Daniels' 74 Birthday!
DESCRIPTION:PASTOR DANIELS’ 74th BIRTHDAY! \nMonday\, September 1\, 2025 \nHappy Birthday Pastor Daniels! \nGod Bless You!
URL:https://www.shilohmbc.net/event/pastor-daniels-74-birthday/
LOCATION:MN
CATEGORIES:General Church Information
END:VEVENT
BEGIN:VEVENT
DTSTART;VALUE=DATE:20250901
DTEND;VALUE=DATE:20250902
DTSTAMP:20260423T201850
CREATED:20250804T180206Z
LAST-MODIFIED:20250804T180302Z
UID:16758-1756684800-1756771199@www.shilohmbc.net
SUMMARY:Church Office Closed - Labor Day
DESCRIPTION:CHURCH OFFICE CLOSED – LABOR DAY\n\nIn observance of the Labor Day Holiday\, the Shiloh Church Office will be: \nCLOSED on Monday\, September 1\, 2025. \nEnjoy your holiday!
URL:https://www.shilohmbc.net/event/church-office-closed-labor-day-5/
LOCATION:MN
CATEGORIES:General Church Information
END:VEVENT
BEGIN:VEVENT
DTSTART;TZID=UTC:20250906T090000
DTEND;TZID=UTC:20250906T100000
DTSTAMP:20260423T201850
CREATED:20250901T185711Z
LAST-MODIFIED:20250901T185759Z
UID:16804-1757149200-1757152800@www.shilohmbc.net
SUMMARY:Virtual Sunday School Resumes
DESCRIPTION:VIRTUAL SUNDAY SCHOOL \nShiloh’s Virtual Sunday School will resume Saturday\, September 6\, 2025 @ 9:00 AM (CST). \nSessions will continue online every other Saturday via Zoom. \nOur virtual Sunday School leaders\, Deacon Lee and Sis. Lucile Mixson\, are excited to share this faith-filled content with you and your families online over the coming months. \nAnd guess what?  You don’t have to be a Virtual Member to join in\, as Virtual Sunday School is open to all! \nSo\, join us online starting Saturday\, September 6\, 2025 @ 9:00 AM (CST). \nFor your convenience\, the Virtual Sunday School Zoom link is available on the Shiloh Website & Ministry One App. \n\nTopic:   Shiloh MBC Virtual Sunday School\nTime:    9:00 AM (CST) \n\n\nWhen:  Every other Saturday starting September 6\, 2025 \n\n\nJoin Zoom Meeting:\nhttps://us06web.zoom.us/j/85411363826?pwd=4QbS4EFP6Kf2yRVbJ1TLzx6na8v9iw.1 \n\n\n  \nNOTE: If link doesn’t work\, open your Zoom app and enter the meeting ID and Passcode below: \n\n\nMeeting ID:  854 1136 3826\nPasscode:  647139 \n\n\n—\nOne tap mobile\n+16469313860\,\,85411363826#\,\,\,\,*647139# US\n+19292056099\,\,85411363826#\,\,\,\,*647139# US (New York)—\nDial by your location\n• +1 646 931 3860 US\n• +1 929 205 6099 US (New York)\n• +1 301 715 8592 US (Washington DC)\n• +1 305 224 1968 US\n• +1 309 205 3325 US\n• +1 312 626 6799 US (Chicago)\n• +1 360 209 5623 US\n• +1 386 347 5053 US\n• +1 507 473 4847 US\n• +1 564 217 2000 US\n• +1 669 444 9171 US\n• +1 669 900 6833 US (San Jose)\n• +1 689 278 1000 US\n• +1 719 359 4580 US\n• +1 253 205 0468 US\n• +1 253 215 8782 US (Tacoma)\n• +1 346 248 7799 US (Houston)Meeting ID: 854 1136 3826\nPasscode: 647139 \nFind your local number: https://us06web.zoom.us/u/keGCXejvPB
URL:https://www.shilohmbc.net/event/virtual-sunday-school-resumes/
LOCATION:MN
CATEGORIES:Sunday School
END:VEVENT
BEGIN:VEVENT
DTSTART;TZID=UTC:20250906T090000
DTEND;TZID=UTC:20250906T110000
DTSTAMP:20260423T201850
CREATED:20250804T191910Z
LAST-MODIFIED:20250804T191910Z
UID:16760-1757149200-1757156400@www.shilohmbc.net
SUMMARY:Baptism/New Member Right Hand of Fellowship
DESCRIPTION:BAPTISM/NEW MEMBER RIGHT HAND OF FELLOWSHIP\nBaptism will be held on the First Saturday of the Month (unless otherwise indicated). \n10:00 AM – Gathering Center \nCANDIDATES: PLEASE ARRIVE BY 9:00 AM \nNEW MEMBER RIGHT HAND OF FELLOWSHIP CEREMONY \nThe Right Hand of Fellowship for all new members completing their New Member Orientation classes will follow Baptism. \nPlease come out to be welcomed into the Shiloh Church Family!
URL:https://www.shilohmbc.net/event/baptism-new-member-right-hand-of-fellowship-48/
LOCATION:Shiloh MBC\, 501 West Lawson Avenue\, St. Paul\, MN\, 55117\, United States
CATEGORIES:Baptism,New Members Orientation
END:VEVENT
BEGIN:VEVENT
DTSTART;TZID=UTC:20250907T083000
DTEND;TZID=UTC:20250907T091500
DTSTAMP:20260423T201850
CREATED:20250804T193510Z
LAST-MODIFIED:20250804T193510Z
UID:16778-1757233800-1757236500@www.shilohmbc.net
SUMMARY:Sunday School / New Members Class Returns
DESCRIPTION:SUNDAY SCHOOL / NEW MEMBERS CLASS  RETURNS \nSunday\, September 7\, 2025 \n8:40 AM – 9:15 AM \nShiloh Missionary Baptist Church \nCome out and be Blessed.
URL:https://www.shilohmbc.net/event/sunday-school-new-members-class-returns-5/
LOCATION:Shiloh MBC\, 501 West Lawson Avenue\, St. Paul\, MN\, 55117\, United States
CATEGORIES:New Members Orientation,Sunday School
END:VEVENT
BEGIN:VEVENT
DTSTART;VALUE=DATE:20250910
DTEND;VALUE=DATE:20250911
DTSTAMP:20260423T201850
CREATED:20250804T193945Z
LAST-MODIFIED:20250804T193945Z
UID:16780-1757462400-1757548799@www.shilohmbc.net
SUMMARY:Bible Study Returns
DESCRIPTION:BIBLE STUDY RETURNS \nWednesday\, September 10\, 2025 \n12:00 Noon (In-Person) & 6:00 PM (Online) \nShiloh Missionary Baptist Church \nGathering Center \nCome out and study the Word of the Lord and Fellowship together.
URL:https://www.shilohmbc.net/event/bible-study-returns-7/
LOCATION:Shiloh MBC\, 501 West Lawson Avenue\, St. Paul\, MN\, 55117\, United States
CATEGORIES:Bible Study
END:VEVENT
BEGIN:VEVENT
DTSTART;VALUE=DATE:20250921
DTEND;VALUE=DATE:20250922
DTSTAMP:20260423T201850
CREATED:20250804T200129Z
LAST-MODIFIED:20250907T182800Z
UID:16782-1758412800-1758499199@www.shilohmbc.net
SUMMARY:Pastor & First Lady's 34th Pastoral Anniversary Celebration
DESCRIPTION:PASTOR & FIRST LADY’S 34TH PASTORAL ANNIVERARY CELEBRATION \nRev. Dr. Steve Daniels\, Jr. & Mrs. Rosa Swift Daniels \nSunday\, September 21\, 2025 \n9:30 AM Worship Service \nGuest Speaker:  Rev. Anthony L. Grier \nTrue Spirit Baptist Church\, Colorado Springs\, CO \nAssessment:  $134.00 \nWe thank you both for all your blessed service to the Shiloh Church Family for 34 years!
URL:https://www.shilohmbc.net/event/34th-pastors-anniversary-celebration/
LOCATION:Shiloh MBC\, 501 West Lawson Avenue\, St. Paul\, MN\, 55117\, United States
CATEGORIES:Pastor's Anniversary
END:VEVENT
BEGIN:VEVENT
DTSTART;TZID=UTC:20250927T090000
DTEND;TZID=UTC:20250927T133000
DTSTAMP:20260423T201850
CREATED:20250918T201909Z
LAST-MODIFIED:20250918T201909Z
UID:16845-1758963600-1758979800@www.shilohmbc.net
SUMMARY:Good Neighbor Meal
DESCRIPTION:GOOD NEIGHBOR MEAL \n441 Rice Street\, St. Paul\, MN \nSaturday\, September 27 @ 10 AM to 1 PM \nVolunteers are needed to help set up\, serve\, and clean-up after the Good Neighbor Meal. \nVolunteers\, please arrive at 9 AM and expect to stay until 1:30 PM. \nPlease see the Men Standing for Christ Ministry after service in the vestibule TODAY to sign up to volunteer. \nCome out and help us serve our community!
URL:https://www.shilohmbc.net/event/good-neighbor-meal-5/
LOCATION:Good Neighbor Center\, 441 Rice Street\, St. Paul\, MN\, 55103\, United States
CATEGORIES:MSFC
END:VEVENT
BEGIN:VEVENT
DTSTART;VALUE=DATE:20250928
DTEND;VALUE=DATE:20250929
DTSTAMP:20260423T201850
CREATED:20250804T192809Z
LAST-MODIFIED:20250804T192809Z
UID:16770-1759017600-1759103999@www.shilohmbc.net
SUMMARY:Birthdays of the Month Celebration
DESCRIPTION:Celebrating Shiloh Birthdays!  \nThe Birthday Club Ministry invites all Shiloh members with birthdays this month to a Birthday Celebration in the Gathering Center on the last Sunday of the month (unless otherwise indicated) after 9:30 AM Worship Service. \nPlease RSVP TODAY by signing-up in the Vestibule after service or call the Church Office @ 651-487-4092. \nFor additional information\, please see a member of Birthday Club Ministry. \nBe Blessed\, \nThe Birthday Club Ministry
URL:https://www.shilohmbc.net/event/birthdays-of-the-month-celebration-38/
LOCATION:Shiloh MBC\, 501 West Lawson Avenue\, St. Paul\, MN\, 55117\, United States
CATEGORIES:Birthday
END:VEVENT
END:VCALENDAR