BEGIN:VCALENDAR
VERSION:2.0
PRODID:-//Shiloh Missionary Baptist Church - ECPv6.15.14//NONSGML v1.0//EN
CALSCALE:GREGORIAN
METHOD:PUBLISH
X-ORIGINAL-URL:https://www.shilohmbc.net
X-WR-CALDESC:Events for Shiloh Missionary Baptist Church
REFRESH-INTERVAL;VALUE=DURATION:PT1H
X-Robots-Tag:noindex
X-PUBLISHED-TTL:PT1H
BEGIN:VTIMEZONE
TZID:UTC
BEGIN:STANDARD
TZOFFSETFROM:+0000
TZOFFSETTO:+0000
TZNAME:UTC
DTSTART:20250101T000000
END:STANDARD
END:VTIMEZONE
BEGIN:VEVENT
DTSTART;VALUE=DATE:20260201
DTEND;VALUE=DATE:20260202
DTSTAMP:20260423T111327
CREATED:20260122T003546Z
LAST-MODIFIED:20260122T003546Z
UID:17039-1769904000-1769990399@www.shilohmbc.net
SUMMARY:Black History Month 2026 "Black Renaissance"
DESCRIPTION:BLACK HISTORY MONTH 2026 “Black Renaissance” \nFebruary 1 – 22\, 2026 \n9:30 AM Worship Service \nBlack History Month presentations will be shared with the congregation every Sunday in February by our Youth and Young Adult Ministries. \n1st Sunday: “Richard Smallwood” by Carlton Wells\, Jr. \nAttire:  Normal/African \n2nd Sunday: “Shonda Rhimes” by Oliviah-Nikole Cook \nAttire:  Go Red! Sunday \n3rd Sunday: “W.E.B. Dubois” by Hudson Jean \nAttire: Greek/Black Organization paraphernalia \n4th Sunday: “Black Hair\, Black Culture” by Briana Moore \nAttire: We invite the entire congregation to wear your African attire on culmination Sunday. \nPlease come out and support our Youth and Young Adults as we honor and recognize those African Americans who have been a part of the BLACK RENAISSANCE.
URL:https://www.shilohmbc.net/event/black-history-month-2026-black-renaissance/
LOCATION:Shiloh MBC\, 501 West Lawson Avenue\, St. Paul\, MN\, 55117\, United States
CATEGORIES:General Church Information
END:VEVENT
BEGIN:VEVENT
DTSTART;TZID=UTC:20260206T190000
DTEND;TZID=UTC:20260206T210000
DTSTAMP:20260423T111327
CREATED:20260110T181502Z
LAST-MODIFIED:20260118T025752Z
UID:17025-1770404400-1770411600@www.shilohmbc.net
SUMMARY:Jovonta Patton "HALLELUJAH" Album Release Concert
DESCRIPTION:Jovonta Patton “HALLELUJAH” Album Release Concert \nGreetings Shiloh Family and Friends\, \nGet ready to vibe live with Jovonta Patton and special guests\, as he drops his new album “Hallelujah” – don’t miss this epic concert! \nDate:  Friday\, February 6\, 2026 \nTime:  7 PM to 9 PM (CST) (Doors Open @ 6:30 PM) \nLocation:  Shiloh Missionary Baptist Church\n501 Lawson Avenue West\nSaint Paul\, MN 55117 \nThis is a FREE CONCERT; however\, tickets are required. \nClick this link for tickets: https://www.eventbrite.com/e/jovonta-patton-cd-release-concert-hallelujah-tickets-1978369073154 \nCome out and be blessed!
URL:https://www.shilohmbc.net/event/jovonta-patton-hallelujah-album-release-concert/
LOCATION:Shiloh MBC\, 501 West Lawson Avenue\, St. Paul\, MN\, 55117\, United States
CATEGORIES:General Church Information
END:VEVENT
BEGIN:VEVENT
DTSTART;TZID=UTC:20260207T090000
DTEND;TZID=UTC:20260207T110000
DTSTAMP:20260423T111327
CREATED:20260107T204104Z
LAST-MODIFIED:20260107T204104Z
UID:17021-1770454800-1770462000@www.shilohmbc.net
SUMMARY:Baptism/New Member Right Hand of Fellowship
DESCRIPTION:BAPTISM/NEW MEMBER RIGHT HAND OF FELLOWSHIP\nBaptism will be held on the First Saturday of the Month (unless otherwise indicated). \n10:00 AM – Gathering Center \nCANDIDATES: PLEASE ARRIVE BY 9:00 AM \nNEW MEMBER RIGHT HAND OF FELLOWSHIP CEREMONY \nThe Right Hand of Fellowship for all new members completing their New Member Orientation classes will follow Baptism. \nPlease come out to be welcomed into the Shiloh Church Family!
URL:https://www.shilohmbc.net/event/baptism-new-member-right-hand-of-fellowship-53/
LOCATION:Shiloh MBC\, 501 West Lawson Avenue\, St. Paul\, MN\, 55117\, United States
CATEGORIES:Baptism,New Members Orientation
END:VEVENT
BEGIN:VEVENT
DTSTART;VALUE=DATE:20260208
DTEND;VALUE=DATE:20260209
DTSTAMP:20260423T111327
CREATED:20260122T004103Z
LAST-MODIFIED:20260122T004103Z
UID:17042-1770508800-1770595199@www.shilohmbc.net
SUMMARY:Black History Month 2026 - "Black Renaissance"
DESCRIPTION:BLACK HISTORY MONTH 2026 “Black Renaissance” \nFebruary 1 – 22\, 2026 \n9:30 AM Worship Service \nBlack History Month presentations will be shared with the congregation every Sunday in February by our Youth and Young Adult Ministries. \n1st Sunday: “Richard Smallwood” by Carlton Wells\, Jr. \nAttire:  Normal/African \n2nd Sunday: “Shonda Rhimes” by Oliviah-Nikole Cook \nAttire:  Go Red! Sunday \n3rd Sunday: “W.E.B. Dubois” by Hudson Jean \nAttire: Greek/Black Organization paraphernalia \n4th Sunday: “Black Hair\, Black Culture” by Briana Moore \nAttire: We invite the entire congregation to wear your African attire on culmination Sunday. \nPlease come out and support our Youth and Young Adults as we honor and recognize those African Americans who have been a part of the BLACK RENAISSANCE.
URL:https://www.shilohmbc.net/event/black-history-month-2026-black-renaissance-2/
LOCATION:Shiloh MBC\, 501 West Lawson Avenue\, St. Paul\, MN\, 55117\, United States
CATEGORIES:General Church Information
END:VEVENT
BEGIN:VEVENT
DTSTART;VALUE=DATE:20260208
DTEND;VALUE=DATE:20260209
DTSTAMP:20260423T111327
CREATED:20260122T004938Z
LAST-MODIFIED:20260122T010153Z
UID:17048-1770508800-1770595199@www.shilohmbc.net
SUMMARY:Go RED! for Women Sunday
DESCRIPTION:FEBRUARY IS HEART HEALTH MONTH! \nShiloh’s Annual GO RED! For Women Sunday \nSunday\, February 8\, 2026 \nDuring 9:30 AM Worship Service \nWe encourage the entire congregation to Go RED! in your own fashion in support of this important movement of bringing awareness to Women’s Heart Health.
URL:https://www.shilohmbc.net/event/go-red-for-women-sunday-4/
LOCATION:Shiloh MBC\, 501 West Lawson Avenue\, St. Paul\, MN\, 55117\, United States
CATEGORIES:Health and Wellness
END:VEVENT
BEGIN:VEVENT
DTSTART;TZID=UTC:20260214T170000
DTEND;TZID=UTC:20260214T200000
DTSTAMP:20260423T111327
CREATED:20260125T134348Z
LAST-MODIFIED:20260201T000729Z
UID:17051-1771088400-1771099200@www.shilohmbc.net
SUMMARY:Married Couples Valentine's Day Gala
DESCRIPTION:MARRIED COUPLES VALENTINE GALA! \nMarried couples are invited to enjoy an elegant evening of dinner and dancing \nat the Mosaic Venue in downtown Minneapolis. \nSaturday\, February 14\, 2026 \n5:00 PM to 8:00 PM \nTicket Price: $150 per couple. \nDeadline for ticket sales EXTENDED to Sunday\, February 8\, 2026. \nPurchase tickets through the Ministry One app by selecting “Valentine’s Day Gala” from the dropdown menu. \nQuestions? See Deacon Michael or Deaconess Jessica Brooks.
URL:https://www.shilohmbc.net/event/married-couples-valentines-day-gala/
LOCATION:Mosaic Venue\, 817 5th Ave S #300\, Minneapolis\, MN\, 55404\, United States
CATEGORIES:Married Couples
END:VEVENT
BEGIN:VEVENT
DTSTART;VALUE=DATE:20260215
DTEND;VALUE=DATE:20260216
DTSTAMP:20260423T111327
CREATED:20260122T004157Z
LAST-MODIFIED:20260122T004157Z
UID:17044-1771113600-1771199999@www.shilohmbc.net
SUMMARY:Black History Month 2026 - "Black Renaissance"
DESCRIPTION:BLACK HISTORY MONTH 2026 “Black Renaissance” \nFebruary 1 – 22\, 2026 \n9:30 AM Worship Service \nBlack History Month presentations will be shared with the congregation every Sunday in February by our Youth and Young Adult Ministries. \n1st Sunday: “Richard Smallwood” by Carlton Wells\, Jr. \nAttire:  Normal/African \n2nd Sunday: “Shonda Rhimes” by Oliviah-Nikole Cook \nAttire:  Go Red! Sunday \n3rd Sunday: “W.E.B. Dubois” by Hudson Jean \nAttire: Greek/Black Organization paraphernalia \n4th Sunday: “Black Hair\, Black Culture” by Briana Moore \nAttire: We invite the entire congregation to wear your African attire on culmination Sunday. \nPlease come out and support our Youth and Young Adults as we honor and recognize those African Americans who have been a part of the BLACK RENAISSANCE.
URL:https://www.shilohmbc.net/event/black-history-month-2026-black-renaissance-3/
LOCATION:Shiloh MBC\, 501 West Lawson Avenue\, St. Paul\, MN\, 55117\, United States
CATEGORIES:General Church Information
END:VEVENT
BEGIN:VEVENT
DTSTART;VALUE=DATE:20260222
DTEND;VALUE=DATE:20260223
DTSTAMP:20260423T111327
CREATED:20260107T203851Z
LAST-MODIFIED:20260107T203851Z
UID:17017-1771718400-1771804799@www.shilohmbc.net
SUMMARY:Birthdays of the Month Celebration
DESCRIPTION:Celebrating Shiloh Birthdays!  \nThe Birthday Club Ministry invites all Shiloh members with birthdays this month to a Birthday Celebration in the Gathering Center on the last Sunday of the month (unless otherwise indicated) after 9:30 AM Worship Service. \nPlease RSVP TODAY by signing-up in the Vestibule after service or call the Church Office @ 651-487-4092. \nFor additional information\, please see a member of Birthday Club Ministry. \nBe Blessed\, \nThe Birthday Club Ministry
URL:https://www.shilohmbc.net/event/birthdays-of-the-month-celebration-43/
LOCATION:Shiloh MBC\, 501 West Lawson Avenue\, St. Paul\, MN\, 55117\, United States
CATEGORIES:Birthday
END:VEVENT
BEGIN:VEVENT
DTSTART;VALUE=DATE:20260222
DTEND;VALUE=DATE:20260223
DTSTAMP:20260423T111327
CREATED:20260122T004248Z
LAST-MODIFIED:20260122T004248Z
UID:17046-1771718400-1771804799@www.shilohmbc.net
SUMMARY:Black History Month 2026 - "Black Renaissance"
DESCRIPTION:BLACK HISTORY MONTH 2026 “Black Renaissance” \nFebruary 1 – 22\, 2026 \n9:30 AM Worship Service \nBlack History Month presentations will be shared with the congregation every Sunday in February by our Youth and Young Adult Ministries. \n1st Sunday: “Richard Smallwood” by Carlton Wells\, Jr. \nAttire:  Normal/African \n2nd Sunday: “Shonda Rhimes” by Oliviah-Nikole Cook \nAttire:  Go Red! Sunday \n3rd Sunday: “W.E.B. Dubois” by Hudson Jean \nAttire: Greek/Black Organization paraphernalia \n4th Sunday: “Black Hair\, Black Culture” by Briana Moore \nAttire: We invite the entire congregation to wear your African attire on culmination Sunday. \nPlease come out and support our Youth and Young Adults as we honor and recognize those African Americans who have been a part of the BLACK RENAISSANCE.
URL:https://www.shilohmbc.net/event/black-history-month-2026-black-renaissance-4/
LOCATION:Shiloh MBC\, 501 West Lawson Avenue\, St. Paul\, MN\, 55117\, United States
CATEGORIES:General Church Information
END:VEVENT
BEGIN:VEVENT
DTSTART;VALUE=DATE:20260222
DTEND;VALUE=DATE:20260223
DTSTAMP:20260423T111327
CREATED:20260126T202435Z
LAST-MODIFIED:20260126T202626Z
UID:17056-1771718400-1771804799@www.shilohmbc.net
SUMMARY:First Lady Rosa Daniels' Birthday Celebration
DESCRIPTION:HAPPY BIRTHDAY SIS. DANIELS! \nOur beloved First Lady Rosa Daniels will celebrate her birthday on Saturday\, February 21! \nLet’s celebrate our First Lady by showing her expressions of love and appreciation. \nPlease bring your gifts and cards for her on \nSunday\, February 22 during 9:30 AM Worship Service. \nThe Deaconess Ministry will also have cards available free of charge.
URL:https://www.shilohmbc.net/event/first-lady-rosa-daniels-birthday-celebration-6/
LOCATION:Shiloh MBC\, 501 West Lawson Avenue\, St. Paul\, MN\, 55117\, United States
CATEGORIES:Health and Wellness
END:VEVENT
BEGIN:VEVENT
DTSTART;TZID=UTC:20260228T090000
DTEND;TZID=UTC:20260228T110000
DTSTAMP:20260423T111327
CREATED:20260107T204200Z
LAST-MODIFIED:20260225T212551Z
UID:17023-1772269200-1772276400@www.shilohmbc.net
SUMMARY:Baptism/New Member Right Hand of Fellowship
DESCRIPTION:BAPTISM/NEW MEMBER RIGHT HAND OF FELLOWSHIP\nBaptism will be held on the First Saturday of the Month (unless otherwise indicated). \n10:00 AM – Gathering Center \nCANDIDATES: PLEASE ARRIVE BY 9:00 AM \nNEW MEMBER RIGHT HAND OF FELLOWSHIP CEREMONY \nThe Right Hand of Fellowship for all new members completing their New Member Orientation classes will follow Baptism. \nPlease come out to be welcomed into the Shiloh Church Family!
URL:https://www.shilohmbc.net/event/baptism-new-member-right-hand-of-fellowship-54/
LOCATION:Shiloh MBC\, 501 West Lawson Avenue\, St. Paul\, MN\, 55117\, United States
CATEGORIES:Baptism,New Members Orientation
END:VEVENT
END:VCALENDAR